BEGIN:VCALENDAR
VERSION:2.0
PRODID:-//The District On 46 - ECPv6.15.20//NONSGML v1.0//EN
CALSCALE:GREGORIAN
METHOD:PUBLISH
X-WR-CALNAME:The District On 46
X-ORIGINAL-URL:https://thedistricton46.com
X-WR-CALDESC:Events for The District On 46
REFRESH-INTERVAL;VALUE=DURATION:PT1H
X-Robots-Tag:noindex
X-PUBLISHED-TTL:PT1H
BEGIN:VTIMEZONE
TZID:America/Chicago
BEGIN:DAYLIGHT
TZOFFSETFROM:-0600
TZOFFSETTO:-0500
TZNAME:CDT
DTSTART:20250309T080000
END:DAYLIGHT
BEGIN:STANDARD
TZOFFSETFROM:-0500
TZOFFSETTO:-0600
TZNAME:CST
DTSTART:20251102T070000
END:STANDARD
BEGIN:DAYLIGHT
TZOFFSETFROM:-0600
TZOFFSETTO:-0500
TZNAME:CDT
DTSTART:20260308T080000
END:DAYLIGHT
BEGIN:STANDARD
TZOFFSETFROM:-0500
TZOFFSETTO:-0600
TZNAME:CST
DTSTART:20261101T070000
END:STANDARD
BEGIN:DAYLIGHT
TZOFFSETFROM:-0600
TZOFFSETTO:-0500
TZNAME:CDT
DTSTART:20270314T080000
END:DAYLIGHT
BEGIN:STANDARD
TZOFFSETFROM:-0500
TZOFFSETTO:-0600
TZNAME:CST
DTSTART:20271107T070000
END:STANDARD
END:VTIMEZONE
BEGIN:VEVENT
DTSTART;TZID=America/Chicago:20260501T190000
DTEND;TZID=America/Chicago:20260501T220000
DTSTAMP:20260423T165749
CREATED:20250711T160503Z
LAST-MODIFIED:20260401T233730Z
UID:10000075-1777662000-1777672800@thedistricton46.com
SUMMARY:Trevor Underwood
DESCRIPTION:
URL:https://thedistricton46.com/event/trevor-underwood-9/
CATEGORIES:The District On 46,Throwbacks On 46,Weekend Music
END:VEVENT
BEGIN:VEVENT
DTSTART;VALUE=DATE:20260502
DTEND;VALUE=DATE:20260503
DTSTAMP:20260423T165749
CREATED:20260214T232953Z
LAST-MODIFIED:20260306T002955Z
UID:10000979-1777708800-1777741200@thedistricton46.com
SUMMARY:Monthly Markets
DESCRIPTION:
URL:https://thedistricton46.com/event/monthly-markets/2026-05-02/
CATEGORIES:The District On 46
END:VEVENT
BEGIN:VEVENT
DTSTART;TZID=America/Chicago:20260605T190000
DTEND;TZID=America/Chicago:20260605T220000
DTSTAMP:20260423T165749
CREATED:20250711T160503Z
LAST-MODIFIED:20250725T201258Z
UID:10000076-1780686000-1780696800@thedistricton46.com
SUMMARY:Trevor Underwood
DESCRIPTION:
URL:https://thedistricton46.com/event/trevor-underwood-10/
CATEGORIES:The District On 46,Throwbacks On 46
END:VEVENT
BEGIN:VEVENT
DTSTART;TZID=America/Chicago:20260703T190000
DTEND;TZID=America/Chicago:20260703T220000
DTSTAMP:20260423T165749
CREATED:20250711T160503Z
LAST-MODIFIED:20250725T201258Z
UID:10000077-1783105200-1783116000@thedistricton46.com
SUMMARY:Trevor Underwood
DESCRIPTION:
URL:https://thedistricton46.com/event/trevor-underwood-11/
CATEGORIES:The District On 46,Throwbacks On 46
END:VEVENT
BEGIN:VEVENT
DTSTART;TZID=America/Chicago:20260807T190000
DTEND;TZID=America/Chicago:20260807T220000
DTSTAMP:20260423T165749
CREATED:20250711T160503Z
LAST-MODIFIED:20250725T201258Z
UID:10000078-1786129200-1786140000@thedistricton46.com
SUMMARY:Trevor Underwood
DESCRIPTION:
URL:https://thedistricton46.com/event/trevor-underwood-12/
CATEGORIES:The District On 46,Throwbacks On 46
END:VEVENT
BEGIN:VEVENT
DTSTART;TZID=America/Chicago:20260904T190000
DTEND;TZID=America/Chicago:20260904T220000
DTSTAMP:20260423T165749
CREATED:20250711T160503Z
LAST-MODIFIED:20250813T145751Z
UID:10000079-1788548400-1788559200@thedistricton46.com
SUMMARY:Trevor Underwood
DESCRIPTION:
URL:https://thedistricton46.com/event/trevor-underwood-13/
CATEGORIES:The District On 46,Throwbacks On 46
ATTACH;FMTTYPE=image/png:https://thedistricton46.com/wp-content/uploads/2025/07/18.png
END:VEVENT
BEGIN:VEVENT
DTSTART;TZID=America/Chicago:20261002T190000
DTEND;TZID=America/Chicago:20261002T220000
DTSTAMP:20260423T165749
CREATED:20250711T160504Z
LAST-MODIFIED:20250725T201259Z
UID:10000080-1790967600-1790978400@thedistricton46.com
SUMMARY:Trevor Underwood
DESCRIPTION:
URL:https://thedistricton46.com/event/trevor-underwood-14/
CATEGORIES:The District On 46,Throwbacks On 46
END:VEVENT
BEGIN:VEVENT
DTSTART;TZID=America/Chicago:20261106T190000
DTEND;TZID=America/Chicago:20261106T220000
DTSTAMP:20260423T165749
CREATED:20250711T160504Z
LAST-MODIFIED:20250725T201259Z
UID:10000081-1793991600-1794002400@thedistricton46.com
SUMMARY:Trevor Underwood
DESCRIPTION:
URL:https://thedistricton46.com/event/trevor-underwood-15/
CATEGORIES:The District On 46,Throwbacks On 46
END:VEVENT
BEGIN:VEVENT
DTSTART;TZID=America/Chicago:20261204T190000
DTEND;TZID=America/Chicago:20261204T220000
DTSTAMP:20260423T165749
CREATED:20250711T160504Z
LAST-MODIFIED:20250725T201259Z
UID:10000082-1796410800-1796421600@thedistricton46.com
SUMMARY:Trevor Underwood
DESCRIPTION:
URL:https://thedistricton46.com/event/trevor-underwood-16/
CATEGORIES:The District On 46,Throwbacks On 46
END:VEVENT
END:VCALENDAR