BEGIN:VCALENDAR
VERSION:2.0
PRODID:-//The District On 46 - ECPv6.15.20//NONSGML v1.0//EN
CALSCALE:GREGORIAN
METHOD:PUBLISH
X-ORIGINAL-URL:https://thedistricton46.com
X-WR-CALDESC:Events for The District On 46
REFRESH-INTERVAL;VALUE=DURATION:PT1H
X-Robots-Tag:noindex
X-PUBLISHED-TTL:PT1H
BEGIN:VTIMEZONE
TZID:America/Chicago
BEGIN:DAYLIGHT
TZOFFSETFROM:-0600
TZOFFSETTO:-0500
TZNAME:CDT
DTSTART:20270314T080000
END:DAYLIGHT
BEGIN:STANDARD
TZOFFSETFROM:-0500
TZOFFSETTO:-0600
TZNAME:CST
DTSTART:20271107T070000
END:STANDARD
BEGIN:DAYLIGHT
TZOFFSETFROM:-0600
TZOFFSETTO:-0500
TZNAME:CDT
DTSTART:20280312T080000
END:DAYLIGHT
BEGIN:STANDARD
TZOFFSETFROM:-0500
TZOFFSETTO:-0600
TZNAME:CST
DTSTART:20281105T070000
END:STANDARD
BEGIN:DAYLIGHT
TZOFFSETFROM:-0600
TZOFFSETTO:-0500
TZNAME:CDT
DTSTART:20290311T080000
END:DAYLIGHT
BEGIN:STANDARD
TZOFFSETFROM:-0500
TZOFFSETTO:-0600
TZNAME:CST
DTSTART:20291104T070000
END:STANDARD
END:VTIMEZONE
BEGIN:VEVENT
DTSTART;TZID=America/Chicago:20281201T190000
DTEND;TZID=America/Chicago:20281201T230000
DTSTAMP:20260425T184131
CREATED:20260424T004219Z
LAST-MODIFIED:20260424T004219Z
UID:10001423-1859310000-1859324400@thedistricton46.com
SUMMARY:Karaoke Nights - Throwbacks on 46
DESCRIPTION:
URL:https://thedistricton46.com/event/karaoke-nights-throwbacks-on-46-2/2028-12-01/
CATEGORIES:Throwbacks On 46
END:VEVENT
BEGIN:VEVENT
DTSTART;TZID=America/Chicago:20281206T190000
DTEND;TZID=America/Chicago:20281206T203000
DTSTAMP:20260425T184131
CREATED:20251208T173447Z
LAST-MODIFIED:20251208T173908Z
UID:10000560-1859742000-1859747400@thedistricton46.com
SUMMARY:Trivia Nights - Throwbacks on 46
DESCRIPTION:
URL:https://thedistricton46.com/event/trivia-nights-throwbacks-on-46/2028-12-06/
CATEGORIES:Throwbacks On 46
END:VEVENT
BEGIN:VEVENT
DTSTART;TZID=America/Chicago:20281207T190000
DTEND;TZID=America/Chicago:20281207T230000
DTSTAMP:20260425T184131
CREATED:20251208T173607Z
LAST-MODIFIED:20251208T173921Z
UID:10000821-1859828400-1859842800@thedistricton46.com
SUMMARY:Karaoke Nights - Throwbacks on 46
DESCRIPTION:
URL:https://thedistricton46.com/event/karaoke-nights-throwbacks-on-46/2028-12-07/
CATEGORIES:Throwbacks On 46
END:VEVENT
BEGIN:VEVENT
DTSTART;TZID=America/Chicago:20281208T190000
DTEND;TZID=America/Chicago:20281208T230000
DTSTAMP:20260425T184131
CREATED:20260424T004219Z
LAST-MODIFIED:20260424T004219Z
UID:10001424-1859914800-1859929200@thedistricton46.com
SUMMARY:Karaoke Nights - Throwbacks on 46
DESCRIPTION:
URL:https://thedistricton46.com/event/karaoke-nights-throwbacks-on-46-2/2028-12-08/
CATEGORIES:Throwbacks On 46
END:VEVENT
BEGIN:VEVENT
DTSTART;TZID=America/Chicago:20281213T190000
DTEND;TZID=America/Chicago:20281213T203000
DTSTAMP:20260425T184131
CREATED:20251208T173447Z
LAST-MODIFIED:20251208T173908Z
UID:10000561-1860346800-1860352200@thedistricton46.com
SUMMARY:Trivia Nights - Throwbacks on 46
DESCRIPTION:
URL:https://thedistricton46.com/event/trivia-nights-throwbacks-on-46/2028-12-13/
CATEGORIES:Throwbacks On 46
END:VEVENT
BEGIN:VEVENT
DTSTART;TZID=America/Chicago:20281214T190000
DTEND;TZID=America/Chicago:20281214T230000
DTSTAMP:20260425T184131
CREATED:20251208T173607Z
LAST-MODIFIED:20251208T173921Z
UID:10000822-1860433200-1860447600@thedistricton46.com
SUMMARY:Karaoke Nights - Throwbacks on 46
DESCRIPTION:
URL:https://thedistricton46.com/event/karaoke-nights-throwbacks-on-46/2028-12-14/
CATEGORIES:Throwbacks On 46
END:VEVENT
BEGIN:VEVENT
DTSTART;TZID=America/Chicago:20281215T190000
DTEND;TZID=America/Chicago:20281215T230000
DTSTAMP:20260425T184131
CREATED:20260424T004219Z
LAST-MODIFIED:20260424T004219Z
UID:10001425-1860519600-1860534000@thedistricton46.com
SUMMARY:Karaoke Nights - Throwbacks on 46
DESCRIPTION:
URL:https://thedistricton46.com/event/karaoke-nights-throwbacks-on-46-2/2028-12-15/
CATEGORIES:Throwbacks On 46
END:VEVENT
BEGIN:VEVENT
DTSTART;TZID=America/Chicago:20281220T190000
DTEND;TZID=America/Chicago:20281220T203000
DTSTAMP:20260425T184131
CREATED:20251208T173447Z
LAST-MODIFIED:20251208T173908Z
UID:10000562-1860951600-1860957000@thedistricton46.com
SUMMARY:Trivia Nights - Throwbacks on 46
DESCRIPTION:
URL:https://thedistricton46.com/event/trivia-nights-throwbacks-on-46/2028-12-20/
CATEGORIES:Throwbacks On 46
END:VEVENT
BEGIN:VEVENT
DTSTART;TZID=America/Chicago:20281221T190000
DTEND;TZID=America/Chicago:20281221T230000
DTSTAMP:20260425T184131
CREATED:20251208T173607Z
LAST-MODIFIED:20251208T173921Z
UID:10000823-1861038000-1861052400@thedistricton46.com
SUMMARY:Karaoke Nights - Throwbacks on 46
DESCRIPTION:
URL:https://thedistricton46.com/event/karaoke-nights-throwbacks-on-46/2028-12-21/
CATEGORIES:Throwbacks On 46
END:VEVENT
BEGIN:VEVENT
DTSTART;TZID=America/Chicago:20281222T190000
DTEND;TZID=America/Chicago:20281222T230000
DTSTAMP:20260425T184131
CREATED:20260424T004219Z
LAST-MODIFIED:20260424T004219Z
UID:10001426-1861124400-1861138800@thedistricton46.com
SUMMARY:Karaoke Nights - Throwbacks on 46
DESCRIPTION:
URL:https://thedistricton46.com/event/karaoke-nights-throwbacks-on-46-2/2028-12-22/
CATEGORIES:Throwbacks On 46
END:VEVENT
BEGIN:VEVENT
DTSTART;TZID=America/Chicago:20281227T190000
DTEND;TZID=America/Chicago:20281227T203000
DTSTAMP:20260425T184131
CREATED:20251208T173447Z
LAST-MODIFIED:20251208T173908Z
UID:10000563-1861556400-1861561800@thedistricton46.com
SUMMARY:Trivia Nights - Throwbacks on 46
DESCRIPTION:
URL:https://thedistricton46.com/event/trivia-nights-throwbacks-on-46/2028-12-27/
CATEGORIES:Throwbacks On 46
END:VEVENT
BEGIN:VEVENT
DTSTART;TZID=America/Chicago:20281228T190000
DTEND;TZID=America/Chicago:20281228T230000
DTSTAMP:20260425T184131
CREATED:20251208T173607Z
LAST-MODIFIED:20251208T173921Z
UID:10000824-1861642800-1861657200@thedistricton46.com
SUMMARY:Karaoke Nights - Throwbacks on 46
DESCRIPTION:
URL:https://thedistricton46.com/event/karaoke-nights-throwbacks-on-46/2028-12-28/
CATEGORIES:Throwbacks On 46
END:VEVENT
BEGIN:VEVENT
DTSTART;TZID=America/Chicago:20281229T190000
DTEND;TZID=America/Chicago:20281229T230000
DTSTAMP:20260425T184131
CREATED:20260424T004219Z
LAST-MODIFIED:20260424T004219Z
UID:10001427-1861729200-1861743600@thedistricton46.com
SUMMARY:Karaoke Nights - Throwbacks on 46
DESCRIPTION:
URL:https://thedistricton46.com/event/karaoke-nights-throwbacks-on-46-2/2028-12-29/
CATEGORIES:Throwbacks On 46
END:VEVENT
END:VCALENDAR