BEGIN:VCALENDAR
VERSION:2.0
PRODID:-//The District On 46 - ECPv6.15.20//NONSGML v1.0//EN
CALSCALE:GREGORIAN
METHOD:PUBLISH
X-WR-CALNAME:The District On 46
X-ORIGINAL-URL:https://thedistricton46.com
X-WR-CALDESC:Events for The District On 46
REFRESH-INTERVAL;VALUE=DURATION:PT1H
X-Robots-Tag:noindex
X-PUBLISHED-TTL:PT1H
BEGIN:VTIMEZONE
TZID:America/Chicago
BEGIN:DAYLIGHT
TZOFFSETFROM:-0600
TZOFFSETTO:-0500
TZNAME:CDT
DTSTART:20270314T080000
END:DAYLIGHT
BEGIN:STANDARD
TZOFFSETFROM:-0500
TZOFFSETTO:-0600
TZNAME:CST
DTSTART:20271107T070000
END:STANDARD
BEGIN:DAYLIGHT
TZOFFSETFROM:-0600
TZOFFSETTO:-0500
TZNAME:CDT
DTSTART:20280312T080000
END:DAYLIGHT
BEGIN:STANDARD
TZOFFSETFROM:-0500
TZOFFSETTO:-0600
TZNAME:CST
DTSTART:20281105T070000
END:STANDARD
BEGIN:DAYLIGHT
TZOFFSETFROM:-0600
TZOFFSETTO:-0500
TZNAME:CDT
DTSTART:20290311T080000
END:DAYLIGHT
BEGIN:STANDARD
TZOFFSETFROM:-0500
TZOFFSETTO:-0600
TZNAME:CST
DTSTART:20291104T070000
END:STANDARD
END:VTIMEZONE
BEGIN:VEVENT
DTSTART;TZID=America/Chicago:20280303T190000
DTEND;TZID=America/Chicago:20280303T230000
DTSTAMP:20260425T085419
CREATED:20260424T004219Z
LAST-MODIFIED:20260424T004219Z
UID:10001384-1835722800-1835737200@thedistricton46.com
SUMMARY:Karaoke Nights - Throwbacks on 46
DESCRIPTION:
URL:https://thedistricton46.com/event/karaoke-nights-throwbacks-on-46-2/2028-03-03/
CATEGORIES:Throwbacks On 46
END:VEVENT
BEGIN:VEVENT
DTSTART;TZID=America/Chicago:20280308T190000
DTEND;TZID=America/Chicago:20280308T203000
DTSTAMP:20260425T085419
CREATED:20251208T173447Z
LAST-MODIFIED:20251208T173908Z
UID:10000521-1836154800-1836160200@thedistricton46.com
SUMMARY:Trivia Nights - Throwbacks on 46
DESCRIPTION:
URL:https://thedistricton46.com/event/trivia-nights-throwbacks-on-46/2028-03-08/
CATEGORIES:Throwbacks On 46
END:VEVENT
BEGIN:VEVENT
DTSTART;TZID=America/Chicago:20280309T190000
DTEND;TZID=America/Chicago:20280309T230000
DTSTAMP:20260425T085419
CREATED:20251208T173607Z
LAST-MODIFIED:20251208T173921Z
UID:10000782-1836241200-1836255600@thedistricton46.com
SUMMARY:Karaoke Nights - Throwbacks on 46
DESCRIPTION:
URL:https://thedistricton46.com/event/karaoke-nights-throwbacks-on-46/2028-03-09/
CATEGORIES:Throwbacks On 46
END:VEVENT
BEGIN:VEVENT
DTSTART;TZID=America/Chicago:20280310T190000
DTEND;TZID=America/Chicago:20280310T230000
DTSTAMP:20260425T085419
CREATED:20260424T004219Z
LAST-MODIFIED:20260424T004219Z
UID:10001385-1836327600-1836342000@thedistricton46.com
SUMMARY:Karaoke Nights - Throwbacks on 46
DESCRIPTION:
URL:https://thedistricton46.com/event/karaoke-nights-throwbacks-on-46-2/2028-03-10/
CATEGORIES:Throwbacks On 46
END:VEVENT
BEGIN:VEVENT
DTSTART;TZID=America/Chicago:20280315T190000
DTEND;TZID=America/Chicago:20280315T203000
DTSTAMP:20260425T085419
CREATED:20251208T173447Z
LAST-MODIFIED:20251208T173908Z
UID:10000522-1836759600-1836765000@thedistricton46.com
SUMMARY:Trivia Nights - Throwbacks on 46
DESCRIPTION:
URL:https://thedistricton46.com/event/trivia-nights-throwbacks-on-46/2028-03-15/
CATEGORIES:Throwbacks On 46
END:VEVENT
BEGIN:VEVENT
DTSTART;TZID=America/Chicago:20280316T190000
DTEND;TZID=America/Chicago:20280316T230000
DTSTAMP:20260425T085419
CREATED:20251208T173607Z
LAST-MODIFIED:20251208T173921Z
UID:10000783-1836846000-1836860400@thedistricton46.com
SUMMARY:Karaoke Nights - Throwbacks on 46
DESCRIPTION:
URL:https://thedistricton46.com/event/karaoke-nights-throwbacks-on-46/2028-03-16/
CATEGORIES:Throwbacks On 46
END:VEVENT
BEGIN:VEVENT
DTSTART;TZID=America/Chicago:20280317T190000
DTEND;TZID=America/Chicago:20280317T230000
DTSTAMP:20260425T085419
CREATED:20260424T004219Z
LAST-MODIFIED:20260424T004219Z
UID:10001386-1836932400-1836946800@thedistricton46.com
SUMMARY:Karaoke Nights - Throwbacks on 46
DESCRIPTION:
URL:https://thedistricton46.com/event/karaoke-nights-throwbacks-on-46-2/2028-03-17/
CATEGORIES:Throwbacks On 46
END:VEVENT
BEGIN:VEVENT
DTSTART;TZID=America/Chicago:20280322T190000
DTEND;TZID=America/Chicago:20280322T203000
DTSTAMP:20260425T085419
CREATED:20251208T173447Z
LAST-MODIFIED:20251208T173908Z
UID:10000523-1837364400-1837369800@thedistricton46.com
SUMMARY:Trivia Nights - Throwbacks on 46
DESCRIPTION:
URL:https://thedistricton46.com/event/trivia-nights-throwbacks-on-46/2028-03-22/
CATEGORIES:Throwbacks On 46
END:VEVENT
BEGIN:VEVENT
DTSTART;TZID=America/Chicago:20280323T190000
DTEND;TZID=America/Chicago:20280323T230000
DTSTAMP:20260425T085419
CREATED:20251208T173607Z
LAST-MODIFIED:20251208T173921Z
UID:10000784-1837450800-1837465200@thedistricton46.com
SUMMARY:Karaoke Nights - Throwbacks on 46
DESCRIPTION:
URL:https://thedistricton46.com/event/karaoke-nights-throwbacks-on-46/2028-03-23/
CATEGORIES:Throwbacks On 46
END:VEVENT
BEGIN:VEVENT
DTSTART;TZID=America/Chicago:20280324T190000
DTEND;TZID=America/Chicago:20280324T230000
DTSTAMP:20260425T085419
CREATED:20260424T004219Z
LAST-MODIFIED:20260424T004219Z
UID:10001387-1837537200-1837551600@thedistricton46.com
SUMMARY:Karaoke Nights - Throwbacks on 46
DESCRIPTION:
URL:https://thedistricton46.com/event/karaoke-nights-throwbacks-on-46-2/2028-03-24/
CATEGORIES:Throwbacks On 46
END:VEVENT
BEGIN:VEVENT
DTSTART;TZID=America/Chicago:20280329T190000
DTEND;TZID=America/Chicago:20280329T203000
DTSTAMP:20260425T085419
CREATED:20251208T173447Z
LAST-MODIFIED:20251208T173908Z
UID:10000524-1837969200-1837974600@thedistricton46.com
SUMMARY:Trivia Nights - Throwbacks on 46
DESCRIPTION:
URL:https://thedistricton46.com/event/trivia-nights-throwbacks-on-46/2028-03-29/
CATEGORIES:Throwbacks On 46
END:VEVENT
BEGIN:VEVENT
DTSTART;TZID=America/Chicago:20280330T190000
DTEND;TZID=America/Chicago:20280330T230000
DTSTAMP:20260425T085419
CREATED:20251208T173607Z
LAST-MODIFIED:20251208T173921Z
UID:10000785-1838055600-1838070000@thedistricton46.com
SUMMARY:Karaoke Nights - Throwbacks on 46
DESCRIPTION:
URL:https://thedistricton46.com/event/karaoke-nights-throwbacks-on-46/2028-03-30/
CATEGORIES:Throwbacks On 46
END:VEVENT
BEGIN:VEVENT
DTSTART;TZID=America/Chicago:20280331T190000
DTEND;TZID=America/Chicago:20280331T230000
DTSTAMP:20260425T085419
CREATED:20260424T004219Z
LAST-MODIFIED:20260424T004219Z
UID:10001388-1838142000-1838156400@thedistricton46.com
SUMMARY:Karaoke Nights - Throwbacks on 46
DESCRIPTION:
URL:https://thedistricton46.com/event/karaoke-nights-throwbacks-on-46-2/2028-03-31/
CATEGORIES:Throwbacks On 46
END:VEVENT
BEGIN:VEVENT
DTSTART;TZID=America/Chicago:20280405T190000
DTEND;TZID=America/Chicago:20280405T203000
DTSTAMP:20260425T085419
CREATED:20251208T173447Z
LAST-MODIFIED:20251208T173908Z
UID:10000525-1838574000-1838579400@thedistricton46.com
SUMMARY:Trivia Nights - Throwbacks on 46
DESCRIPTION:
URL:https://thedistricton46.com/event/trivia-nights-throwbacks-on-46/2028-04-05/
CATEGORIES:Throwbacks On 46
END:VEVENT
BEGIN:VEVENT
DTSTART;TZID=America/Chicago:20280406T190000
DTEND;TZID=America/Chicago:20280406T230000
DTSTAMP:20260425T085419
CREATED:20251208T173607Z
LAST-MODIFIED:20251208T173921Z
UID:10000786-1838660400-1838674800@thedistricton46.com
SUMMARY:Karaoke Nights - Throwbacks on 46
DESCRIPTION:
URL:https://thedistricton46.com/event/karaoke-nights-throwbacks-on-46/2028-04-06/
CATEGORIES:Throwbacks On 46
END:VEVENT
BEGIN:VEVENT
DTSTART;TZID=America/Chicago:20280407T190000
DTEND;TZID=America/Chicago:20280407T230000
DTSTAMP:20260425T085419
CREATED:20260424T004219Z
LAST-MODIFIED:20260424T004219Z
UID:10001389-1838746800-1838761200@thedistricton46.com
SUMMARY:Karaoke Nights - Throwbacks on 46
DESCRIPTION:
URL:https://thedistricton46.com/event/karaoke-nights-throwbacks-on-46-2/2028-04-07/
CATEGORIES:Throwbacks On 46
END:VEVENT
BEGIN:VEVENT
DTSTART;TZID=America/Chicago:20280412T190000
DTEND;TZID=America/Chicago:20280412T203000
DTSTAMP:20260425T085419
CREATED:20251208T173447Z
LAST-MODIFIED:20251208T173908Z
UID:10000526-1839178800-1839184200@thedistricton46.com
SUMMARY:Trivia Nights - Throwbacks on 46
DESCRIPTION:
URL:https://thedistricton46.com/event/trivia-nights-throwbacks-on-46/2028-04-12/
CATEGORIES:Throwbacks On 46
END:VEVENT
BEGIN:VEVENT
DTSTART;TZID=America/Chicago:20280413T190000
DTEND;TZID=America/Chicago:20280413T230000
DTSTAMP:20260425T085419
CREATED:20251208T173607Z
LAST-MODIFIED:20251208T173921Z
UID:10000787-1839265200-1839279600@thedistricton46.com
SUMMARY:Karaoke Nights - Throwbacks on 46
DESCRIPTION:
URL:https://thedistricton46.com/event/karaoke-nights-throwbacks-on-46/2028-04-13/
CATEGORIES:Throwbacks On 46
END:VEVENT
BEGIN:VEVENT
DTSTART;TZID=America/Chicago:20280414T190000
DTEND;TZID=America/Chicago:20280414T230000
DTSTAMP:20260425T085419
CREATED:20260424T004219Z
LAST-MODIFIED:20260424T004219Z
UID:10001390-1839351600-1839366000@thedistricton46.com
SUMMARY:Karaoke Nights - Throwbacks on 46
DESCRIPTION:
URL:https://thedistricton46.com/event/karaoke-nights-throwbacks-on-46-2/2028-04-14/
CATEGORIES:Throwbacks On 46
END:VEVENT
BEGIN:VEVENT
DTSTART;TZID=America/Chicago:20280419T190000
DTEND;TZID=America/Chicago:20280419T203000
DTSTAMP:20260425T085419
CREATED:20251208T173447Z
LAST-MODIFIED:20251208T173908Z
UID:10000527-1839783600-1839789000@thedistricton46.com
SUMMARY:Trivia Nights - Throwbacks on 46
DESCRIPTION:
URL:https://thedistricton46.com/event/trivia-nights-throwbacks-on-46/2028-04-19/
CATEGORIES:Throwbacks On 46
END:VEVENT
BEGIN:VEVENT
DTSTART;TZID=America/Chicago:20280420T190000
DTEND;TZID=America/Chicago:20280420T230000
DTSTAMP:20260425T085419
CREATED:20251208T173607Z
LAST-MODIFIED:20251208T173921Z
UID:10000788-1839870000-1839884400@thedistricton46.com
SUMMARY:Karaoke Nights - Throwbacks on 46
DESCRIPTION:
URL:https://thedistricton46.com/event/karaoke-nights-throwbacks-on-46/2028-04-20/
CATEGORIES:Throwbacks On 46
END:VEVENT
BEGIN:VEVENT
DTSTART;TZID=America/Chicago:20280421T190000
DTEND;TZID=America/Chicago:20280421T230000
DTSTAMP:20260425T085419
CREATED:20260424T004219Z
LAST-MODIFIED:20260424T004219Z
UID:10001391-1839956400-1839970800@thedistricton46.com
SUMMARY:Karaoke Nights - Throwbacks on 46
DESCRIPTION:
URL:https://thedistricton46.com/event/karaoke-nights-throwbacks-on-46-2/2028-04-21/
CATEGORIES:Throwbacks On 46
END:VEVENT
BEGIN:VEVENT
DTSTART;TZID=America/Chicago:20280426T190000
DTEND;TZID=America/Chicago:20280426T203000
DTSTAMP:20260425T085419
CREATED:20251208T173447Z
LAST-MODIFIED:20251208T173908Z
UID:10000528-1840388400-1840393800@thedistricton46.com
SUMMARY:Trivia Nights - Throwbacks on 46
DESCRIPTION:
URL:https://thedistricton46.com/event/trivia-nights-throwbacks-on-46/2028-04-26/
CATEGORIES:Throwbacks On 46
END:VEVENT
BEGIN:VEVENT
DTSTART;TZID=America/Chicago:20280427T190000
DTEND;TZID=America/Chicago:20280427T230000
DTSTAMP:20260425T085419
CREATED:20251208T173607Z
LAST-MODIFIED:20251208T173921Z
UID:10000789-1840474800-1840489200@thedistricton46.com
SUMMARY:Karaoke Nights - Throwbacks on 46
DESCRIPTION:
URL:https://thedistricton46.com/event/karaoke-nights-throwbacks-on-46/2028-04-27/
CATEGORIES:Throwbacks On 46
END:VEVENT
BEGIN:VEVENT
DTSTART;TZID=America/Chicago:20280428T190000
DTEND;TZID=America/Chicago:20280428T230000
DTSTAMP:20260425T085419
CREATED:20260424T004219Z
LAST-MODIFIED:20260424T004219Z
UID:10001392-1840561200-1840575600@thedistricton46.com
SUMMARY:Karaoke Nights - Throwbacks on 46
DESCRIPTION:
URL:https://thedistricton46.com/event/karaoke-nights-throwbacks-on-46-2/2028-04-28/
CATEGORIES:Throwbacks On 46
END:VEVENT
BEGIN:VEVENT
DTSTART;TZID=America/Chicago:20280503T190000
DTEND;TZID=America/Chicago:20280503T203000
DTSTAMP:20260425T085419
CREATED:20251208T173447Z
LAST-MODIFIED:20251208T173908Z
UID:10000529-1840993200-1840998600@thedistricton46.com
SUMMARY:Trivia Nights - Throwbacks on 46
DESCRIPTION:
URL:https://thedistricton46.com/event/trivia-nights-throwbacks-on-46/2028-05-03/
CATEGORIES:Throwbacks On 46
END:VEVENT
BEGIN:VEVENT
DTSTART;TZID=America/Chicago:20280504T190000
DTEND;TZID=America/Chicago:20280504T230000
DTSTAMP:20260425T085419
CREATED:20251208T173607Z
LAST-MODIFIED:20251208T173921Z
UID:10000790-1841079600-1841094000@thedistricton46.com
SUMMARY:Karaoke Nights - Throwbacks on 46
DESCRIPTION:
URL:https://thedistricton46.com/event/karaoke-nights-throwbacks-on-46/2028-05-04/
CATEGORIES:Throwbacks On 46
END:VEVENT
BEGIN:VEVENT
DTSTART;TZID=America/Chicago:20280505T190000
DTEND;TZID=America/Chicago:20280505T230000
DTSTAMP:20260425T085419
CREATED:20260424T004219Z
LAST-MODIFIED:20260424T004219Z
UID:10001393-1841166000-1841180400@thedistricton46.com
SUMMARY:Karaoke Nights - Throwbacks on 46
DESCRIPTION:
URL:https://thedistricton46.com/event/karaoke-nights-throwbacks-on-46-2/2028-05-05/
CATEGORIES:Throwbacks On 46
END:VEVENT
BEGIN:VEVENT
DTSTART;TZID=America/Chicago:20280510T190000
DTEND;TZID=America/Chicago:20280510T203000
DTSTAMP:20260425T085419
CREATED:20251208T173447Z
LAST-MODIFIED:20251208T173908Z
UID:10000530-1841598000-1841603400@thedistricton46.com
SUMMARY:Trivia Nights - Throwbacks on 46
DESCRIPTION:
URL:https://thedistricton46.com/event/trivia-nights-throwbacks-on-46/2028-05-10/
CATEGORIES:Throwbacks On 46
END:VEVENT
BEGIN:VEVENT
DTSTART;TZID=America/Chicago:20280511T190000
DTEND;TZID=America/Chicago:20280511T230000
DTSTAMP:20260425T085419
CREATED:20251208T173607Z
LAST-MODIFIED:20251208T173921Z
UID:10000791-1841684400-1841698800@thedistricton46.com
SUMMARY:Karaoke Nights - Throwbacks on 46
DESCRIPTION:
URL:https://thedistricton46.com/event/karaoke-nights-throwbacks-on-46/2028-05-11/
CATEGORIES:Throwbacks On 46
END:VEVENT
END:VCALENDAR