BEGIN:VCALENDAR
VERSION:2.0
PRODID:-//The District On 46 - ECPv6.15.20//NONSGML v1.0//EN
CALSCALE:GREGORIAN
METHOD:PUBLISH
X-ORIGINAL-URL:https://thedistricton46.com
X-WR-CALDESC:Events for The District On 46
REFRESH-INTERVAL;VALUE=DURATION:PT1H
X-Robots-Tag:noindex
X-PUBLISHED-TTL:PT1H
BEGIN:VTIMEZONE
TZID:America/Chicago
BEGIN:DAYLIGHT
TZOFFSETFROM:-0600
TZOFFSETTO:-0500
TZNAME:CDT
DTSTART:20260308T080000
END:DAYLIGHT
BEGIN:STANDARD
TZOFFSETFROM:-0500
TZOFFSETTO:-0600
TZNAME:CST
DTSTART:20261101T070000
END:STANDARD
BEGIN:DAYLIGHT
TZOFFSETFROM:-0600
TZOFFSETTO:-0500
TZNAME:CDT
DTSTART:20270314T080000
END:DAYLIGHT
BEGIN:STANDARD
TZOFFSETFROM:-0500
TZOFFSETTO:-0600
TZNAME:CST
DTSTART:20271107T070000
END:STANDARD
BEGIN:DAYLIGHT
TZOFFSETFROM:-0600
TZOFFSETTO:-0500
TZNAME:CDT
DTSTART:20280312T080000
END:DAYLIGHT
BEGIN:STANDARD
TZOFFSETFROM:-0500
TZOFFSETTO:-0600
TZNAME:CST
DTSTART:20281105T070000
END:STANDARD
BEGIN:DAYLIGHT
TZOFFSETFROM:-0600
TZOFFSETTO:-0500
TZNAME:CDT
DTSTART:20290311T080000
END:DAYLIGHT
BEGIN:STANDARD
TZOFFSETFROM:-0500
TZOFFSETTO:-0600
TZNAME:CST
DTSTART:20291104T070000
END:STANDARD
END:VTIMEZONE
BEGIN:VEVENT
DTSTART;TZID=America/Chicago:20271118T190000
DTEND;TZID=America/Chicago:20271118T230000
DTSTAMP:20260425T111858
CREATED:20251208T173607Z
LAST-MODIFIED:20251208T173921Z
UID:10000766-1826564400-1826578800@thedistricton46.com
SUMMARY:Karaoke Nights - Throwbacks on 46
DESCRIPTION:
URL:https://thedistricton46.com/event/karaoke-nights-throwbacks-on-46/2027-11-18/
CATEGORIES:Throwbacks On 46
END:VEVENT
BEGIN:VEVENT
DTSTART;TZID=America/Chicago:20271119T190000
DTEND;TZID=America/Chicago:20271119T230000
DTSTAMP:20260425T111858
CREATED:20260424T004219Z
LAST-MODIFIED:20260424T004219Z
UID:10001369-1826650800-1826665200@thedistricton46.com
SUMMARY:Karaoke Nights - Throwbacks on 46
DESCRIPTION:
URL:https://thedistricton46.com/event/karaoke-nights-throwbacks-on-46-2/2027-11-19/
CATEGORIES:Throwbacks On 46
END:VEVENT
BEGIN:VEVENT
DTSTART;TZID=America/Chicago:20271124T190000
DTEND;TZID=America/Chicago:20271124T203000
DTSTAMP:20260425T111858
CREATED:20251208T173447Z
LAST-MODIFIED:20251208T173908Z
UID:10000506-1827082800-1827088200@thedistricton46.com
SUMMARY:Trivia Nights - Throwbacks on 46
DESCRIPTION:
URL:https://thedistricton46.com/event/trivia-nights-throwbacks-on-46/2027-11-24/
CATEGORIES:Throwbacks On 46
END:VEVENT
BEGIN:VEVENT
DTSTART;TZID=America/Chicago:20271125T190000
DTEND;TZID=America/Chicago:20271125T230000
DTSTAMP:20260425T111858
CREATED:20251208T173607Z
LAST-MODIFIED:20251208T173921Z
UID:10000767-1827169200-1827183600@thedistricton46.com
SUMMARY:Karaoke Nights - Throwbacks on 46
DESCRIPTION:
URL:https://thedistricton46.com/event/karaoke-nights-throwbacks-on-46/2027-11-25/
CATEGORIES:Throwbacks On 46
END:VEVENT
BEGIN:VEVENT
DTSTART;TZID=America/Chicago:20271126T190000
DTEND;TZID=America/Chicago:20271126T230000
DTSTAMP:20260425T111858
CREATED:20260424T004219Z
LAST-MODIFIED:20260424T004219Z
UID:10001370-1827255600-1827270000@thedistricton46.com
SUMMARY:Karaoke Nights - Throwbacks on 46
DESCRIPTION:
URL:https://thedistricton46.com/event/karaoke-nights-throwbacks-on-46-2/2027-11-26/
CATEGORIES:Throwbacks On 46
END:VEVENT
BEGIN:VEVENT
DTSTART;TZID=America/Chicago:20271201T190000
DTEND;TZID=America/Chicago:20271201T203000
DTSTAMP:20260425T111858
CREATED:20251208T173447Z
LAST-MODIFIED:20251208T173908Z
UID:10000507-1827687600-1827693000@thedistricton46.com
SUMMARY:Trivia Nights - Throwbacks on 46
DESCRIPTION:
URL:https://thedistricton46.com/event/trivia-nights-throwbacks-on-46/2027-12-01/
CATEGORIES:Throwbacks On 46
END:VEVENT
BEGIN:VEVENT
DTSTART;TZID=America/Chicago:20271202T190000
DTEND;TZID=America/Chicago:20271202T230000
DTSTAMP:20260425T111858
CREATED:20251208T173607Z
LAST-MODIFIED:20251208T173921Z
UID:10000768-1827774000-1827788400@thedistricton46.com
SUMMARY:Karaoke Nights - Throwbacks on 46
DESCRIPTION:
URL:https://thedistricton46.com/event/karaoke-nights-throwbacks-on-46/2027-12-02/
CATEGORIES:Throwbacks On 46
END:VEVENT
BEGIN:VEVENT
DTSTART;TZID=America/Chicago:20271203T190000
DTEND;TZID=America/Chicago:20271203T230000
DTSTAMP:20260425T111858
CREATED:20260424T004219Z
LAST-MODIFIED:20260424T004219Z
UID:10001371-1827860400-1827874800@thedistricton46.com
SUMMARY:Karaoke Nights - Throwbacks on 46
DESCRIPTION:
URL:https://thedistricton46.com/event/karaoke-nights-throwbacks-on-46-2/2027-12-03/
CATEGORIES:Throwbacks On 46
END:VEVENT
BEGIN:VEVENT
DTSTART;TZID=America/Chicago:20271208T190000
DTEND;TZID=America/Chicago:20271208T203000
DTSTAMP:20260425T111858
CREATED:20251208T173447Z
LAST-MODIFIED:20251208T173908Z
UID:10000508-1828292400-1828297800@thedistricton46.com
SUMMARY:Trivia Nights - Throwbacks on 46
DESCRIPTION:
URL:https://thedistricton46.com/event/trivia-nights-throwbacks-on-46/2027-12-08/
CATEGORIES:Throwbacks On 46
END:VEVENT
BEGIN:VEVENT
DTSTART;TZID=America/Chicago:20271209T190000
DTEND;TZID=America/Chicago:20271209T230000
DTSTAMP:20260425T111858
CREATED:20251208T173607Z
LAST-MODIFIED:20251208T173921Z
UID:10000769-1828378800-1828393200@thedistricton46.com
SUMMARY:Karaoke Nights - Throwbacks on 46
DESCRIPTION:
URL:https://thedistricton46.com/event/karaoke-nights-throwbacks-on-46/2027-12-09/
CATEGORIES:Throwbacks On 46
END:VEVENT
BEGIN:VEVENT
DTSTART;TZID=America/Chicago:20271210T190000
DTEND;TZID=America/Chicago:20271210T230000
DTSTAMP:20260425T111858
CREATED:20260424T004219Z
LAST-MODIFIED:20260424T004219Z
UID:10001372-1828465200-1828479600@thedistricton46.com
SUMMARY:Karaoke Nights - Throwbacks on 46
DESCRIPTION:
URL:https://thedistricton46.com/event/karaoke-nights-throwbacks-on-46-2/2027-12-10/
CATEGORIES:Throwbacks On 46
END:VEVENT
BEGIN:VEVENT
DTSTART;TZID=America/Chicago:20271215T190000
DTEND;TZID=America/Chicago:20271215T203000
DTSTAMP:20260425T111858
CREATED:20251208T173447Z
LAST-MODIFIED:20251208T173908Z
UID:10000509-1828897200-1828902600@thedistricton46.com
SUMMARY:Trivia Nights - Throwbacks on 46
DESCRIPTION:
URL:https://thedistricton46.com/event/trivia-nights-throwbacks-on-46/2027-12-15/
CATEGORIES:Throwbacks On 46
END:VEVENT
BEGIN:VEVENT
DTSTART;TZID=America/Chicago:20271216T190000
DTEND;TZID=America/Chicago:20271216T230000
DTSTAMP:20260425T111858
CREATED:20251208T173607Z
LAST-MODIFIED:20251208T173921Z
UID:10000770-1828983600-1828998000@thedistricton46.com
SUMMARY:Karaoke Nights - Throwbacks on 46
DESCRIPTION:
URL:https://thedistricton46.com/event/karaoke-nights-throwbacks-on-46/2027-12-16/
CATEGORIES:Throwbacks On 46
END:VEVENT
BEGIN:VEVENT
DTSTART;TZID=America/Chicago:20271217T190000
DTEND;TZID=America/Chicago:20271217T230000
DTSTAMP:20260425T111858
CREATED:20260424T004219Z
LAST-MODIFIED:20260424T004219Z
UID:10001373-1829070000-1829084400@thedistricton46.com
SUMMARY:Karaoke Nights - Throwbacks on 46
DESCRIPTION:
URL:https://thedistricton46.com/event/karaoke-nights-throwbacks-on-46-2/2027-12-17/
CATEGORIES:Throwbacks On 46
END:VEVENT
BEGIN:VEVENT
DTSTART;TZID=America/Chicago:20271222T190000
DTEND;TZID=America/Chicago:20271222T203000
DTSTAMP:20260425T111858
CREATED:20251208T173447Z
LAST-MODIFIED:20251208T173908Z
UID:10000510-1829502000-1829507400@thedistricton46.com
SUMMARY:Trivia Nights - Throwbacks on 46
DESCRIPTION:
URL:https://thedistricton46.com/event/trivia-nights-throwbacks-on-46/2027-12-22/
CATEGORIES:Throwbacks On 46
END:VEVENT
BEGIN:VEVENT
DTSTART;TZID=America/Chicago:20271223T190000
DTEND;TZID=America/Chicago:20271223T230000
DTSTAMP:20260425T111858
CREATED:20251208T173607Z
LAST-MODIFIED:20251208T173921Z
UID:10000771-1829588400-1829602800@thedistricton46.com
SUMMARY:Karaoke Nights - Throwbacks on 46
DESCRIPTION:
URL:https://thedistricton46.com/event/karaoke-nights-throwbacks-on-46/2027-12-23/
CATEGORIES:Throwbacks On 46
END:VEVENT
BEGIN:VEVENT
DTSTART;TZID=America/Chicago:20271224T190000
DTEND;TZID=America/Chicago:20271224T230000
DTSTAMP:20260425T111858
CREATED:20260424T004219Z
LAST-MODIFIED:20260424T004219Z
UID:10001374-1829674800-1829689200@thedistricton46.com
SUMMARY:Karaoke Nights - Throwbacks on 46
DESCRIPTION:
URL:https://thedistricton46.com/event/karaoke-nights-throwbacks-on-46-2/2027-12-24/
CATEGORIES:Throwbacks On 46
END:VEVENT
BEGIN:VEVENT
DTSTART;TZID=America/Chicago:20271229T190000
DTEND;TZID=America/Chicago:20271229T203000
DTSTAMP:20260425T111858
CREATED:20251208T173447Z
LAST-MODIFIED:20251208T173908Z
UID:10000511-1830106800-1830112200@thedistricton46.com
SUMMARY:Trivia Nights - Throwbacks on 46
DESCRIPTION:
URL:https://thedistricton46.com/event/trivia-nights-throwbacks-on-46/2027-12-29/
CATEGORIES:Throwbacks On 46
END:VEVENT
BEGIN:VEVENT
DTSTART;TZID=America/Chicago:20271230T190000
DTEND;TZID=America/Chicago:20271230T230000
DTSTAMP:20260425T111858
CREATED:20251208T173607Z
LAST-MODIFIED:20251208T173921Z
UID:10000772-1830193200-1830207600@thedistricton46.com
SUMMARY:Karaoke Nights - Throwbacks on 46
DESCRIPTION:
URL:https://thedistricton46.com/event/karaoke-nights-throwbacks-on-46/2027-12-30/
CATEGORIES:Throwbacks On 46
END:VEVENT
BEGIN:VEVENT
DTSTART;TZID=America/Chicago:20271231T190000
DTEND;TZID=America/Chicago:20271231T230000
DTSTAMP:20260425T111858
CREATED:20260424T004219Z
LAST-MODIFIED:20260424T004219Z
UID:10001375-1830279600-1830294000@thedistricton46.com
SUMMARY:Karaoke Nights - Throwbacks on 46
DESCRIPTION:
URL:https://thedistricton46.com/event/karaoke-nights-throwbacks-on-46-2/2027-12-31/
CATEGORIES:Throwbacks On 46
END:VEVENT
BEGIN:VEVENT
DTSTART;TZID=America/Chicago:20280105T190000
DTEND;TZID=America/Chicago:20280105T203000
DTSTAMP:20260425T111858
CREATED:20251208T173447Z
LAST-MODIFIED:20251208T173908Z
UID:10000512-1830711600-1830717000@thedistricton46.com
SUMMARY:Trivia Nights - Throwbacks on 46
DESCRIPTION:
URL:https://thedistricton46.com/event/trivia-nights-throwbacks-on-46/2028-01-05/
CATEGORIES:Throwbacks On 46
END:VEVENT
BEGIN:VEVENT
DTSTART;TZID=America/Chicago:20280106T190000
DTEND;TZID=America/Chicago:20280106T230000
DTSTAMP:20260425T111858
CREATED:20251208T173607Z
LAST-MODIFIED:20251208T173921Z
UID:10000773-1830798000-1830812400@thedistricton46.com
SUMMARY:Karaoke Nights - Throwbacks on 46
DESCRIPTION:
URL:https://thedistricton46.com/event/karaoke-nights-throwbacks-on-46/2028-01-06/
CATEGORIES:Throwbacks On 46
END:VEVENT
BEGIN:VEVENT
DTSTART;TZID=America/Chicago:20280107T190000
DTEND;TZID=America/Chicago:20280107T230000
DTSTAMP:20260425T111858
CREATED:20260424T004219Z
LAST-MODIFIED:20260424T004219Z
UID:10001376-1830884400-1830898800@thedistricton46.com
SUMMARY:Karaoke Nights - Throwbacks on 46
DESCRIPTION:
URL:https://thedistricton46.com/event/karaoke-nights-throwbacks-on-46-2/2028-01-07/
CATEGORIES:Throwbacks On 46
END:VEVENT
BEGIN:VEVENT
DTSTART;TZID=America/Chicago:20280112T190000
DTEND;TZID=America/Chicago:20280112T203000
DTSTAMP:20260425T111858
CREATED:20251208T173447Z
LAST-MODIFIED:20251208T173908Z
UID:10000513-1831316400-1831321800@thedistricton46.com
SUMMARY:Trivia Nights - Throwbacks on 46
DESCRIPTION:
URL:https://thedistricton46.com/event/trivia-nights-throwbacks-on-46/2028-01-12/
CATEGORIES:Throwbacks On 46
END:VEVENT
BEGIN:VEVENT
DTSTART;TZID=America/Chicago:20280113T190000
DTEND;TZID=America/Chicago:20280113T230000
DTSTAMP:20260425T111858
CREATED:20251208T173607Z
LAST-MODIFIED:20251208T173921Z
UID:10000774-1831402800-1831417200@thedistricton46.com
SUMMARY:Karaoke Nights - Throwbacks on 46
DESCRIPTION:
URL:https://thedistricton46.com/event/karaoke-nights-throwbacks-on-46/2028-01-13/
CATEGORIES:Throwbacks On 46
END:VEVENT
BEGIN:VEVENT
DTSTART;TZID=America/Chicago:20280114T190000
DTEND;TZID=America/Chicago:20280114T230000
DTSTAMP:20260425T111858
CREATED:20260424T004219Z
LAST-MODIFIED:20260424T004219Z
UID:10001377-1831489200-1831503600@thedistricton46.com
SUMMARY:Karaoke Nights - Throwbacks on 46
DESCRIPTION:
URL:https://thedistricton46.com/event/karaoke-nights-throwbacks-on-46-2/2028-01-14/
CATEGORIES:Throwbacks On 46
END:VEVENT
BEGIN:VEVENT
DTSTART;TZID=America/Chicago:20280119T190000
DTEND;TZID=America/Chicago:20280119T203000
DTSTAMP:20260425T111858
CREATED:20251208T173447Z
LAST-MODIFIED:20251208T173908Z
UID:10000514-1831921200-1831926600@thedistricton46.com
SUMMARY:Trivia Nights - Throwbacks on 46
DESCRIPTION:
URL:https://thedistricton46.com/event/trivia-nights-throwbacks-on-46/2028-01-19/
CATEGORIES:Throwbacks On 46
END:VEVENT
BEGIN:VEVENT
DTSTART;TZID=America/Chicago:20280120T190000
DTEND;TZID=America/Chicago:20280120T230000
DTSTAMP:20260425T111858
CREATED:20251208T173607Z
LAST-MODIFIED:20251208T173921Z
UID:10000775-1832007600-1832022000@thedistricton46.com
SUMMARY:Karaoke Nights - Throwbacks on 46
DESCRIPTION:
URL:https://thedistricton46.com/event/karaoke-nights-throwbacks-on-46/2028-01-20/
CATEGORIES:Throwbacks On 46
END:VEVENT
BEGIN:VEVENT
DTSTART;TZID=America/Chicago:20280121T190000
DTEND;TZID=America/Chicago:20280121T230000
DTSTAMP:20260425T111858
CREATED:20260424T004219Z
LAST-MODIFIED:20260424T004219Z
UID:10001378-1832094000-1832108400@thedistricton46.com
SUMMARY:Karaoke Nights - Throwbacks on 46
DESCRIPTION:
URL:https://thedistricton46.com/event/karaoke-nights-throwbacks-on-46-2/2028-01-21/
CATEGORIES:Throwbacks On 46
END:VEVENT
BEGIN:VEVENT
DTSTART;TZID=America/Chicago:20280126T190000
DTEND;TZID=America/Chicago:20280126T203000
DTSTAMP:20260425T111858
CREATED:20251208T173447Z
LAST-MODIFIED:20251208T173908Z
UID:10000515-1832526000-1832531400@thedistricton46.com
SUMMARY:Trivia Nights - Throwbacks on 46
DESCRIPTION:
URL:https://thedistricton46.com/event/trivia-nights-throwbacks-on-46/2028-01-26/
CATEGORIES:Throwbacks On 46
END:VEVENT
END:VCALENDAR