BEGIN:VCALENDAR
VERSION:2.0
PRODID:-//The District On 46 - ECPv6.15.20//NONSGML v1.0//EN
CALSCALE:GREGORIAN
METHOD:PUBLISH
X-ORIGINAL-URL:https://thedistricton46.com
X-WR-CALDESC:Events for The District On 46
REFRESH-INTERVAL;VALUE=DURATION:PT1H
X-Robots-Tag:noindex
X-PUBLISHED-TTL:PT1H
BEGIN:VTIMEZONE
TZID:America/Chicago
BEGIN:DAYLIGHT
TZOFFSETFROM:-0600
TZOFFSETTO:-0500
TZNAME:CDT
DTSTART:20270314T080000
END:DAYLIGHT
BEGIN:STANDARD
TZOFFSETFROM:-0500
TZOFFSETTO:-0600
TZNAME:CST
DTSTART:20271107T070000
END:STANDARD
BEGIN:DAYLIGHT
TZOFFSETFROM:-0600
TZOFFSETTO:-0500
TZNAME:CDT
DTSTART:20280312T080000
END:DAYLIGHT
BEGIN:STANDARD
TZOFFSETFROM:-0500
TZOFFSETTO:-0600
TZNAME:CST
DTSTART:20281105T070000
END:STANDARD
BEGIN:DAYLIGHT
TZOFFSETFROM:-0600
TZOFFSETTO:-0500
TZNAME:CDT
DTSTART:20290311T080000
END:DAYLIGHT
BEGIN:STANDARD
TZOFFSETFROM:-0500
TZOFFSETTO:-0600
TZNAME:CST
DTSTART:20291104T070000
END:STANDARD
END:VTIMEZONE
BEGIN:VEVENT
DTSTART;TZID=America/Chicago:20280413T190000
DTEND;TZID=America/Chicago:20280413T230000
DTSTAMP:20260425T081419
CREATED:20251208T173607Z
LAST-MODIFIED:20251208T173921Z
UID:10000787-1839265200-1839279600@thedistricton46.com
SUMMARY:Karaoke Nights - Throwbacks on 46
DESCRIPTION:
URL:https://thedistricton46.com/event/karaoke-nights-throwbacks-on-46/2028-04-13/
CATEGORIES:Throwbacks On 46
END:VEVENT
BEGIN:VEVENT
DTSTART;TZID=America/Chicago:20280414T190000
DTEND;TZID=America/Chicago:20280414T230000
DTSTAMP:20260425T081419
CREATED:20260424T004219Z
LAST-MODIFIED:20260424T004219Z
UID:10001390-1839351600-1839366000@thedistricton46.com
SUMMARY:Karaoke Nights - Throwbacks on 46
DESCRIPTION:
URL:https://thedistricton46.com/event/karaoke-nights-throwbacks-on-46-2/2028-04-14/
CATEGORIES:Throwbacks On 46
END:VEVENT
BEGIN:VEVENT
DTSTART;TZID=America/Chicago:20280419T190000
DTEND;TZID=America/Chicago:20280419T203000
DTSTAMP:20260425T081419
CREATED:20251208T173447Z
LAST-MODIFIED:20251208T173908Z
UID:10000527-1839783600-1839789000@thedistricton46.com
SUMMARY:Trivia Nights - Throwbacks on 46
DESCRIPTION:
URL:https://thedistricton46.com/event/trivia-nights-throwbacks-on-46/2028-04-19/
CATEGORIES:Throwbacks On 46
END:VEVENT
BEGIN:VEVENT
DTSTART;TZID=America/Chicago:20280420T190000
DTEND;TZID=America/Chicago:20280420T230000
DTSTAMP:20260425T081419
CREATED:20251208T173607Z
LAST-MODIFIED:20251208T173921Z
UID:10000788-1839870000-1839884400@thedistricton46.com
SUMMARY:Karaoke Nights - Throwbacks on 46
DESCRIPTION:
URL:https://thedistricton46.com/event/karaoke-nights-throwbacks-on-46/2028-04-20/
CATEGORIES:Throwbacks On 46
END:VEVENT
BEGIN:VEVENT
DTSTART;TZID=America/Chicago:20280421T190000
DTEND;TZID=America/Chicago:20280421T230000
DTSTAMP:20260425T081419
CREATED:20260424T004219Z
LAST-MODIFIED:20260424T004219Z
UID:10001391-1839956400-1839970800@thedistricton46.com
SUMMARY:Karaoke Nights - Throwbacks on 46
DESCRIPTION:
URL:https://thedistricton46.com/event/karaoke-nights-throwbacks-on-46-2/2028-04-21/
CATEGORIES:Throwbacks On 46
END:VEVENT
BEGIN:VEVENT
DTSTART;TZID=America/Chicago:20280426T190000
DTEND;TZID=America/Chicago:20280426T203000
DTSTAMP:20260425T081419
CREATED:20251208T173447Z
LAST-MODIFIED:20251208T173908Z
UID:10000528-1840388400-1840393800@thedistricton46.com
SUMMARY:Trivia Nights - Throwbacks on 46
DESCRIPTION:
URL:https://thedistricton46.com/event/trivia-nights-throwbacks-on-46/2028-04-26/
CATEGORIES:Throwbacks On 46
END:VEVENT
BEGIN:VEVENT
DTSTART;TZID=America/Chicago:20280427T190000
DTEND;TZID=America/Chicago:20280427T230000
DTSTAMP:20260425T081419
CREATED:20251208T173607Z
LAST-MODIFIED:20251208T173921Z
UID:10000789-1840474800-1840489200@thedistricton46.com
SUMMARY:Karaoke Nights - Throwbacks on 46
DESCRIPTION:
URL:https://thedistricton46.com/event/karaoke-nights-throwbacks-on-46/2028-04-27/
CATEGORIES:Throwbacks On 46
END:VEVENT
BEGIN:VEVENT
DTSTART;TZID=America/Chicago:20280428T190000
DTEND;TZID=America/Chicago:20280428T230000
DTSTAMP:20260425T081419
CREATED:20260424T004219Z
LAST-MODIFIED:20260424T004219Z
UID:10001392-1840561200-1840575600@thedistricton46.com
SUMMARY:Karaoke Nights - Throwbacks on 46
DESCRIPTION:
URL:https://thedistricton46.com/event/karaoke-nights-throwbacks-on-46-2/2028-04-28/
CATEGORIES:Throwbacks On 46
END:VEVENT
BEGIN:VEVENT
DTSTART;TZID=America/Chicago:20280503T190000
DTEND;TZID=America/Chicago:20280503T203000
DTSTAMP:20260425T081419
CREATED:20251208T173447Z
LAST-MODIFIED:20251208T173908Z
UID:10000529-1840993200-1840998600@thedistricton46.com
SUMMARY:Trivia Nights - Throwbacks on 46
DESCRIPTION:
URL:https://thedistricton46.com/event/trivia-nights-throwbacks-on-46/2028-05-03/
CATEGORIES:Throwbacks On 46
END:VEVENT
BEGIN:VEVENT
DTSTART;TZID=America/Chicago:20280504T190000
DTEND;TZID=America/Chicago:20280504T230000
DTSTAMP:20260425T081419
CREATED:20251208T173607Z
LAST-MODIFIED:20251208T173921Z
UID:10000790-1841079600-1841094000@thedistricton46.com
SUMMARY:Karaoke Nights - Throwbacks on 46
DESCRIPTION:
URL:https://thedistricton46.com/event/karaoke-nights-throwbacks-on-46/2028-05-04/
CATEGORIES:Throwbacks On 46
END:VEVENT
BEGIN:VEVENT
DTSTART;TZID=America/Chicago:20280505T190000
DTEND;TZID=America/Chicago:20280505T230000
DTSTAMP:20260425T081419
CREATED:20260424T004219Z
LAST-MODIFIED:20260424T004219Z
UID:10001393-1841166000-1841180400@thedistricton46.com
SUMMARY:Karaoke Nights - Throwbacks on 46
DESCRIPTION:
URL:https://thedistricton46.com/event/karaoke-nights-throwbacks-on-46-2/2028-05-05/
CATEGORIES:Throwbacks On 46
END:VEVENT
BEGIN:VEVENT
DTSTART;TZID=America/Chicago:20280510T190000
DTEND;TZID=America/Chicago:20280510T203000
DTSTAMP:20260425T081419
CREATED:20251208T173447Z
LAST-MODIFIED:20251208T173908Z
UID:10000530-1841598000-1841603400@thedistricton46.com
SUMMARY:Trivia Nights - Throwbacks on 46
DESCRIPTION:
URL:https://thedistricton46.com/event/trivia-nights-throwbacks-on-46/2028-05-10/
CATEGORIES:Throwbacks On 46
END:VEVENT
BEGIN:VEVENT
DTSTART;TZID=America/Chicago:20280511T190000
DTEND;TZID=America/Chicago:20280511T230000
DTSTAMP:20260425T081419
CREATED:20251208T173607Z
LAST-MODIFIED:20251208T173921Z
UID:10000791-1841684400-1841698800@thedistricton46.com
SUMMARY:Karaoke Nights - Throwbacks on 46
DESCRIPTION:
URL:https://thedistricton46.com/event/karaoke-nights-throwbacks-on-46/2028-05-11/
CATEGORIES:Throwbacks On 46
END:VEVENT
BEGIN:VEVENT
DTSTART;TZID=America/Chicago:20280512T190000
DTEND;TZID=America/Chicago:20280512T230000
DTSTAMP:20260425T081419
CREATED:20260424T004219Z
LAST-MODIFIED:20260424T004219Z
UID:10001394-1841770800-1841785200@thedistricton46.com
SUMMARY:Karaoke Nights - Throwbacks on 46
DESCRIPTION:
URL:https://thedistricton46.com/event/karaoke-nights-throwbacks-on-46-2/2028-05-12/
CATEGORIES:Throwbacks On 46
END:VEVENT
BEGIN:VEVENT
DTSTART;TZID=America/Chicago:20280517T190000
DTEND;TZID=America/Chicago:20280517T203000
DTSTAMP:20260425T081419
CREATED:20251208T173447Z
LAST-MODIFIED:20251208T173908Z
UID:10000531-1842202800-1842208200@thedistricton46.com
SUMMARY:Trivia Nights - Throwbacks on 46
DESCRIPTION:
URL:https://thedistricton46.com/event/trivia-nights-throwbacks-on-46/2028-05-17/
CATEGORIES:Throwbacks On 46
END:VEVENT
BEGIN:VEVENT
DTSTART;TZID=America/Chicago:20280518T190000
DTEND;TZID=America/Chicago:20280518T230000
DTSTAMP:20260425T081419
CREATED:20251208T173607Z
LAST-MODIFIED:20251208T173921Z
UID:10000792-1842289200-1842303600@thedistricton46.com
SUMMARY:Karaoke Nights - Throwbacks on 46
DESCRIPTION:
URL:https://thedistricton46.com/event/karaoke-nights-throwbacks-on-46/2028-05-18/
CATEGORIES:Throwbacks On 46
END:VEVENT
BEGIN:VEVENT
DTSTART;TZID=America/Chicago:20280519T190000
DTEND;TZID=America/Chicago:20280519T230000
DTSTAMP:20260425T081419
CREATED:20260424T004219Z
LAST-MODIFIED:20260424T004219Z
UID:10001395-1842375600-1842390000@thedistricton46.com
SUMMARY:Karaoke Nights - Throwbacks on 46
DESCRIPTION:
URL:https://thedistricton46.com/event/karaoke-nights-throwbacks-on-46-2/2028-05-19/
CATEGORIES:Throwbacks On 46
END:VEVENT
BEGIN:VEVENT
DTSTART;TZID=America/Chicago:20280524T190000
DTEND;TZID=America/Chicago:20280524T203000
DTSTAMP:20260425T081419
CREATED:20251208T173447Z
LAST-MODIFIED:20251208T173908Z
UID:10000532-1842807600-1842813000@thedistricton46.com
SUMMARY:Trivia Nights - Throwbacks on 46
DESCRIPTION:
URL:https://thedistricton46.com/event/trivia-nights-throwbacks-on-46/2028-05-24/
CATEGORIES:Throwbacks On 46
END:VEVENT
BEGIN:VEVENT
DTSTART;TZID=America/Chicago:20280525T190000
DTEND;TZID=America/Chicago:20280525T230000
DTSTAMP:20260425T081419
CREATED:20251208T173607Z
LAST-MODIFIED:20251208T173921Z
UID:10000793-1842894000-1842908400@thedistricton46.com
SUMMARY:Karaoke Nights - Throwbacks on 46
DESCRIPTION:
URL:https://thedistricton46.com/event/karaoke-nights-throwbacks-on-46/2028-05-25/
CATEGORIES:Throwbacks On 46
END:VEVENT
BEGIN:VEVENT
DTSTART;TZID=America/Chicago:20280526T190000
DTEND;TZID=America/Chicago:20280526T230000
DTSTAMP:20260425T081419
CREATED:20260424T004219Z
LAST-MODIFIED:20260424T004219Z
UID:10001396-1842980400-1842994800@thedistricton46.com
SUMMARY:Karaoke Nights - Throwbacks on 46
DESCRIPTION:
URL:https://thedistricton46.com/event/karaoke-nights-throwbacks-on-46-2/2028-05-26/
CATEGORIES:Throwbacks On 46
END:VEVENT
BEGIN:VEVENT
DTSTART;TZID=America/Chicago:20280531T190000
DTEND;TZID=America/Chicago:20280531T203000
DTSTAMP:20260425T081419
CREATED:20251208T173447Z
LAST-MODIFIED:20251208T173908Z
UID:10000533-1843412400-1843417800@thedistricton46.com
SUMMARY:Trivia Nights - Throwbacks on 46
DESCRIPTION:
URL:https://thedistricton46.com/event/trivia-nights-throwbacks-on-46/2028-05-31/
CATEGORIES:Throwbacks On 46
END:VEVENT
BEGIN:VEVENT
DTSTART;TZID=America/Chicago:20280601T190000
DTEND;TZID=America/Chicago:20280601T230000
DTSTAMP:20260425T081419
CREATED:20251208T173607Z
LAST-MODIFIED:20251208T173921Z
UID:10000794-1843498800-1843513200@thedistricton46.com
SUMMARY:Karaoke Nights - Throwbacks on 46
DESCRIPTION:
URL:https://thedistricton46.com/event/karaoke-nights-throwbacks-on-46/2028-06-01/
CATEGORIES:Throwbacks On 46
END:VEVENT
BEGIN:VEVENT
DTSTART;TZID=America/Chicago:20280602T190000
DTEND;TZID=America/Chicago:20280602T230000
DTSTAMP:20260425T081419
CREATED:20260424T004219Z
LAST-MODIFIED:20260424T004219Z
UID:10001397-1843585200-1843599600@thedistricton46.com
SUMMARY:Karaoke Nights - Throwbacks on 46
DESCRIPTION:
URL:https://thedistricton46.com/event/karaoke-nights-throwbacks-on-46-2/2028-06-02/
CATEGORIES:Throwbacks On 46
END:VEVENT
BEGIN:VEVENT
DTSTART;TZID=America/Chicago:20280607T190000
DTEND;TZID=America/Chicago:20280607T203000
DTSTAMP:20260425T081419
CREATED:20251208T173447Z
LAST-MODIFIED:20251208T173908Z
UID:10000534-1844017200-1844022600@thedistricton46.com
SUMMARY:Trivia Nights - Throwbacks on 46
DESCRIPTION:
URL:https://thedistricton46.com/event/trivia-nights-throwbacks-on-46/2028-06-07/
CATEGORIES:Throwbacks On 46
END:VEVENT
BEGIN:VEVENT
DTSTART;TZID=America/Chicago:20280608T190000
DTEND;TZID=America/Chicago:20280608T230000
DTSTAMP:20260425T081419
CREATED:20251208T173607Z
LAST-MODIFIED:20251208T173921Z
UID:10000795-1844103600-1844118000@thedistricton46.com
SUMMARY:Karaoke Nights - Throwbacks on 46
DESCRIPTION:
URL:https://thedistricton46.com/event/karaoke-nights-throwbacks-on-46/2028-06-08/
CATEGORIES:Throwbacks On 46
END:VEVENT
BEGIN:VEVENT
DTSTART;TZID=America/Chicago:20280609T190000
DTEND;TZID=America/Chicago:20280609T230000
DTSTAMP:20260425T081419
CREATED:20260424T004219Z
LAST-MODIFIED:20260424T004219Z
UID:10001398-1844190000-1844204400@thedistricton46.com
SUMMARY:Karaoke Nights - Throwbacks on 46
DESCRIPTION:
URL:https://thedistricton46.com/event/karaoke-nights-throwbacks-on-46-2/2028-06-09/
CATEGORIES:Throwbacks On 46
END:VEVENT
BEGIN:VEVENT
DTSTART;TZID=America/Chicago:20280614T190000
DTEND;TZID=America/Chicago:20280614T203000
DTSTAMP:20260425T081419
CREATED:20251208T173447Z
LAST-MODIFIED:20251208T173908Z
UID:10000535-1844622000-1844627400@thedistricton46.com
SUMMARY:Trivia Nights - Throwbacks on 46
DESCRIPTION:
URL:https://thedistricton46.com/event/trivia-nights-throwbacks-on-46/2028-06-14/
CATEGORIES:Throwbacks On 46
END:VEVENT
BEGIN:VEVENT
DTSTART;TZID=America/Chicago:20280615T190000
DTEND;TZID=America/Chicago:20280615T230000
DTSTAMP:20260425T081419
CREATED:20251208T173607Z
LAST-MODIFIED:20251208T173921Z
UID:10000796-1844708400-1844722800@thedistricton46.com
SUMMARY:Karaoke Nights - Throwbacks on 46
DESCRIPTION:
URL:https://thedistricton46.com/event/karaoke-nights-throwbacks-on-46/2028-06-15/
CATEGORIES:Throwbacks On 46
END:VEVENT
BEGIN:VEVENT
DTSTART;TZID=America/Chicago:20280616T190000
DTEND;TZID=America/Chicago:20280616T230000
DTSTAMP:20260425T081419
CREATED:20260424T004219Z
LAST-MODIFIED:20260424T004219Z
UID:10001399-1844794800-1844809200@thedistricton46.com
SUMMARY:Karaoke Nights - Throwbacks on 46
DESCRIPTION:
URL:https://thedistricton46.com/event/karaoke-nights-throwbacks-on-46-2/2028-06-16/
CATEGORIES:Throwbacks On 46
END:VEVENT
BEGIN:VEVENT
DTSTART;TZID=America/Chicago:20280621T190000
DTEND;TZID=America/Chicago:20280621T203000
DTSTAMP:20260425T081419
CREATED:20251208T173447Z
LAST-MODIFIED:20251208T173908Z
UID:10000536-1845226800-1845232200@thedistricton46.com
SUMMARY:Trivia Nights - Throwbacks on 46
DESCRIPTION:
URL:https://thedistricton46.com/event/trivia-nights-throwbacks-on-46/2028-06-21/
CATEGORIES:Throwbacks On 46
END:VEVENT
END:VCALENDAR