BEGIN:VCALENDAR
VERSION:2.0
PRODID:-//The District On 46 - ECPv6.15.20//NONSGML v1.0//EN
CALSCALE:GREGORIAN
METHOD:PUBLISH
X-WR-CALNAME:The District On 46
X-ORIGINAL-URL:https://thedistricton46.com
X-WR-CALDESC:Events for The District On 46
REFRESH-INTERVAL;VALUE=DURATION:PT1H
X-Robots-Tag:noindex
X-PUBLISHED-TTL:PT1H
BEGIN:VTIMEZONE
TZID:America/Chicago
BEGIN:DAYLIGHT
TZOFFSETFROM:-0600
TZOFFSETTO:-0500
TZNAME:CDT
DTSTART:20250309T080000
END:DAYLIGHT
BEGIN:STANDARD
TZOFFSETFROM:-0500
TZOFFSETTO:-0600
TZNAME:CST
DTSTART:20251102T070000
END:STANDARD
BEGIN:DAYLIGHT
TZOFFSETFROM:-0600
TZOFFSETTO:-0500
TZNAME:CDT
DTSTART:20260308T080000
END:DAYLIGHT
BEGIN:STANDARD
TZOFFSETFROM:-0500
TZOFFSETTO:-0600
TZNAME:CST
DTSTART:20261101T070000
END:STANDARD
BEGIN:DAYLIGHT
TZOFFSETFROM:-0600
TZOFFSETTO:-0500
TZNAME:CDT
DTSTART:20270314T080000
END:DAYLIGHT
BEGIN:STANDARD
TZOFFSETFROM:-0500
TZOFFSETTO:-0600
TZNAME:CST
DTSTART:20271107T070000
END:STANDARD
END:VTIMEZONE
BEGIN:VEVENT
DTSTART;TZID=America/Chicago:20260502T130000
DTEND;TZID=America/Chicago:20260502T190000
DTSTAMP:20260423T191319
CREATED:20260401T232755Z
LAST-MODIFIED:20260401T232906Z
UID:10001008-1777726800-1777748400@thedistricton46.com
SUMMARY:Lazy J Cajun Food Truck
DESCRIPTION:
URL:https://thedistricton46.com/event/lazy-j-cajun-food-truck-4/
CATEGORIES:Throwbacks On 46
END:VEVENT
BEGIN:VEVENT
DTSTART;VALUE=DATE:20260502
DTEND;VALUE=DATE:20260503
DTSTAMP:20260423T191319
CREATED:20260214T232953Z
LAST-MODIFIED:20260306T002955Z
UID:10000979-1777708800-1777741200@thedistricton46.com
SUMMARY:Monthly Markets
DESCRIPTION:
URL:https://thedistricton46.com/event/monthly-markets/2026-05-02/
CATEGORIES:The District On 46
END:VEVENT
BEGIN:VEVENT
DTSTART;TZID=America/Chicago:20260501T190000
DTEND;TZID=America/Chicago:20260501T220000
DTSTAMP:20260423T191319
CREATED:20250711T160503Z
LAST-MODIFIED:20260401T233730Z
UID:10000075-1777662000-1777672800@thedistricton46.com
SUMMARY:Trevor Underwood
DESCRIPTION:
URL:https://thedistricton46.com/event/trevor-underwood-9/
CATEGORIES:The District On 46,Throwbacks On 46,Weekend Music
END:VEVENT
BEGIN:VEVENT
DTSTART;TZID=America/Chicago:20260430T190000
DTEND;TZID=America/Chicago:20260430T230000
DTSTAMP:20260423T191319
CREATED:20251208T173607Z
LAST-MODIFIED:20251208T173921Z
UID:10000685-1777575600-1777590000@thedistricton46.com
SUMMARY:Karaoke Nights - Throwbacks on 46
DESCRIPTION:
URL:https://thedistricton46.com/event/karaoke-nights-throwbacks-on-46/2026-04-30/
CATEGORIES:Throwbacks On 46
END:VEVENT
BEGIN:VEVENT
DTSTART;TZID=America/Chicago:20260429T190000
DTEND;TZID=America/Chicago:20260429T203000
DTSTAMP:20260423T191319
CREATED:20251208T173447Z
LAST-MODIFIED:20251208T173908Z
UID:10000424-1777489200-1777494600@thedistricton46.com
SUMMARY:Trivia Nights - Throwbacks on 46
DESCRIPTION:
URL:https://thedistricton46.com/event/trivia-nights-throwbacks-on-46/2026-04-29/
CATEGORIES:Throwbacks On 46
END:VEVENT
BEGIN:VEVENT
DTSTART;TZID=America/Chicago:20260425T190000
DTEND;TZID=America/Chicago:20260425T220000
DTSTAMP:20260423T191319
CREATED:20260401T232725Z
LAST-MODIFIED:20260401T233710Z
UID:10001007-1777143600-1777154400@thedistricton46.com
SUMMARY:Nightcrawlers
DESCRIPTION:
URL:https://thedistricton46.com/event/nightcrawlers/
CATEGORIES:Throwbacks On 46,Weekend Music
END:VEVENT
BEGIN:VEVENT
DTSTART;TZID=America/Chicago:20260424T190000
DTEND;TZID=America/Chicago:20260424T220000
DTSTAMP:20260423T191319
CREATED:20260401T232647Z
LAST-MODIFIED:20260401T233648Z
UID:10001006-1777057200-1777068000@thedistricton46.com
SUMMARY:Replay Band
DESCRIPTION:
URL:https://thedistricton46.com/event/replay-band/
CATEGORIES:Throwbacks On 46,Weekend Music
END:VEVENT
BEGIN:VEVENT
DTSTART;TZID=America/Chicago:20260423T190000
DTEND;TZID=America/Chicago:20260423T230000
DTSTAMP:20260423T191319
CREATED:20251208T173607Z
LAST-MODIFIED:20251208T173921Z
UID:10000684-1776970800-1776985200@thedistricton46.com
SUMMARY:Karaoke Nights - Throwbacks on 46
DESCRIPTION:
URL:https://thedistricton46.com/event/karaoke-nights-throwbacks-on-46/2026-04-23/
CATEGORIES:Throwbacks On 46
END:VEVENT
BEGIN:VEVENT
DTSTART;TZID=America/Chicago:20260422T190000
DTEND;TZID=America/Chicago:20260422T203000
DTSTAMP:20260423T191319
CREATED:20251208T173447Z
LAST-MODIFIED:20251208T173908Z
UID:10000423-1776884400-1776889800@thedistricton46.com
SUMMARY:Trivia Nights - Throwbacks on 46
DESCRIPTION:
URL:https://thedistricton46.com/event/trivia-nights-throwbacks-on-46/2026-04-22/
CATEGORIES:Throwbacks On 46
END:VEVENT
BEGIN:VEVENT
DTSTART;TZID=America/Chicago:20260417T200000
DTEND;TZID=America/Chicago:20260417T220000
DTSTAMP:20260423T191319
CREATED:20260401T232618Z
LAST-MODIFIED:20260401T233531Z
UID:10001005-1776456000-1776463200@thedistricton46.com
SUMMARY:Luke Prater
DESCRIPTION:
URL:https://thedistricton46.com/event/luke-prater-4/
CATEGORIES:Throwbacks On 46,Weekend Music
END:VEVENT
BEGIN:VEVENT
DTSTART;TZID=America/Chicago:20260416T190000
DTEND;TZID=America/Chicago:20260416T230000
DTSTAMP:20260423T191319
CREATED:20251208T173607Z
LAST-MODIFIED:20251208T173921Z
UID:10000683-1776366000-1776380400@thedistricton46.com
SUMMARY:Karaoke Nights - Throwbacks on 46
DESCRIPTION:
URL:https://thedistricton46.com/event/karaoke-nights-throwbacks-on-46/2026-04-16/
CATEGORIES:Throwbacks On 46
END:VEVENT
BEGIN:VEVENT
DTSTART;TZID=America/Chicago:20260415T190000
DTEND;TZID=America/Chicago:20260415T203000
DTSTAMP:20260423T191319
CREATED:20251208T173447Z
LAST-MODIFIED:20251208T173908Z
UID:10000422-1776279600-1776285000@thedistricton46.com
SUMMARY:Trivia Nights - Throwbacks on 46
DESCRIPTION:
URL:https://thedistricton46.com/event/trivia-nights-throwbacks-on-46/2026-04-15/
CATEGORIES:Throwbacks On 46
END:VEVENT
BEGIN:VEVENT
DTSTART;TZID=America/Chicago:20260411T190000
DTEND;TZID=America/Chicago:20260411T220000
DTSTAMP:20260423T191319
CREATED:20260401T232544Z
LAST-MODIFIED:20260401T232544Z
UID:10001004-1775934000-1775944800@thedistricton46.com
SUMMARY:Soul Sessions
DESCRIPTION:
URL:https://thedistricton46.com/event/soul-sessions-14/
END:VEVENT
BEGIN:VEVENT
DTSTART;TZID=America/Chicago:20260409T190000
DTEND;TZID=America/Chicago:20260409T230000
DTSTAMP:20260423T191319
CREATED:20251208T173607Z
LAST-MODIFIED:20251208T173921Z
UID:10000682-1775761200-1775775600@thedistricton46.com
SUMMARY:Karaoke Nights - Throwbacks on 46
DESCRIPTION:
URL:https://thedistricton46.com/event/karaoke-nights-throwbacks-on-46/2026-04-09/
CATEGORIES:Throwbacks On 46
END:VEVENT
BEGIN:VEVENT
DTSTART;TZID=America/Chicago:20260408T190000
DTEND;TZID=America/Chicago:20260408T203000
DTSTAMP:20260423T191319
CREATED:20251208T173447Z
LAST-MODIFIED:20251208T173908Z
UID:10000421-1775674800-1775680200@thedistricton46.com
SUMMARY:Trivia Nights - Throwbacks on 46
DESCRIPTION:
URL:https://thedistricton46.com/event/trivia-nights-throwbacks-on-46/2026-04-08/
CATEGORIES:Throwbacks On 46
END:VEVENT
BEGIN:VEVENT
DTSTART;TZID=America/Chicago:20260404T190000
DTEND;TZID=America/Chicago:20260404T220000
DTSTAMP:20260423T191319
CREATED:20260214T233104Z
LAST-MODIFIED:20260214T233104Z
UID:10000977-1775329200-1775340000@thedistricton46.com
SUMMARY:Prairie Rattlers Band
DESCRIPTION:
URL:https://thedistricton46.com/event/prairie-rattlers-band-2/
CATEGORIES:Throwbacks On 46,Weekend Music
END:VEVENT
BEGIN:VEVENT
DTSTART;VALUE=DATE:20260404
DTEND;VALUE=DATE:20260405
DTSTAMP:20260423T191319
CREATED:20260214T232953Z
LAST-MODIFIED:20260306T002955Z
UID:10000978-1775289600-1775322000@thedistricton46.com
SUMMARY:Monthly Markets
DESCRIPTION:
URL:https://thedistricton46.com/event/monthly-markets/2026-04-04/
CATEGORIES:The District On 46
END:VEVENT
BEGIN:VEVENT
DTSTART;TZID=America/Chicago:20260403T190000
DTEND;TZID=America/Chicago:20260403T220000
DTSTAMP:20260423T191319
CREATED:20250711T160503Z
LAST-MODIFIED:20260401T233630Z
UID:10000074-1775242800-1775253600@thedistricton46.com
SUMMARY:Trevor Underwood
DESCRIPTION:
URL:https://thedistricton46.com/event/trevor-underwood-8/
CATEGORIES:The District On 46,Throwbacks On 46,Weekend Music
END:VEVENT
BEGIN:VEVENT
DTSTART;TZID=America/Chicago:20260402T190000
DTEND;TZID=America/Chicago:20260402T230000
DTSTAMP:20260423T191319
CREATED:20251208T173607Z
LAST-MODIFIED:20251208T173921Z
UID:10000681-1775156400-1775170800@thedistricton46.com
SUMMARY:Karaoke Nights - Throwbacks on 46
DESCRIPTION:
URL:https://thedistricton46.com/event/karaoke-nights-throwbacks-on-46/2026-04-02/
CATEGORIES:Throwbacks On 46
END:VEVENT
BEGIN:VEVENT
DTSTART;TZID=America/Chicago:20260401T190000
DTEND;TZID=America/Chicago:20260401T203000
DTSTAMP:20260423T191319
CREATED:20251208T173447Z
LAST-MODIFIED:20251208T173908Z
UID:10000420-1775070000-1775075400@thedistricton46.com
SUMMARY:Trivia Nights - Throwbacks on 46
DESCRIPTION:
URL:https://thedistricton46.com/event/trivia-nights-throwbacks-on-46/2026-04-01/
CATEGORIES:Throwbacks On 46
END:VEVENT
BEGIN:VEVENT
DTSTART;TZID=America/Chicago:20260327T190000
DTEND;TZID=America/Chicago:20260327T220000
DTSTAMP:20260423T191319
CREATED:20260115T234821Z
LAST-MODIFIED:20260319T171701Z
UID:10000962-1774638000-1774648800@thedistricton46.com
SUMMARY:Zack Walther Trio
DESCRIPTION:
URL:https://thedistricton46.com/event/southbound-35-2/
CATEGORIES:Throwbacks On 46,Weekend Music
END:VEVENT
BEGIN:VEVENT
DTSTART;TZID=America/Chicago:20260326T190000
DTEND;TZID=America/Chicago:20260326T230000
DTSTAMP:20260423T191319
CREATED:20251208T173607Z
LAST-MODIFIED:20251208T173921Z
UID:10000680-1774551600-1774566000@thedistricton46.com
SUMMARY:Karaoke Nights - Throwbacks on 46
DESCRIPTION:
URL:https://thedistricton46.com/event/karaoke-nights-throwbacks-on-46/2026-03-26/
CATEGORIES:Throwbacks On 46
END:VEVENT
BEGIN:VEVENT
DTSTART;TZID=America/Chicago:20260325T190000
DTEND;TZID=America/Chicago:20260325T203000
DTSTAMP:20260423T191319
CREATED:20251208T173447Z
LAST-MODIFIED:20251208T173908Z
UID:10000419-1774465200-1774470600@thedistricton46.com
SUMMARY:Trivia Nights - Throwbacks on 46
DESCRIPTION:
URL:https://thedistricton46.com/event/trivia-nights-throwbacks-on-46/2026-03-25/
CATEGORIES:Throwbacks On 46
END:VEVENT
END:VCALENDAR