BEGIN:VCALENDAR
VERSION:2.0
PRODID:-//The District On 46 - ECPv6.15.20//NONSGML v1.0//EN
CALSCALE:GREGORIAN
METHOD:PUBLISH
X-ORIGINAL-URL:https://thedistricton46.com
X-WR-CALDESC:Events for The District On 46
REFRESH-INTERVAL;VALUE=DURATION:PT1H
X-Robots-Tag:noindex
X-PUBLISHED-TTL:PT1H
BEGIN:VTIMEZONE
TZID:America/Chicago
BEGIN:DAYLIGHT
TZOFFSETFROM:-0600
TZOFFSETTO:-0500
TZNAME:CDT
DTSTART:20250309T080000
END:DAYLIGHT
BEGIN:STANDARD
TZOFFSETFROM:-0500
TZOFFSETTO:-0600
TZNAME:CST
DTSTART:20251102T070000
END:STANDARD
BEGIN:DAYLIGHT
TZOFFSETFROM:-0600
TZOFFSETTO:-0500
TZNAME:CDT
DTSTART:20260308T080000
END:DAYLIGHT
BEGIN:STANDARD
TZOFFSETFROM:-0500
TZOFFSETTO:-0600
TZNAME:CST
DTSTART:20261101T070000
END:STANDARD
BEGIN:DAYLIGHT
TZOFFSETFROM:-0600
TZOFFSETTO:-0500
TZNAME:CDT
DTSTART:20270314T080000
END:DAYLIGHT
BEGIN:STANDARD
TZOFFSETFROM:-0500
TZOFFSETTO:-0600
TZNAME:CST
DTSTART:20271107T070000
END:STANDARD
END:VTIMEZONE
BEGIN:VEVENT
DTSTART;TZID=America/Chicago:20260911T190000
DTEND;TZID=America/Chicago:20260911T230000
DTSTAMP:20260424T004009
CREATED:20260424T004219Z
LAST-MODIFIED:20260424T004219Z
UID:10001307-1789153200-1789167600@thedistricton46.com
SUMMARY:Karaoke Nights - Throwbacks on 46
DESCRIPTION:
URL:https://thedistricton46.com/event/karaoke-nights-throwbacks-on-46-2/2026-09-11/
CATEGORIES:Throwbacks On 46
END:VEVENT
BEGIN:VEVENT
DTSTART;TZID=America/Chicago:20260916T190000
DTEND;TZID=America/Chicago:20260916T203000
DTSTAMP:20260424T004009
CREATED:20251208T173447Z
LAST-MODIFIED:20251208T173908Z
UID:10000444-1789585200-1789590600@thedistricton46.com
SUMMARY:Trivia Nights - Throwbacks on 46
DESCRIPTION:
URL:https://thedistricton46.com/event/trivia-nights-throwbacks-on-46/2026-09-16/
CATEGORIES:Throwbacks On 46
END:VEVENT
BEGIN:VEVENT
DTSTART;TZID=America/Chicago:20260917T190000
DTEND;TZID=America/Chicago:20260917T230000
DTSTAMP:20260424T004009
CREATED:20251208T173607Z
LAST-MODIFIED:20251208T173921Z
UID:10000705-1789671600-1789686000@thedistricton46.com
SUMMARY:Karaoke Nights - Throwbacks on 46
DESCRIPTION:
URL:https://thedistricton46.com/event/karaoke-nights-throwbacks-on-46/2026-09-17/
CATEGORIES:Throwbacks On 46
END:VEVENT
BEGIN:VEVENT
DTSTART;TZID=America/Chicago:20260918T190000
DTEND;TZID=America/Chicago:20260918T230000
DTSTAMP:20260424T004009
CREATED:20260424T004219Z
LAST-MODIFIED:20260424T004219Z
UID:10001308-1789758000-1789772400@thedistricton46.com
SUMMARY:Karaoke Nights - Throwbacks on 46
DESCRIPTION:
URL:https://thedistricton46.com/event/karaoke-nights-throwbacks-on-46-2/2026-09-18/
CATEGORIES:Throwbacks On 46
END:VEVENT
BEGIN:VEVENT
DTSTART;TZID=America/Chicago:20260923T190000
DTEND;TZID=America/Chicago:20260923T203000
DTSTAMP:20260424T004009
CREATED:20251208T173447Z
LAST-MODIFIED:20251208T173908Z
UID:10000445-1790190000-1790195400@thedistricton46.com
SUMMARY:Trivia Nights - Throwbacks on 46
DESCRIPTION:
URL:https://thedistricton46.com/event/trivia-nights-throwbacks-on-46/2026-09-23/
CATEGORIES:Throwbacks On 46
END:VEVENT
BEGIN:VEVENT
DTSTART;TZID=America/Chicago:20260924T190000
DTEND;TZID=America/Chicago:20260924T230000
DTSTAMP:20260424T004009
CREATED:20251208T173607Z
LAST-MODIFIED:20251208T173921Z
UID:10000706-1790276400-1790290800@thedistricton46.com
SUMMARY:Karaoke Nights - Throwbacks on 46
DESCRIPTION:
URL:https://thedistricton46.com/event/karaoke-nights-throwbacks-on-46/2026-09-24/
CATEGORIES:Throwbacks On 46
END:VEVENT
BEGIN:VEVENT
DTSTART;TZID=America/Chicago:20260925T190000
DTEND;TZID=America/Chicago:20260925T230000
DTSTAMP:20260424T004009
CREATED:20260424T004219Z
LAST-MODIFIED:20260424T004219Z
UID:10001309-1790362800-1790377200@thedistricton46.com
SUMMARY:Karaoke Nights - Throwbacks on 46
DESCRIPTION:
URL:https://thedistricton46.com/event/karaoke-nights-throwbacks-on-46-2/2026-09-25/
CATEGORIES:Throwbacks On 46
END:VEVENT
BEGIN:VEVENT
DTSTART;TZID=America/Chicago:20260930T190000
DTEND;TZID=America/Chicago:20260930T203000
DTSTAMP:20260424T004009
CREATED:20251208T173447Z
LAST-MODIFIED:20251208T173908Z
UID:10000446-1790794800-1790800200@thedistricton46.com
SUMMARY:Trivia Nights - Throwbacks on 46
DESCRIPTION:
URL:https://thedistricton46.com/event/trivia-nights-throwbacks-on-46/2026-09-30/
CATEGORIES:Throwbacks On 46
END:VEVENT
BEGIN:VEVENT
DTSTART;TZID=America/Chicago:20261001T190000
DTEND;TZID=America/Chicago:20261001T230000
DTSTAMP:20260424T004009
CREATED:20251208T173607Z
LAST-MODIFIED:20251208T173921Z
UID:10000707-1790881200-1790895600@thedistricton46.com
SUMMARY:Karaoke Nights - Throwbacks on 46
DESCRIPTION:
URL:https://thedistricton46.com/event/karaoke-nights-throwbacks-on-46/2026-10-01/
CATEGORIES:Throwbacks On 46
END:VEVENT
BEGIN:VEVENT
DTSTART;TZID=America/Chicago:20261002T190000
DTEND;TZID=America/Chicago:20261002T220000
DTSTAMP:20260424T004009
CREATED:20250711T160504Z
LAST-MODIFIED:20250725T201259Z
UID:10000080-1790967600-1790978400@thedistricton46.com
SUMMARY:Trevor Underwood
DESCRIPTION:
URL:https://thedistricton46.com/event/trevor-underwood-14/
CATEGORIES:The District On 46,Throwbacks On 46
END:VEVENT
BEGIN:VEVENT
DTSTART;TZID=America/Chicago:20261002T190000
DTEND;TZID=America/Chicago:20261002T230000
DTSTAMP:20260424T004009
CREATED:20260424T004219Z
LAST-MODIFIED:20260424T004219Z
UID:10001310-1790967600-1790982000@thedistricton46.com
SUMMARY:Karaoke Nights - Throwbacks on 46
DESCRIPTION:
URL:https://thedistricton46.com/event/karaoke-nights-throwbacks-on-46-2/2026-10-02/
CATEGORIES:Throwbacks On 46
END:VEVENT
BEGIN:VEVENT
DTSTART;TZID=America/Chicago:20261007T190000
DTEND;TZID=America/Chicago:20261007T203000
DTSTAMP:20260424T004009
CREATED:20251208T173447Z
LAST-MODIFIED:20251208T173908Z
UID:10000447-1791399600-1791405000@thedistricton46.com
SUMMARY:Trivia Nights - Throwbacks on 46
DESCRIPTION:
URL:https://thedistricton46.com/event/trivia-nights-throwbacks-on-46/2026-10-07/
CATEGORIES:Throwbacks On 46
END:VEVENT
BEGIN:VEVENT
DTSTART;TZID=America/Chicago:20261008T190000
DTEND;TZID=America/Chicago:20261008T230000
DTSTAMP:20260424T004009
CREATED:20251208T173607Z
LAST-MODIFIED:20251208T173921Z
UID:10000708-1791486000-1791500400@thedistricton46.com
SUMMARY:Karaoke Nights - Throwbacks on 46
DESCRIPTION:
URL:https://thedistricton46.com/event/karaoke-nights-throwbacks-on-46/2026-10-08/
CATEGORIES:Throwbacks On 46
END:VEVENT
BEGIN:VEVENT
DTSTART;TZID=America/Chicago:20261009T190000
DTEND;TZID=America/Chicago:20261009T230000
DTSTAMP:20260424T004009
CREATED:20260424T004219Z
LAST-MODIFIED:20260424T004219Z
UID:10001311-1791572400-1791586800@thedistricton46.com
SUMMARY:Karaoke Nights - Throwbacks on 46
DESCRIPTION:
URL:https://thedistricton46.com/event/karaoke-nights-throwbacks-on-46-2/2026-10-09/
CATEGORIES:Throwbacks On 46
END:VEVENT
BEGIN:VEVENT
DTSTART;TZID=America/Chicago:20261014T190000
DTEND;TZID=America/Chicago:20261014T203000
DTSTAMP:20260424T004009
CREATED:20251208T173447Z
LAST-MODIFIED:20251208T173908Z
UID:10000448-1792004400-1792009800@thedistricton46.com
SUMMARY:Trivia Nights - Throwbacks on 46
DESCRIPTION:
URL:https://thedistricton46.com/event/trivia-nights-throwbacks-on-46/2026-10-14/
CATEGORIES:Throwbacks On 46
END:VEVENT
BEGIN:VEVENT
DTSTART;TZID=America/Chicago:20261015T190000
DTEND;TZID=America/Chicago:20261015T230000
DTSTAMP:20260424T004009
CREATED:20251208T173607Z
LAST-MODIFIED:20251208T173921Z
UID:10000709-1792090800-1792105200@thedistricton46.com
SUMMARY:Karaoke Nights - Throwbacks on 46
DESCRIPTION:
URL:https://thedistricton46.com/event/karaoke-nights-throwbacks-on-46/2026-10-15/
CATEGORIES:Throwbacks On 46
END:VEVENT
BEGIN:VEVENT
DTSTART;TZID=America/Chicago:20261016T190000
DTEND;TZID=America/Chicago:20261016T230000
DTSTAMP:20260424T004009
CREATED:20260424T004219Z
LAST-MODIFIED:20260424T004219Z
UID:10001312-1792177200-1792191600@thedistricton46.com
SUMMARY:Karaoke Nights - Throwbacks on 46
DESCRIPTION:
URL:https://thedistricton46.com/event/karaoke-nights-throwbacks-on-46-2/2026-10-16/
CATEGORIES:Throwbacks On 46
END:VEVENT
BEGIN:VEVENT
DTSTART;TZID=America/Chicago:20261021T190000
DTEND;TZID=America/Chicago:20261021T203000
DTSTAMP:20260424T004009
CREATED:20251208T173447Z
LAST-MODIFIED:20251208T173908Z
UID:10000449-1792609200-1792614600@thedistricton46.com
SUMMARY:Trivia Nights - Throwbacks on 46
DESCRIPTION:
URL:https://thedistricton46.com/event/trivia-nights-throwbacks-on-46/2026-10-21/
CATEGORIES:Throwbacks On 46
END:VEVENT
BEGIN:VEVENT
DTSTART;TZID=America/Chicago:20261022T190000
DTEND;TZID=America/Chicago:20261022T230000
DTSTAMP:20260424T004009
CREATED:20251208T173607Z
LAST-MODIFIED:20251208T173921Z
UID:10000710-1792695600-1792710000@thedistricton46.com
SUMMARY:Karaoke Nights - Throwbacks on 46
DESCRIPTION:
URL:https://thedistricton46.com/event/karaoke-nights-throwbacks-on-46/2026-10-22/
CATEGORIES:Throwbacks On 46
END:VEVENT
BEGIN:VEVENT
DTSTART;TZID=America/Chicago:20261023T190000
DTEND;TZID=America/Chicago:20261023T230000
DTSTAMP:20260424T004009
CREATED:20260424T004219Z
LAST-MODIFIED:20260424T004219Z
UID:10001313-1792782000-1792796400@thedistricton46.com
SUMMARY:Karaoke Nights - Throwbacks on 46
DESCRIPTION:
URL:https://thedistricton46.com/event/karaoke-nights-throwbacks-on-46-2/2026-10-23/
CATEGORIES:Throwbacks On 46
END:VEVENT
BEGIN:VEVENT
DTSTART;TZID=America/Chicago:20261028T190000
DTEND;TZID=America/Chicago:20261028T203000
DTSTAMP:20260424T004009
CREATED:20251208T173447Z
LAST-MODIFIED:20251208T173908Z
UID:10000450-1793214000-1793219400@thedistricton46.com
SUMMARY:Trivia Nights - Throwbacks on 46
DESCRIPTION:
URL:https://thedistricton46.com/event/trivia-nights-throwbacks-on-46/2026-10-28/
CATEGORIES:Throwbacks On 46
END:VEVENT
BEGIN:VEVENT
DTSTART;TZID=America/Chicago:20261029T190000
DTEND;TZID=America/Chicago:20261029T230000
DTSTAMP:20260424T004009
CREATED:20251208T173607Z
LAST-MODIFIED:20251208T173921Z
UID:10000711-1793300400-1793314800@thedistricton46.com
SUMMARY:Karaoke Nights - Throwbacks on 46
DESCRIPTION:
URL:https://thedistricton46.com/event/karaoke-nights-throwbacks-on-46/2026-10-29/
CATEGORIES:Throwbacks On 46
END:VEVENT
BEGIN:VEVENT
DTSTART;TZID=America/Chicago:20261030T190000
DTEND;TZID=America/Chicago:20261030T230000
DTSTAMP:20260424T004009
CREATED:20260424T004219Z
LAST-MODIFIED:20260424T004219Z
UID:10001314-1793386800-1793401200@thedistricton46.com
SUMMARY:Karaoke Nights - Throwbacks on 46
DESCRIPTION:
URL:https://thedistricton46.com/event/karaoke-nights-throwbacks-on-46-2/2026-10-30/
CATEGORIES:Throwbacks On 46
END:VEVENT
BEGIN:VEVENT
DTSTART;TZID=America/Chicago:20261104T190000
DTEND;TZID=America/Chicago:20261104T203000
DTSTAMP:20260424T004009
CREATED:20251208T173447Z
LAST-MODIFIED:20251208T173908Z
UID:10000451-1793818800-1793824200@thedistricton46.com
SUMMARY:Trivia Nights - Throwbacks on 46
DESCRIPTION:
URL:https://thedistricton46.com/event/trivia-nights-throwbacks-on-46/2026-11-04/
CATEGORIES:Throwbacks On 46
END:VEVENT
BEGIN:VEVENT
DTSTART;TZID=America/Chicago:20261105T190000
DTEND;TZID=America/Chicago:20261105T230000
DTSTAMP:20260424T004009
CREATED:20251208T173607Z
LAST-MODIFIED:20251208T173921Z
UID:10000712-1793905200-1793919600@thedistricton46.com
SUMMARY:Karaoke Nights - Throwbacks on 46
DESCRIPTION:
URL:https://thedistricton46.com/event/karaoke-nights-throwbacks-on-46/2026-11-05/
CATEGORIES:Throwbacks On 46
END:VEVENT
BEGIN:VEVENT
DTSTART;TZID=America/Chicago:20261106T190000
DTEND;TZID=America/Chicago:20261106T220000
DTSTAMP:20260424T004009
CREATED:20250711T160504Z
LAST-MODIFIED:20250725T201259Z
UID:10000081-1793991600-1794002400@thedistricton46.com
SUMMARY:Trevor Underwood
DESCRIPTION:
URL:https://thedistricton46.com/event/trevor-underwood-15/
CATEGORIES:The District On 46,Throwbacks On 46
END:VEVENT
BEGIN:VEVENT
DTSTART;TZID=America/Chicago:20261106T190000
DTEND;TZID=America/Chicago:20261106T230000
DTSTAMP:20260424T004009
CREATED:20260424T004219Z
LAST-MODIFIED:20260424T004219Z
UID:10001315-1793991600-1794006000@thedistricton46.com
SUMMARY:Karaoke Nights - Throwbacks on 46
DESCRIPTION:
URL:https://thedistricton46.com/event/karaoke-nights-throwbacks-on-46-2/2026-11-06/
CATEGORIES:Throwbacks On 46
END:VEVENT
BEGIN:VEVENT
DTSTART;TZID=America/Chicago:20261111T190000
DTEND;TZID=America/Chicago:20261111T203000
DTSTAMP:20260424T004009
CREATED:20251208T173447Z
LAST-MODIFIED:20251208T173908Z
UID:10000452-1794423600-1794429000@thedistricton46.com
SUMMARY:Trivia Nights - Throwbacks on 46
DESCRIPTION:
URL:https://thedistricton46.com/event/trivia-nights-throwbacks-on-46/2026-11-11/
CATEGORIES:Throwbacks On 46
END:VEVENT
BEGIN:VEVENT
DTSTART;TZID=America/Chicago:20261112T190000
DTEND;TZID=America/Chicago:20261112T230000
DTSTAMP:20260424T004009
CREATED:20251208T173607Z
LAST-MODIFIED:20251208T173921Z
UID:10000713-1794510000-1794524400@thedistricton46.com
SUMMARY:Karaoke Nights - Throwbacks on 46
DESCRIPTION:
URL:https://thedistricton46.com/event/karaoke-nights-throwbacks-on-46/2026-11-12/
CATEGORIES:Throwbacks On 46
END:VEVENT
BEGIN:VEVENT
DTSTART;TZID=America/Chicago:20261113T190000
DTEND;TZID=America/Chicago:20261113T230000
DTSTAMP:20260424T004009
CREATED:20260424T004219Z
LAST-MODIFIED:20260424T004219Z
UID:10001316-1794596400-1794610800@thedistricton46.com
SUMMARY:Karaoke Nights - Throwbacks on 46
DESCRIPTION:
URL:https://thedistricton46.com/event/karaoke-nights-throwbacks-on-46-2/2026-11-13/
CATEGORIES:Throwbacks On 46
END:VEVENT
END:VCALENDAR