BEGIN:VCALENDAR
VERSION:2.0
PRODID:-//The District On 46 - ECPv6.15.20//NONSGML v1.0//EN
CALSCALE:GREGORIAN
METHOD:PUBLISH
X-WR-CALNAME:The District On 46
X-ORIGINAL-URL:https://thedistricton46.com
X-WR-CALDESC:Events for The District On 46
REFRESH-INTERVAL;VALUE=DURATION:PT1H
X-Robots-Tag:noindex
X-PUBLISHED-TTL:PT1H
BEGIN:VTIMEZONE
TZID:America/Chicago
BEGIN:DAYLIGHT
TZOFFSETFROM:-0600
TZOFFSETTO:-0500
TZNAME:CDT
DTSTART:20260308T080000
END:DAYLIGHT
BEGIN:STANDARD
TZOFFSETFROM:-0500
TZOFFSETTO:-0600
TZNAME:CST
DTSTART:20261101T070000
END:STANDARD
BEGIN:DAYLIGHT
TZOFFSETFROM:-0600
TZOFFSETTO:-0500
TZNAME:CDT
DTSTART:20270314T080000
END:DAYLIGHT
BEGIN:STANDARD
TZOFFSETFROM:-0500
TZOFFSETTO:-0600
TZNAME:CST
DTSTART:20271107T070000
END:STANDARD
BEGIN:DAYLIGHT
TZOFFSETFROM:-0600
TZOFFSETTO:-0500
TZNAME:CDT
DTSTART:20280312T080000
END:DAYLIGHT
BEGIN:STANDARD
TZOFFSETFROM:-0500
TZOFFSETTO:-0600
TZNAME:CST
DTSTART:20281105T070000
END:STANDARD
END:VTIMEZONE
BEGIN:VEVENT
DTSTART;TZID=America/Chicago:20270430T190000
DTEND;TZID=America/Chicago:20270430T230000
DTSTAMP:20260424T093921
CREATED:20260424T004219Z
LAST-MODIFIED:20260424T004219Z
UID:10001340-1809111600-1809126000@thedistricton46.com
SUMMARY:Karaoke Nights - Throwbacks on 46
DESCRIPTION:
URL:https://thedistricton46.com/event/karaoke-nights-throwbacks-on-46-2/2027-04-30/
CATEGORIES:Throwbacks On 46
END:VEVENT
BEGIN:VEVENT
DTSTART;TZID=America/Chicago:20270505T190000
DTEND;TZID=America/Chicago:20270505T203000
DTSTAMP:20260424T093921
CREATED:20251208T173447Z
LAST-MODIFIED:20251208T173908Z
UID:10000477-1809543600-1809549000@thedistricton46.com
SUMMARY:Trivia Nights - Throwbacks on 46
DESCRIPTION:
URL:https://thedistricton46.com/event/trivia-nights-throwbacks-on-46/2027-05-05/
CATEGORIES:Throwbacks On 46
END:VEVENT
BEGIN:VEVENT
DTSTART;TZID=America/Chicago:20270506T190000
DTEND;TZID=America/Chicago:20270506T230000
DTSTAMP:20260424T093921
CREATED:20251208T173607Z
LAST-MODIFIED:20251208T173921Z
UID:10000738-1809630000-1809644400@thedistricton46.com
SUMMARY:Karaoke Nights - Throwbacks on 46
DESCRIPTION:
URL:https://thedistricton46.com/event/karaoke-nights-throwbacks-on-46/2027-05-06/
CATEGORIES:Throwbacks On 46
END:VEVENT
BEGIN:VEVENT
DTSTART;TZID=America/Chicago:20270507T190000
DTEND;TZID=America/Chicago:20270507T230000
DTSTAMP:20260424T093921
CREATED:20260424T004219Z
LAST-MODIFIED:20260424T004219Z
UID:10001341-1809716400-1809730800@thedistricton46.com
SUMMARY:Karaoke Nights - Throwbacks on 46
DESCRIPTION:
URL:https://thedistricton46.com/event/karaoke-nights-throwbacks-on-46-2/2027-05-07/
CATEGORIES:Throwbacks On 46
END:VEVENT
BEGIN:VEVENT
DTSTART;TZID=America/Chicago:20270512T190000
DTEND;TZID=America/Chicago:20270512T203000
DTSTAMP:20260424T093921
CREATED:20251208T173447Z
LAST-MODIFIED:20251208T173908Z
UID:10000478-1810148400-1810153800@thedistricton46.com
SUMMARY:Trivia Nights - Throwbacks on 46
DESCRIPTION:
URL:https://thedistricton46.com/event/trivia-nights-throwbacks-on-46/2027-05-12/
CATEGORIES:Throwbacks On 46
END:VEVENT
BEGIN:VEVENT
DTSTART;TZID=America/Chicago:20270513T190000
DTEND;TZID=America/Chicago:20270513T230000
DTSTAMP:20260424T093921
CREATED:20251208T173607Z
LAST-MODIFIED:20251208T173921Z
UID:10000739-1810234800-1810249200@thedistricton46.com
SUMMARY:Karaoke Nights - Throwbacks on 46
DESCRIPTION:
URL:https://thedistricton46.com/event/karaoke-nights-throwbacks-on-46/2027-05-13/
CATEGORIES:Throwbacks On 46
END:VEVENT
BEGIN:VEVENT
DTSTART;TZID=America/Chicago:20270514T190000
DTEND;TZID=America/Chicago:20270514T230000
DTSTAMP:20260424T093921
CREATED:20260424T004219Z
LAST-MODIFIED:20260424T004219Z
UID:10001342-1810321200-1810335600@thedistricton46.com
SUMMARY:Karaoke Nights - Throwbacks on 46
DESCRIPTION:
URL:https://thedistricton46.com/event/karaoke-nights-throwbacks-on-46-2/2027-05-14/
CATEGORIES:Throwbacks On 46
END:VEVENT
BEGIN:VEVENT
DTSTART;TZID=America/Chicago:20270519T190000
DTEND;TZID=America/Chicago:20270519T203000
DTSTAMP:20260424T093921
CREATED:20251208T173447Z
LAST-MODIFIED:20251208T173908Z
UID:10000479-1810753200-1810758600@thedistricton46.com
SUMMARY:Trivia Nights - Throwbacks on 46
DESCRIPTION:
URL:https://thedistricton46.com/event/trivia-nights-throwbacks-on-46/2027-05-19/
CATEGORIES:Throwbacks On 46
END:VEVENT
BEGIN:VEVENT
DTSTART;TZID=America/Chicago:20270520T190000
DTEND;TZID=America/Chicago:20270520T230000
DTSTAMP:20260424T093921
CREATED:20251208T173607Z
LAST-MODIFIED:20251208T173921Z
UID:10000740-1810839600-1810854000@thedistricton46.com
SUMMARY:Karaoke Nights - Throwbacks on 46
DESCRIPTION:
URL:https://thedistricton46.com/event/karaoke-nights-throwbacks-on-46/2027-05-20/
CATEGORIES:Throwbacks On 46
END:VEVENT
BEGIN:VEVENT
DTSTART;TZID=America/Chicago:20270521T190000
DTEND;TZID=America/Chicago:20270521T230000
DTSTAMP:20260424T093921
CREATED:20260424T004219Z
LAST-MODIFIED:20260424T004219Z
UID:10001343-1810926000-1810940400@thedistricton46.com
SUMMARY:Karaoke Nights - Throwbacks on 46
DESCRIPTION:
URL:https://thedistricton46.com/event/karaoke-nights-throwbacks-on-46-2/2027-05-21/
CATEGORIES:Throwbacks On 46
END:VEVENT
BEGIN:VEVENT
DTSTART;TZID=America/Chicago:20270526T190000
DTEND;TZID=America/Chicago:20270526T203000
DTSTAMP:20260424T093921
CREATED:20251208T173447Z
LAST-MODIFIED:20251208T173908Z
UID:10000480-1811358000-1811363400@thedistricton46.com
SUMMARY:Trivia Nights - Throwbacks on 46
DESCRIPTION:
URL:https://thedistricton46.com/event/trivia-nights-throwbacks-on-46/2027-05-26/
CATEGORIES:Throwbacks On 46
END:VEVENT
BEGIN:VEVENT
DTSTART;TZID=America/Chicago:20270527T190000
DTEND;TZID=America/Chicago:20270527T230000
DTSTAMP:20260424T093921
CREATED:20251208T173607Z
LAST-MODIFIED:20251208T173921Z
UID:10000741-1811444400-1811458800@thedistricton46.com
SUMMARY:Karaoke Nights - Throwbacks on 46
DESCRIPTION:
URL:https://thedistricton46.com/event/karaoke-nights-throwbacks-on-46/2027-05-27/
CATEGORIES:Throwbacks On 46
END:VEVENT
BEGIN:VEVENT
DTSTART;TZID=America/Chicago:20270528T190000
DTEND;TZID=America/Chicago:20270528T230000
DTSTAMP:20260424T093921
CREATED:20260424T004219Z
LAST-MODIFIED:20260424T004219Z
UID:10001344-1811530800-1811545200@thedistricton46.com
SUMMARY:Karaoke Nights - Throwbacks on 46
DESCRIPTION:
URL:https://thedistricton46.com/event/karaoke-nights-throwbacks-on-46-2/2027-05-28/
CATEGORIES:Throwbacks On 46
END:VEVENT
BEGIN:VEVENT
DTSTART;TZID=America/Chicago:20270602T190000
DTEND;TZID=America/Chicago:20270602T203000
DTSTAMP:20260424T093921
CREATED:20251208T173447Z
LAST-MODIFIED:20251208T173908Z
UID:10000481-1811962800-1811968200@thedistricton46.com
SUMMARY:Trivia Nights - Throwbacks on 46
DESCRIPTION:
URL:https://thedistricton46.com/event/trivia-nights-throwbacks-on-46/2027-06-02/
CATEGORIES:Throwbacks On 46
END:VEVENT
BEGIN:VEVENT
DTSTART;TZID=America/Chicago:20270603T190000
DTEND;TZID=America/Chicago:20270603T230000
DTSTAMP:20260424T093921
CREATED:20251208T173607Z
LAST-MODIFIED:20251208T173921Z
UID:10000742-1812049200-1812063600@thedistricton46.com
SUMMARY:Karaoke Nights - Throwbacks on 46
DESCRIPTION:
URL:https://thedistricton46.com/event/karaoke-nights-throwbacks-on-46/2027-06-03/
CATEGORIES:Throwbacks On 46
END:VEVENT
BEGIN:VEVENT
DTSTART;TZID=America/Chicago:20270604T190000
DTEND;TZID=America/Chicago:20270604T230000
DTSTAMP:20260424T093921
CREATED:20260424T004219Z
LAST-MODIFIED:20260424T004219Z
UID:10001345-1812135600-1812150000@thedistricton46.com
SUMMARY:Karaoke Nights - Throwbacks on 46
DESCRIPTION:
URL:https://thedistricton46.com/event/karaoke-nights-throwbacks-on-46-2/2027-06-04/
CATEGORIES:Throwbacks On 46
END:VEVENT
BEGIN:VEVENT
DTSTART;TZID=America/Chicago:20270609T190000
DTEND;TZID=America/Chicago:20270609T203000
DTSTAMP:20260424T093921
CREATED:20251208T173447Z
LAST-MODIFIED:20251208T173908Z
UID:10000482-1812567600-1812573000@thedistricton46.com
SUMMARY:Trivia Nights - Throwbacks on 46
DESCRIPTION:
URL:https://thedistricton46.com/event/trivia-nights-throwbacks-on-46/2027-06-09/
CATEGORIES:Throwbacks On 46
END:VEVENT
BEGIN:VEVENT
DTSTART;TZID=America/Chicago:20270610T190000
DTEND;TZID=America/Chicago:20270610T230000
DTSTAMP:20260424T093921
CREATED:20251208T173607Z
LAST-MODIFIED:20251208T173921Z
UID:10000743-1812654000-1812668400@thedistricton46.com
SUMMARY:Karaoke Nights - Throwbacks on 46
DESCRIPTION:
URL:https://thedistricton46.com/event/karaoke-nights-throwbacks-on-46/2027-06-10/
CATEGORIES:Throwbacks On 46
END:VEVENT
BEGIN:VEVENT
DTSTART;TZID=America/Chicago:20270611T190000
DTEND;TZID=America/Chicago:20270611T230000
DTSTAMP:20260424T093921
CREATED:20260424T004219Z
LAST-MODIFIED:20260424T004219Z
UID:10001346-1812740400-1812754800@thedistricton46.com
SUMMARY:Karaoke Nights - Throwbacks on 46
DESCRIPTION:
URL:https://thedistricton46.com/event/karaoke-nights-throwbacks-on-46-2/2027-06-11/
CATEGORIES:Throwbacks On 46
END:VEVENT
BEGIN:VEVENT
DTSTART;TZID=America/Chicago:20270616T190000
DTEND;TZID=America/Chicago:20270616T203000
DTSTAMP:20260424T093921
CREATED:20251208T173447Z
LAST-MODIFIED:20251208T173908Z
UID:10000483-1813172400-1813177800@thedistricton46.com
SUMMARY:Trivia Nights - Throwbacks on 46
DESCRIPTION:
URL:https://thedistricton46.com/event/trivia-nights-throwbacks-on-46/2027-06-16/
CATEGORIES:Throwbacks On 46
END:VEVENT
BEGIN:VEVENT
DTSTART;TZID=America/Chicago:20270617T190000
DTEND;TZID=America/Chicago:20270617T230000
DTSTAMP:20260424T093921
CREATED:20251208T173607Z
LAST-MODIFIED:20251208T173921Z
UID:10000744-1813258800-1813273200@thedistricton46.com
SUMMARY:Karaoke Nights - Throwbacks on 46
DESCRIPTION:
URL:https://thedistricton46.com/event/karaoke-nights-throwbacks-on-46/2027-06-17/
CATEGORIES:Throwbacks On 46
END:VEVENT
BEGIN:VEVENT
DTSTART;TZID=America/Chicago:20270618T190000
DTEND;TZID=America/Chicago:20270618T230000
DTSTAMP:20260424T093921
CREATED:20260424T004219Z
LAST-MODIFIED:20260424T004219Z
UID:10001347-1813345200-1813359600@thedistricton46.com
SUMMARY:Karaoke Nights - Throwbacks on 46
DESCRIPTION:
URL:https://thedistricton46.com/event/karaoke-nights-throwbacks-on-46-2/2027-06-18/
CATEGORIES:Throwbacks On 46
END:VEVENT
BEGIN:VEVENT
DTSTART;TZID=America/Chicago:20270623T190000
DTEND;TZID=America/Chicago:20270623T203000
DTSTAMP:20260424T093921
CREATED:20251208T173447Z
LAST-MODIFIED:20251208T173908Z
UID:10000484-1813777200-1813782600@thedistricton46.com
SUMMARY:Trivia Nights - Throwbacks on 46
DESCRIPTION:
URL:https://thedistricton46.com/event/trivia-nights-throwbacks-on-46/2027-06-23/
CATEGORIES:Throwbacks On 46
END:VEVENT
BEGIN:VEVENT
DTSTART;TZID=America/Chicago:20270624T190000
DTEND;TZID=America/Chicago:20270624T230000
DTSTAMP:20260424T093921
CREATED:20251208T173607Z
LAST-MODIFIED:20251208T173921Z
UID:10000745-1813863600-1813878000@thedistricton46.com
SUMMARY:Karaoke Nights - Throwbacks on 46
DESCRIPTION:
URL:https://thedistricton46.com/event/karaoke-nights-throwbacks-on-46/2027-06-24/
CATEGORIES:Throwbacks On 46
END:VEVENT
BEGIN:VEVENT
DTSTART;TZID=America/Chicago:20270625T190000
DTEND;TZID=America/Chicago:20270625T230000
DTSTAMP:20260424T093921
CREATED:20260424T004219Z
LAST-MODIFIED:20260424T004219Z
UID:10001348-1813950000-1813964400@thedistricton46.com
SUMMARY:Karaoke Nights - Throwbacks on 46
DESCRIPTION:
URL:https://thedistricton46.com/event/karaoke-nights-throwbacks-on-46-2/2027-06-25/
CATEGORIES:Throwbacks On 46
END:VEVENT
BEGIN:VEVENT
DTSTART;TZID=America/Chicago:20270630T190000
DTEND;TZID=America/Chicago:20270630T203000
DTSTAMP:20260424T093921
CREATED:20251208T173447Z
LAST-MODIFIED:20251208T173908Z
UID:10000485-1814382000-1814387400@thedistricton46.com
SUMMARY:Trivia Nights - Throwbacks on 46
DESCRIPTION:
URL:https://thedistricton46.com/event/trivia-nights-throwbacks-on-46/2027-06-30/
CATEGORIES:Throwbacks On 46
END:VEVENT
BEGIN:VEVENT
DTSTART;TZID=America/Chicago:20270701T190000
DTEND;TZID=America/Chicago:20270701T230000
DTSTAMP:20260424T093921
CREATED:20251208T173607Z
LAST-MODIFIED:20251208T173921Z
UID:10000746-1814468400-1814482800@thedistricton46.com
SUMMARY:Karaoke Nights - Throwbacks on 46
DESCRIPTION:
URL:https://thedistricton46.com/event/karaoke-nights-throwbacks-on-46/2027-07-01/
CATEGORIES:Throwbacks On 46
END:VEVENT
BEGIN:VEVENT
DTSTART;TZID=America/Chicago:20270702T190000
DTEND;TZID=America/Chicago:20270702T230000
DTSTAMP:20260424T093921
CREATED:20260424T004219Z
LAST-MODIFIED:20260424T004219Z
UID:10001349-1814554800-1814569200@thedistricton46.com
SUMMARY:Karaoke Nights - Throwbacks on 46
DESCRIPTION:
URL:https://thedistricton46.com/event/karaoke-nights-throwbacks-on-46-2/2027-07-02/
CATEGORIES:Throwbacks On 46
END:VEVENT
BEGIN:VEVENT
DTSTART;TZID=America/Chicago:20270707T190000
DTEND;TZID=America/Chicago:20270707T203000
DTSTAMP:20260424T093921
CREATED:20251208T173447Z
LAST-MODIFIED:20251208T173908Z
UID:10000486-1814986800-1814992200@thedistricton46.com
SUMMARY:Trivia Nights - Throwbacks on 46
DESCRIPTION:
URL:https://thedistricton46.com/event/trivia-nights-throwbacks-on-46/2027-07-07/
CATEGORIES:Throwbacks On 46
END:VEVENT
BEGIN:VEVENT
DTSTART;TZID=America/Chicago:20270708T190000
DTEND;TZID=America/Chicago:20270708T230000
DTSTAMP:20260424T093921
CREATED:20251208T173607Z
LAST-MODIFIED:20251208T173921Z
UID:10000747-1815073200-1815087600@thedistricton46.com
SUMMARY:Karaoke Nights - Throwbacks on 46
DESCRIPTION:
URL:https://thedistricton46.com/event/karaoke-nights-throwbacks-on-46/2027-07-08/
CATEGORIES:Throwbacks On 46
END:VEVENT
END:VCALENDAR