BEGIN:VCALENDAR
VERSION:2.0
PRODID:-//The District On 46 - ECPv6.15.20//NONSGML v1.0//EN
CALSCALE:GREGORIAN
METHOD:PUBLISH
X-WR-CALNAME:The District On 46
X-ORIGINAL-URL:https://thedistricton46.com
X-WR-CALDESC:Events for The District On 46
REFRESH-INTERVAL;VALUE=DURATION:PT1H
X-Robots-Tag:noindex
X-PUBLISHED-TTL:PT1H
BEGIN:VTIMEZONE
TZID:America/Chicago
BEGIN:DAYLIGHT
TZOFFSETFROM:-0600
TZOFFSETTO:-0500
TZNAME:CDT
DTSTART:20250309T080000
END:DAYLIGHT
BEGIN:STANDARD
TZOFFSETFROM:-0500
TZOFFSETTO:-0600
TZNAME:CST
DTSTART:20251102T070000
END:STANDARD
BEGIN:DAYLIGHT
TZOFFSETFROM:-0600
TZOFFSETTO:-0500
TZNAME:CDT
DTSTART:20260308T080000
END:DAYLIGHT
BEGIN:STANDARD
TZOFFSETFROM:-0500
TZOFFSETTO:-0600
TZNAME:CST
DTSTART:20261101T070000
END:STANDARD
BEGIN:DAYLIGHT
TZOFFSETFROM:-0600
TZOFFSETTO:-0500
TZNAME:CDT
DTSTART:20270314T080000
END:DAYLIGHT
BEGIN:STANDARD
TZOFFSETFROM:-0500
TZOFFSETTO:-0600
TZNAME:CST
DTSTART:20271107T070000
END:STANDARD
END:VTIMEZONE
BEGIN:VEVENT
DTSTART;TZID=America/Chicago:20260425T190000
DTEND;TZID=America/Chicago:20260425T220000
DTSTAMP:20260423T162500
CREATED:20260401T232725Z
LAST-MODIFIED:20260401T233710Z
UID:10001007-1777143600-1777154400@thedistricton46.com
SUMMARY:Nightcrawlers
DESCRIPTION:
URL:https://thedistricton46.com/event/nightcrawlers/
CATEGORIES:Throwbacks On 46,Weekend Music
END:VEVENT
BEGIN:VEVENT
DTSTART;TZID=America/Chicago:20260429T190000
DTEND;TZID=America/Chicago:20260429T203000
DTSTAMP:20260423T162500
CREATED:20251208T173447Z
LAST-MODIFIED:20251208T173908Z
UID:10000424-1777489200-1777494600@thedistricton46.com
SUMMARY:Trivia Nights - Throwbacks on 46
DESCRIPTION:
URL:https://thedistricton46.com/event/trivia-nights-throwbacks-on-46/2026-04-29/
CATEGORIES:Throwbacks On 46
END:VEVENT
BEGIN:VEVENT
DTSTART;TZID=America/Chicago:20260430T190000
DTEND;TZID=America/Chicago:20260430T230000
DTSTAMP:20260423T162500
CREATED:20251208T173607Z
LAST-MODIFIED:20251208T173921Z
UID:10000685-1777575600-1777590000@thedistricton46.com
SUMMARY:Karaoke Nights - Throwbacks on 46
DESCRIPTION:
URL:https://thedistricton46.com/event/karaoke-nights-throwbacks-on-46/2026-04-30/
CATEGORIES:Throwbacks On 46
END:VEVENT
BEGIN:VEVENT
DTSTART;TZID=America/Chicago:20260501T190000
DTEND;TZID=America/Chicago:20260501T220000
DTSTAMP:20260423T162500
CREATED:20250711T160503Z
LAST-MODIFIED:20260401T233730Z
UID:10000075-1777662000-1777672800@thedistricton46.com
SUMMARY:Trevor Underwood
DESCRIPTION:
URL:https://thedistricton46.com/event/trevor-underwood-9/
CATEGORIES:The District On 46,Throwbacks On 46,Weekend Music
END:VEVENT
BEGIN:VEVENT
DTSTART;VALUE=DATE:20260502
DTEND;VALUE=DATE:20260503
DTSTAMP:20260423T162500
CREATED:20260214T232953Z
LAST-MODIFIED:20260306T002955Z
UID:10000979-1777708800-1777741200@thedistricton46.com
SUMMARY:Monthly Markets
DESCRIPTION:
URL:https://thedistricton46.com/event/monthly-markets/2026-05-02/
CATEGORIES:The District On 46
END:VEVENT
BEGIN:VEVENT
DTSTART;TZID=America/Chicago:20260502T130000
DTEND;TZID=America/Chicago:20260502T190000
DTSTAMP:20260423T162500
CREATED:20260401T232755Z
LAST-MODIFIED:20260401T232906Z
UID:10001008-1777726800-1777748400@thedistricton46.com
SUMMARY:Lazy J Cajun Food Truck
DESCRIPTION:
URL:https://thedistricton46.com/event/lazy-j-cajun-food-truck-4/
CATEGORIES:Throwbacks On 46
END:VEVENT
BEGIN:VEVENT
DTSTART;TZID=America/Chicago:20260506T190000
DTEND;TZID=America/Chicago:20260506T203000
DTSTAMP:20260423T162500
CREATED:20251208T173447Z
LAST-MODIFIED:20251208T173908Z
UID:10000425-1778094000-1778099400@thedistricton46.com
SUMMARY:Trivia Nights - Throwbacks on 46
DESCRIPTION:
URL:https://thedistricton46.com/event/trivia-nights-throwbacks-on-46/2026-05-06/
CATEGORIES:Throwbacks On 46
END:VEVENT
BEGIN:VEVENT
DTSTART;TZID=America/Chicago:20260507T190000
DTEND;TZID=America/Chicago:20260507T230000
DTSTAMP:20260423T162500
CREATED:20251208T173607Z
LAST-MODIFIED:20251208T173921Z
UID:10000686-1778180400-1778194800@thedistricton46.com
SUMMARY:Karaoke Nights - Throwbacks on 46
DESCRIPTION:
URL:https://thedistricton46.com/event/karaoke-nights-throwbacks-on-46/2026-05-07/
CATEGORIES:Throwbacks On 46
END:VEVENT
BEGIN:VEVENT
DTSTART;TZID=America/Chicago:20260508T190000
DTEND;TZID=America/Chicago:20260508T220000
DTSTAMP:20260423T162500
CREATED:20260401T233044Z
LAST-MODIFIED:20260401T233751Z
UID:10001009-1778266800-1778277600@thedistricton46.com
SUMMARY:Jesse Stratton Band
DESCRIPTION:
URL:https://thedistricton46.com/event/jesse-stratton-band-3/
CATEGORIES:Throwbacks On 46,Weekend Music
END:VEVENT
BEGIN:VEVENT
DTSTART;TZID=America/Chicago:20260509T190000
DTEND;TZID=America/Chicago:20260509T220000
DTSTAMP:20260423T162500
CREATED:20260401T233117Z
LAST-MODIFIED:20260401T233117Z
UID:10001010-1778353200-1778364000@thedistricton46.com
SUMMARY:Soul Sessions
DESCRIPTION:
URL:https://thedistricton46.com/event/soul-sessions-15/
END:VEVENT
BEGIN:VEVENT
DTSTART;TZID=America/Chicago:20260513T190000
DTEND;TZID=America/Chicago:20260513T203000
DTSTAMP:20260423T162500
CREATED:20251208T173447Z
LAST-MODIFIED:20251208T173908Z
UID:10000426-1778698800-1778704200@thedistricton46.com
SUMMARY:Trivia Nights - Throwbacks on 46
DESCRIPTION:
URL:https://thedistricton46.com/event/trivia-nights-throwbacks-on-46/2026-05-13/
CATEGORIES:Throwbacks On 46
END:VEVENT
BEGIN:VEVENT
DTSTART;TZID=America/Chicago:20260514T190000
DTEND;TZID=America/Chicago:20260514T230000
DTSTAMP:20260423T162500
CREATED:20251208T173607Z
LAST-MODIFIED:20251208T173921Z
UID:10000687-1778785200-1778799600@thedistricton46.com
SUMMARY:Karaoke Nights - Throwbacks on 46
DESCRIPTION:
URL:https://thedistricton46.com/event/karaoke-nights-throwbacks-on-46/2026-05-14/
CATEGORIES:Throwbacks On 46
END:VEVENT
BEGIN:VEVENT
DTSTART;TZID=America/Chicago:20260515T190000
DTEND;TZID=America/Chicago:20260515T220000
DTSTAMP:20260423T162500
CREATED:20260401T233511Z
LAST-MODIFIED:20260401T233511Z
UID:10001011-1778871600-1778882400@thedistricton46.com
SUMMARY:Mile 262
DESCRIPTION:
URL:https://thedistricton46.com/event/mile-262-2/
CATEGORIES:Throwbacks On 46,Weekend Music
END:VEVENT
BEGIN:VEVENT
DTSTART;TZID=America/Chicago:20260516T130000
DTEND;TZID=America/Chicago:20260516T190000
DTSTAMP:20260423T162500
CREATED:20260401T233847Z
LAST-MODIFIED:20260401T233847Z
UID:10001012-1778936400-1778958000@thedistricton46.com
SUMMARY:Lazy J Cajun Food Truck
DESCRIPTION:
URL:https://thedistricton46.com/event/lazy-j-cajun-food-truck-5/
CATEGORIES:Special Food Truck,Throwbacks On 46
END:VEVENT
BEGIN:VEVENT
DTSTART;TZID=America/Chicago:20260520T190000
DTEND;TZID=America/Chicago:20260520T203000
DTSTAMP:20260423T162500
CREATED:20251208T173447Z
LAST-MODIFIED:20251208T173908Z
UID:10000427-1779303600-1779309000@thedistricton46.com
SUMMARY:Trivia Nights - Throwbacks on 46
DESCRIPTION:
URL:https://thedistricton46.com/event/trivia-nights-throwbacks-on-46/2026-05-20/
CATEGORIES:Throwbacks On 46
END:VEVENT
BEGIN:VEVENT
DTSTART;TZID=America/Chicago:20260521T190000
DTEND;TZID=America/Chicago:20260521T230000
DTSTAMP:20260423T162500
CREATED:20251208T173607Z
LAST-MODIFIED:20251208T173921Z
UID:10000688-1779390000-1779404400@thedistricton46.com
SUMMARY:Karaoke Nights - Throwbacks on 46
DESCRIPTION:
URL:https://thedistricton46.com/event/karaoke-nights-throwbacks-on-46/2026-05-21/
CATEGORIES:Throwbacks On 46
END:VEVENT
BEGIN:VEVENT
DTSTART;TZID=America/Chicago:20260522T190000
DTEND;TZID=America/Chicago:20260522T220000
DTSTAMP:20260423T162500
CREATED:20260401T233949Z
LAST-MODIFIED:20260401T233949Z
UID:10001013-1779476400-1779487200@thedistricton46.com
SUMMARY:Changing Lanes
DESCRIPTION:
URL:https://thedistricton46.com/event/changing-lanes/
CATEGORIES:Throwbacks On 46,Weekend Music
END:VEVENT
BEGIN:VEVENT
DTSTART;TZID=America/Chicago:20260527T190000
DTEND;TZID=America/Chicago:20260527T203000
DTSTAMP:20260423T162500
CREATED:20251208T173447Z
LAST-MODIFIED:20251208T173908Z
UID:10000428-1779908400-1779913800@thedistricton46.com
SUMMARY:Trivia Nights - Throwbacks on 46
DESCRIPTION:
URL:https://thedistricton46.com/event/trivia-nights-throwbacks-on-46/2026-05-27/
CATEGORIES:Throwbacks On 46
END:VEVENT
BEGIN:VEVENT
DTSTART;TZID=America/Chicago:20260528T190000
DTEND;TZID=America/Chicago:20260528T230000
DTSTAMP:20260423T162500
CREATED:20251208T173607Z
LAST-MODIFIED:20251208T173921Z
UID:10000689-1779994800-1780009200@thedistricton46.com
SUMMARY:Karaoke Nights - Throwbacks on 46
DESCRIPTION:
URL:https://thedistricton46.com/event/karaoke-nights-throwbacks-on-46/2026-05-28/
CATEGORIES:Throwbacks On 46
END:VEVENT
BEGIN:VEVENT
DTSTART;TZID=America/Chicago:20260529T190000
DTEND;TZID=America/Chicago:20260529T220000
DTSTAMP:20260423T162500
CREATED:20260401T234024Z
LAST-MODIFIED:20260401T234024Z
UID:10001014-1780081200-1780092000@thedistricton46.com
SUMMARY:Bo Luna
DESCRIPTION:
URL:https://thedistricton46.com/event/bo-luna/
CATEGORIES:Throwbacks On 46,Weekend Music
END:VEVENT
BEGIN:VEVENT
DTSTART;TZID=America/Chicago:20260530T130000
DTEND;TZID=America/Chicago:20260530T190000
DTSTAMP:20260423T162500
CREATED:20260401T234100Z
LAST-MODIFIED:20260401T234100Z
UID:10001015-1780146000-1780167600@thedistricton46.com
SUMMARY:Lazy J Cajun Food Truck
DESCRIPTION:
URL:https://thedistricton46.com/event/lazy-j-cajun-food-truck-6/
CATEGORIES:Special Food Truck,Throwbacks On 46
END:VEVENT
BEGIN:VEVENT
DTSTART;TZID=America/Chicago:20260603T190000
DTEND;TZID=America/Chicago:20260603T203000
DTSTAMP:20260423T162500
CREATED:20251208T173447Z
LAST-MODIFIED:20251208T173908Z
UID:10000429-1780513200-1780518600@thedistricton46.com
SUMMARY:Trivia Nights - Throwbacks on 46
DESCRIPTION:
URL:https://thedistricton46.com/event/trivia-nights-throwbacks-on-46/2026-06-03/
CATEGORIES:Throwbacks On 46
END:VEVENT
BEGIN:VEVENT
DTSTART;TZID=America/Chicago:20260604T190000
DTEND;TZID=America/Chicago:20260604T230000
DTSTAMP:20260423T162500
CREATED:20251208T173607Z
LAST-MODIFIED:20251208T173921Z
UID:10000690-1780599600-1780614000@thedistricton46.com
SUMMARY:Karaoke Nights - Throwbacks on 46
DESCRIPTION:
URL:https://thedistricton46.com/event/karaoke-nights-throwbacks-on-46/2026-06-04/
CATEGORIES:Throwbacks On 46
END:VEVENT
BEGIN:VEVENT
DTSTART;TZID=America/Chicago:20260605T190000
DTEND;TZID=America/Chicago:20260605T220000
DTSTAMP:20260423T162500
CREATED:20250711T160503Z
LAST-MODIFIED:20250725T201258Z
UID:10000076-1780686000-1780696800@thedistricton46.com
SUMMARY:Trevor Underwood
DESCRIPTION:
URL:https://thedistricton46.com/event/trevor-underwood-10/
CATEGORIES:The District On 46,Throwbacks On 46
END:VEVENT
BEGIN:VEVENT
DTSTART;TZID=America/Chicago:20260610T190000
DTEND;TZID=America/Chicago:20260610T203000
DTSTAMP:20260423T162500
CREATED:20251208T173447Z
LAST-MODIFIED:20251208T173908Z
UID:10000430-1781118000-1781123400@thedistricton46.com
SUMMARY:Trivia Nights - Throwbacks on 46
DESCRIPTION:
URL:https://thedistricton46.com/event/trivia-nights-throwbacks-on-46/2026-06-10/
CATEGORIES:Throwbacks On 46
END:VEVENT
BEGIN:VEVENT
DTSTART;TZID=America/Chicago:20260611T190000
DTEND;TZID=America/Chicago:20260611T230000
DTSTAMP:20260423T162500
CREATED:20251208T173607Z
LAST-MODIFIED:20251208T173921Z
UID:10000691-1781204400-1781218800@thedistricton46.com
SUMMARY:Karaoke Nights - Throwbacks on 46
DESCRIPTION:
URL:https://thedistricton46.com/event/karaoke-nights-throwbacks-on-46/2026-06-11/
CATEGORIES:Throwbacks On 46
END:VEVENT
BEGIN:VEVENT
DTSTART;TZID=America/Chicago:20260617T190000
DTEND;TZID=America/Chicago:20260617T203000
DTSTAMP:20260423T162500
CREATED:20251208T173447Z
LAST-MODIFIED:20251208T173908Z
UID:10000431-1781722800-1781728200@thedistricton46.com
SUMMARY:Trivia Nights - Throwbacks on 46
DESCRIPTION:
URL:https://thedistricton46.com/event/trivia-nights-throwbacks-on-46/2026-06-17/
CATEGORIES:Throwbacks On 46
END:VEVENT
BEGIN:VEVENT
DTSTART;TZID=America/Chicago:20260618T190000
DTEND;TZID=America/Chicago:20260618T230000
DTSTAMP:20260423T162500
CREATED:20251208T173607Z
LAST-MODIFIED:20251208T173921Z
UID:10000692-1781809200-1781823600@thedistricton46.com
SUMMARY:Karaoke Nights - Throwbacks on 46
DESCRIPTION:
URL:https://thedistricton46.com/event/karaoke-nights-throwbacks-on-46/2026-06-18/
CATEGORIES:Throwbacks On 46
END:VEVENT
BEGIN:VEVENT
DTSTART;TZID=America/Chicago:20260624T190000
DTEND;TZID=America/Chicago:20260624T203000
DTSTAMP:20260423T162500
CREATED:20251208T173447Z
LAST-MODIFIED:20251208T173908Z
UID:10000432-1782327600-1782333000@thedistricton46.com
SUMMARY:Trivia Nights - Throwbacks on 46
DESCRIPTION:
URL:https://thedistricton46.com/event/trivia-nights-throwbacks-on-46/2026-06-24/
CATEGORIES:Throwbacks On 46
END:VEVENT
BEGIN:VEVENT
DTSTART;TZID=America/Chicago:20260625T190000
DTEND;TZID=America/Chicago:20260625T230000
DTSTAMP:20260423T162500
CREATED:20251208T173607Z
LAST-MODIFIED:20251208T173921Z
UID:10000693-1782414000-1782428400@thedistricton46.com
SUMMARY:Karaoke Nights - Throwbacks on 46
DESCRIPTION:
URL:https://thedistricton46.com/event/karaoke-nights-throwbacks-on-46/2026-06-25/
CATEGORIES:Throwbacks On 46
END:VEVENT
END:VCALENDAR