BEGIN:VCALENDAR
VERSION:2.0
PRODID:-//The District On 46 - ECPv6.15.20//NONSGML v1.0//EN
CALSCALE:GREGORIAN
METHOD:PUBLISH
X-ORIGINAL-URL:https://thedistricton46.com
X-WR-CALDESC:Events for The District On 46
REFRESH-INTERVAL;VALUE=DURATION:PT1H
X-Robots-Tag:noindex
X-PUBLISHED-TTL:PT1H
BEGIN:VTIMEZONE
TZID:America/Chicago
BEGIN:DAYLIGHT
TZOFFSETFROM:-0600
TZOFFSETTO:-0500
TZNAME:CDT
DTSTART:20260308T080000
END:DAYLIGHT
BEGIN:STANDARD
TZOFFSETFROM:-0500
TZOFFSETTO:-0600
TZNAME:CST
DTSTART:20261101T070000
END:STANDARD
BEGIN:DAYLIGHT
TZOFFSETFROM:-0600
TZOFFSETTO:-0500
TZNAME:CDT
DTSTART:20270314T080000
END:DAYLIGHT
BEGIN:STANDARD
TZOFFSETFROM:-0500
TZOFFSETTO:-0600
TZNAME:CST
DTSTART:20271107T070000
END:STANDARD
BEGIN:DAYLIGHT
TZOFFSETFROM:-0600
TZOFFSETTO:-0500
TZNAME:CDT
DTSTART:20280312T080000
END:DAYLIGHT
BEGIN:STANDARD
TZOFFSETFROM:-0500
TZOFFSETTO:-0600
TZNAME:CST
DTSTART:20281105T070000
END:STANDARD
END:VTIMEZONE
BEGIN:VEVENT
DTSTART;TZID=America/Chicago:20270324T190000
DTEND;TZID=America/Chicago:20270324T203000
DTSTAMP:20260424T074014
CREATED:20251208T173447Z
LAST-MODIFIED:20251208T173908Z
UID:10000471-1805914800-1805920200@thedistricton46.com
SUMMARY:Trivia Nights - Throwbacks on 46
DESCRIPTION:
URL:https://thedistricton46.com/event/trivia-nights-throwbacks-on-46/2027-03-24/
CATEGORIES:Throwbacks On 46
END:VEVENT
BEGIN:VEVENT
DTSTART;TZID=America/Chicago:20270325T190000
DTEND;TZID=America/Chicago:20270325T230000
DTSTAMP:20260424T074014
CREATED:20251208T173607Z
LAST-MODIFIED:20251208T173921Z
UID:10000732-1806001200-1806015600@thedistricton46.com
SUMMARY:Karaoke Nights - Throwbacks on 46
DESCRIPTION:
URL:https://thedistricton46.com/event/karaoke-nights-throwbacks-on-46/2027-03-25/
CATEGORIES:Throwbacks On 46
END:VEVENT
BEGIN:VEVENT
DTSTART;TZID=America/Chicago:20270326T190000
DTEND;TZID=America/Chicago:20270326T230000
DTSTAMP:20260424T074014
CREATED:20260424T004219Z
LAST-MODIFIED:20260424T004219Z
UID:10001335-1806087600-1806102000@thedistricton46.com
SUMMARY:Karaoke Nights - Throwbacks on 46
DESCRIPTION:
URL:https://thedistricton46.com/event/karaoke-nights-throwbacks-on-46-2/2027-03-26/
CATEGORIES:Throwbacks On 46
END:VEVENT
BEGIN:VEVENT
DTSTART;TZID=America/Chicago:20270331T190000
DTEND;TZID=America/Chicago:20270331T203000
DTSTAMP:20260424T074014
CREATED:20251208T173447Z
LAST-MODIFIED:20251208T173908Z
UID:10000472-1806519600-1806525000@thedistricton46.com
SUMMARY:Trivia Nights - Throwbacks on 46
DESCRIPTION:
URL:https://thedistricton46.com/event/trivia-nights-throwbacks-on-46/2027-03-31/
CATEGORIES:Throwbacks On 46
END:VEVENT
BEGIN:VEVENT
DTSTART;TZID=America/Chicago:20270401T190000
DTEND;TZID=America/Chicago:20270401T230000
DTSTAMP:20260424T074014
CREATED:20251208T173607Z
LAST-MODIFIED:20251208T173921Z
UID:10000733-1806606000-1806620400@thedistricton46.com
SUMMARY:Karaoke Nights - Throwbacks on 46
DESCRIPTION:
URL:https://thedistricton46.com/event/karaoke-nights-throwbacks-on-46/2027-04-01/
CATEGORIES:Throwbacks On 46
END:VEVENT
BEGIN:VEVENT
DTSTART;TZID=America/Chicago:20270402T190000
DTEND;TZID=America/Chicago:20270402T230000
DTSTAMP:20260424T074014
CREATED:20260424T004219Z
LAST-MODIFIED:20260424T004219Z
UID:10001336-1806692400-1806706800@thedistricton46.com
SUMMARY:Karaoke Nights - Throwbacks on 46
DESCRIPTION:
URL:https://thedistricton46.com/event/karaoke-nights-throwbacks-on-46-2/2027-04-02/
CATEGORIES:Throwbacks On 46
END:VEVENT
BEGIN:VEVENT
DTSTART;TZID=America/Chicago:20270407T190000
DTEND;TZID=America/Chicago:20270407T203000
DTSTAMP:20260424T074014
CREATED:20251208T173447Z
LAST-MODIFIED:20251208T173908Z
UID:10000473-1807124400-1807129800@thedistricton46.com
SUMMARY:Trivia Nights - Throwbacks on 46
DESCRIPTION:
URL:https://thedistricton46.com/event/trivia-nights-throwbacks-on-46/2027-04-07/
CATEGORIES:Throwbacks On 46
END:VEVENT
BEGIN:VEVENT
DTSTART;TZID=America/Chicago:20270408T190000
DTEND;TZID=America/Chicago:20270408T230000
DTSTAMP:20260424T074014
CREATED:20251208T173607Z
LAST-MODIFIED:20251208T173921Z
UID:10000734-1807210800-1807225200@thedistricton46.com
SUMMARY:Karaoke Nights - Throwbacks on 46
DESCRIPTION:
URL:https://thedistricton46.com/event/karaoke-nights-throwbacks-on-46/2027-04-08/
CATEGORIES:Throwbacks On 46
END:VEVENT
BEGIN:VEVENT
DTSTART;TZID=America/Chicago:20270409T190000
DTEND;TZID=America/Chicago:20270409T230000
DTSTAMP:20260424T074014
CREATED:20260424T004219Z
LAST-MODIFIED:20260424T004219Z
UID:10001337-1807297200-1807311600@thedistricton46.com
SUMMARY:Karaoke Nights - Throwbacks on 46
DESCRIPTION:
URL:https://thedistricton46.com/event/karaoke-nights-throwbacks-on-46-2/2027-04-09/
CATEGORIES:Throwbacks On 46
END:VEVENT
BEGIN:VEVENT
DTSTART;TZID=America/Chicago:20270414T190000
DTEND;TZID=America/Chicago:20270414T203000
DTSTAMP:20260424T074014
CREATED:20251208T173447Z
LAST-MODIFIED:20251208T173908Z
UID:10000474-1807729200-1807734600@thedistricton46.com
SUMMARY:Trivia Nights - Throwbacks on 46
DESCRIPTION:
URL:https://thedistricton46.com/event/trivia-nights-throwbacks-on-46/2027-04-14/
CATEGORIES:Throwbacks On 46
END:VEVENT
BEGIN:VEVENT
DTSTART;TZID=America/Chicago:20270415T190000
DTEND;TZID=America/Chicago:20270415T230000
DTSTAMP:20260424T074014
CREATED:20251208T173607Z
LAST-MODIFIED:20251208T173921Z
UID:10000735-1807815600-1807830000@thedistricton46.com
SUMMARY:Karaoke Nights - Throwbacks on 46
DESCRIPTION:
URL:https://thedistricton46.com/event/karaoke-nights-throwbacks-on-46/2027-04-15/
CATEGORIES:Throwbacks On 46
END:VEVENT
BEGIN:VEVENT
DTSTART;TZID=America/Chicago:20270416T190000
DTEND;TZID=America/Chicago:20270416T230000
DTSTAMP:20260424T074014
CREATED:20260424T004219Z
LAST-MODIFIED:20260424T004219Z
UID:10001338-1807902000-1807916400@thedistricton46.com
SUMMARY:Karaoke Nights - Throwbacks on 46
DESCRIPTION:
URL:https://thedistricton46.com/event/karaoke-nights-throwbacks-on-46-2/2027-04-16/
CATEGORIES:Throwbacks On 46
END:VEVENT
BEGIN:VEVENT
DTSTART;TZID=America/Chicago:20270421T190000
DTEND;TZID=America/Chicago:20270421T203000
DTSTAMP:20260424T074014
CREATED:20251208T173447Z
LAST-MODIFIED:20251208T173908Z
UID:10000475-1808334000-1808339400@thedistricton46.com
SUMMARY:Trivia Nights - Throwbacks on 46
DESCRIPTION:
URL:https://thedistricton46.com/event/trivia-nights-throwbacks-on-46/2027-04-21/
CATEGORIES:Throwbacks On 46
END:VEVENT
BEGIN:VEVENT
DTSTART;TZID=America/Chicago:20270422T190000
DTEND;TZID=America/Chicago:20270422T230000
DTSTAMP:20260424T074014
CREATED:20251208T173607Z
LAST-MODIFIED:20251208T173921Z
UID:10000736-1808420400-1808434800@thedistricton46.com
SUMMARY:Karaoke Nights - Throwbacks on 46
DESCRIPTION:
URL:https://thedistricton46.com/event/karaoke-nights-throwbacks-on-46/2027-04-22/
CATEGORIES:Throwbacks On 46
END:VEVENT
BEGIN:VEVENT
DTSTART;TZID=America/Chicago:20270423T190000
DTEND;TZID=America/Chicago:20270423T230000
DTSTAMP:20260424T074014
CREATED:20260424T004219Z
LAST-MODIFIED:20260424T004219Z
UID:10001339-1808506800-1808521200@thedistricton46.com
SUMMARY:Karaoke Nights - Throwbacks on 46
DESCRIPTION:
URL:https://thedistricton46.com/event/karaoke-nights-throwbacks-on-46-2/2027-04-23/
CATEGORIES:Throwbacks On 46
END:VEVENT
BEGIN:VEVENT
DTSTART;TZID=America/Chicago:20270428T190000
DTEND;TZID=America/Chicago:20270428T203000
DTSTAMP:20260424T074014
CREATED:20251208T173447Z
LAST-MODIFIED:20251208T173908Z
UID:10000476-1808938800-1808944200@thedistricton46.com
SUMMARY:Trivia Nights - Throwbacks on 46
DESCRIPTION:
URL:https://thedistricton46.com/event/trivia-nights-throwbacks-on-46/2027-04-28/
CATEGORIES:Throwbacks On 46
END:VEVENT
BEGIN:VEVENT
DTSTART;TZID=America/Chicago:20270429T190000
DTEND;TZID=America/Chicago:20270429T230000
DTSTAMP:20260424T074014
CREATED:20251208T173607Z
LAST-MODIFIED:20251208T173921Z
UID:10000737-1809025200-1809039600@thedistricton46.com
SUMMARY:Karaoke Nights - Throwbacks on 46
DESCRIPTION:
URL:https://thedistricton46.com/event/karaoke-nights-throwbacks-on-46/2027-04-29/
CATEGORIES:Throwbacks On 46
END:VEVENT
BEGIN:VEVENT
DTSTART;TZID=America/Chicago:20270430T190000
DTEND;TZID=America/Chicago:20270430T230000
DTSTAMP:20260424T074014
CREATED:20260424T004219Z
LAST-MODIFIED:20260424T004219Z
UID:10001340-1809111600-1809126000@thedistricton46.com
SUMMARY:Karaoke Nights - Throwbacks on 46
DESCRIPTION:
URL:https://thedistricton46.com/event/karaoke-nights-throwbacks-on-46-2/2027-04-30/
CATEGORIES:Throwbacks On 46
END:VEVENT
BEGIN:VEVENT
DTSTART;TZID=America/Chicago:20270505T190000
DTEND;TZID=America/Chicago:20270505T203000
DTSTAMP:20260424T074014
CREATED:20251208T173447Z
LAST-MODIFIED:20251208T173908Z
UID:10000477-1809543600-1809549000@thedistricton46.com
SUMMARY:Trivia Nights - Throwbacks on 46
DESCRIPTION:
URL:https://thedistricton46.com/event/trivia-nights-throwbacks-on-46/2027-05-05/
CATEGORIES:Throwbacks On 46
END:VEVENT
BEGIN:VEVENT
DTSTART;TZID=America/Chicago:20270506T190000
DTEND;TZID=America/Chicago:20270506T230000
DTSTAMP:20260424T074014
CREATED:20251208T173607Z
LAST-MODIFIED:20251208T173921Z
UID:10000738-1809630000-1809644400@thedistricton46.com
SUMMARY:Karaoke Nights - Throwbacks on 46
DESCRIPTION:
URL:https://thedistricton46.com/event/karaoke-nights-throwbacks-on-46/2027-05-06/
CATEGORIES:Throwbacks On 46
END:VEVENT
BEGIN:VEVENT
DTSTART;TZID=America/Chicago:20270507T190000
DTEND;TZID=America/Chicago:20270507T230000
DTSTAMP:20260424T074014
CREATED:20260424T004219Z
LAST-MODIFIED:20260424T004219Z
UID:10001341-1809716400-1809730800@thedistricton46.com
SUMMARY:Karaoke Nights - Throwbacks on 46
DESCRIPTION:
URL:https://thedistricton46.com/event/karaoke-nights-throwbacks-on-46-2/2027-05-07/
CATEGORIES:Throwbacks On 46
END:VEVENT
BEGIN:VEVENT
DTSTART;TZID=America/Chicago:20270512T190000
DTEND;TZID=America/Chicago:20270512T203000
DTSTAMP:20260424T074014
CREATED:20251208T173447Z
LAST-MODIFIED:20251208T173908Z
UID:10000478-1810148400-1810153800@thedistricton46.com
SUMMARY:Trivia Nights - Throwbacks on 46
DESCRIPTION:
URL:https://thedistricton46.com/event/trivia-nights-throwbacks-on-46/2027-05-12/
CATEGORIES:Throwbacks On 46
END:VEVENT
BEGIN:VEVENT
DTSTART;TZID=America/Chicago:20270513T190000
DTEND;TZID=America/Chicago:20270513T230000
DTSTAMP:20260424T074014
CREATED:20251208T173607Z
LAST-MODIFIED:20251208T173921Z
UID:10000739-1810234800-1810249200@thedistricton46.com
SUMMARY:Karaoke Nights - Throwbacks on 46
DESCRIPTION:
URL:https://thedistricton46.com/event/karaoke-nights-throwbacks-on-46/2027-05-13/
CATEGORIES:Throwbacks On 46
END:VEVENT
BEGIN:VEVENT
DTSTART;TZID=America/Chicago:20270514T190000
DTEND;TZID=America/Chicago:20270514T230000
DTSTAMP:20260424T074014
CREATED:20260424T004219Z
LAST-MODIFIED:20260424T004219Z
UID:10001342-1810321200-1810335600@thedistricton46.com
SUMMARY:Karaoke Nights - Throwbacks on 46
DESCRIPTION:
URL:https://thedistricton46.com/event/karaoke-nights-throwbacks-on-46-2/2027-05-14/
CATEGORIES:Throwbacks On 46
END:VEVENT
BEGIN:VEVENT
DTSTART;TZID=America/Chicago:20270519T190000
DTEND;TZID=America/Chicago:20270519T203000
DTSTAMP:20260424T074014
CREATED:20251208T173447Z
LAST-MODIFIED:20251208T173908Z
UID:10000479-1810753200-1810758600@thedistricton46.com
SUMMARY:Trivia Nights - Throwbacks on 46
DESCRIPTION:
URL:https://thedistricton46.com/event/trivia-nights-throwbacks-on-46/2027-05-19/
CATEGORIES:Throwbacks On 46
END:VEVENT
BEGIN:VEVENT
DTSTART;TZID=America/Chicago:20270520T190000
DTEND;TZID=America/Chicago:20270520T230000
DTSTAMP:20260424T074014
CREATED:20251208T173607Z
LAST-MODIFIED:20251208T173921Z
UID:10000740-1810839600-1810854000@thedistricton46.com
SUMMARY:Karaoke Nights - Throwbacks on 46
DESCRIPTION:
URL:https://thedistricton46.com/event/karaoke-nights-throwbacks-on-46/2027-05-20/
CATEGORIES:Throwbacks On 46
END:VEVENT
BEGIN:VEVENT
DTSTART;TZID=America/Chicago:20270521T190000
DTEND;TZID=America/Chicago:20270521T230000
DTSTAMP:20260424T074014
CREATED:20260424T004219Z
LAST-MODIFIED:20260424T004219Z
UID:10001343-1810926000-1810940400@thedistricton46.com
SUMMARY:Karaoke Nights - Throwbacks on 46
DESCRIPTION:
URL:https://thedistricton46.com/event/karaoke-nights-throwbacks-on-46-2/2027-05-21/
CATEGORIES:Throwbacks On 46
END:VEVENT
BEGIN:VEVENT
DTSTART;TZID=America/Chicago:20270526T190000
DTEND;TZID=America/Chicago:20270526T203000
DTSTAMP:20260424T074014
CREATED:20251208T173447Z
LAST-MODIFIED:20251208T173908Z
UID:10000480-1811358000-1811363400@thedistricton46.com
SUMMARY:Trivia Nights - Throwbacks on 46
DESCRIPTION:
URL:https://thedistricton46.com/event/trivia-nights-throwbacks-on-46/2027-05-26/
CATEGORIES:Throwbacks On 46
END:VEVENT
BEGIN:VEVENT
DTSTART;TZID=America/Chicago:20270527T190000
DTEND;TZID=America/Chicago:20270527T230000
DTSTAMP:20260424T074014
CREATED:20251208T173607Z
LAST-MODIFIED:20251208T173921Z
UID:10000741-1811444400-1811458800@thedistricton46.com
SUMMARY:Karaoke Nights - Throwbacks on 46
DESCRIPTION:
URL:https://thedistricton46.com/event/karaoke-nights-throwbacks-on-46/2027-05-27/
CATEGORIES:Throwbacks On 46
END:VEVENT
BEGIN:VEVENT
DTSTART;TZID=America/Chicago:20270528T190000
DTEND;TZID=America/Chicago:20270528T230000
DTSTAMP:20260424T074014
CREATED:20260424T004219Z
LAST-MODIFIED:20260424T004219Z
UID:10001344-1811530800-1811545200@thedistricton46.com
SUMMARY:Karaoke Nights - Throwbacks on 46
DESCRIPTION:
URL:https://thedistricton46.com/event/karaoke-nights-throwbacks-on-46-2/2027-05-28/
CATEGORIES:Throwbacks On 46
END:VEVENT
END:VCALENDAR