BEGIN:VCALENDAR
VERSION:2.0
PRODID:-//The District On 46 - ECPv6.15.20//NONSGML v1.0//EN
CALSCALE:GREGORIAN
METHOD:PUBLISH
X-WR-CALNAME:The District On 46
X-ORIGINAL-URL:https://thedistricton46.com
X-WR-CALDESC:Events for The District On 46
REFRESH-INTERVAL;VALUE=DURATION:PT1H
X-Robots-Tag:noindex
X-PUBLISHED-TTL:PT1H
BEGIN:VTIMEZONE
TZID:America/Chicago
BEGIN:DAYLIGHT
TZOFFSETFROM:-0600
TZOFFSETTO:-0500
TZNAME:CDT
DTSTART:20270314T080000
END:DAYLIGHT
BEGIN:STANDARD
TZOFFSETFROM:-0500
TZOFFSETTO:-0600
TZNAME:CST
DTSTART:20271107T070000
END:STANDARD
BEGIN:DAYLIGHT
TZOFFSETFROM:-0600
TZOFFSETTO:-0500
TZNAME:CDT
DTSTART:20280312T080000
END:DAYLIGHT
BEGIN:STANDARD
TZOFFSETFROM:-0500
TZOFFSETTO:-0600
TZNAME:CST
DTSTART:20281105T070000
END:STANDARD
BEGIN:DAYLIGHT
TZOFFSETFROM:-0600
TZOFFSETTO:-0500
TZNAME:CDT
DTSTART:20290311T080000
END:DAYLIGHT
BEGIN:STANDARD
TZOFFSETFROM:-0500
TZOFFSETTO:-0600
TZNAME:CST
DTSTART:20291104T070000
END:STANDARD
END:VTIMEZONE
BEGIN:VEVENT
DTSTART;TZID=America/Chicago:20280712T190000
DTEND;TZID=America/Chicago:20280712T203000
DTSTAMP:20260425T103345
CREATED:20251208T173447Z
LAST-MODIFIED:20251208T173908Z
UID:10000539-1847041200-1847046600@thedistricton46.com
SUMMARY:Trivia Nights - Throwbacks on 46
DESCRIPTION:
URL:https://thedistricton46.com/event/trivia-nights-throwbacks-on-46/2028-07-12/
CATEGORIES:Throwbacks On 46
END:VEVENT
BEGIN:VEVENT
DTSTART;TZID=America/Chicago:20280713T190000
DTEND;TZID=America/Chicago:20280713T230000
DTSTAMP:20260425T103345
CREATED:20251208T173607Z
LAST-MODIFIED:20251208T173921Z
UID:10000800-1847127600-1847142000@thedistricton46.com
SUMMARY:Karaoke Nights - Throwbacks on 46
DESCRIPTION:
URL:https://thedistricton46.com/event/karaoke-nights-throwbacks-on-46/2028-07-13/
CATEGORIES:Throwbacks On 46
END:VEVENT
BEGIN:VEVENT
DTSTART;TZID=America/Chicago:20280714T190000
DTEND;TZID=America/Chicago:20280714T230000
DTSTAMP:20260425T103345
CREATED:20260424T004219Z
LAST-MODIFIED:20260424T004219Z
UID:10001403-1847214000-1847228400@thedistricton46.com
SUMMARY:Karaoke Nights - Throwbacks on 46
DESCRIPTION:
URL:https://thedistricton46.com/event/karaoke-nights-throwbacks-on-46-2/2028-07-14/
CATEGORIES:Throwbacks On 46
END:VEVENT
BEGIN:VEVENT
DTSTART;TZID=America/Chicago:20280719T190000
DTEND;TZID=America/Chicago:20280719T203000
DTSTAMP:20260425T103345
CREATED:20251208T173447Z
LAST-MODIFIED:20251208T173908Z
UID:10000540-1847646000-1847651400@thedistricton46.com
SUMMARY:Trivia Nights - Throwbacks on 46
DESCRIPTION:
URL:https://thedistricton46.com/event/trivia-nights-throwbacks-on-46/2028-07-19/
CATEGORIES:Throwbacks On 46
END:VEVENT
BEGIN:VEVENT
DTSTART;TZID=America/Chicago:20280720T190000
DTEND;TZID=America/Chicago:20280720T230000
DTSTAMP:20260425T103345
CREATED:20251208T173607Z
LAST-MODIFIED:20251208T173921Z
UID:10000801-1847732400-1847746800@thedistricton46.com
SUMMARY:Karaoke Nights - Throwbacks on 46
DESCRIPTION:
URL:https://thedistricton46.com/event/karaoke-nights-throwbacks-on-46/2028-07-20/
CATEGORIES:Throwbacks On 46
END:VEVENT
BEGIN:VEVENT
DTSTART;TZID=America/Chicago:20280721T190000
DTEND;TZID=America/Chicago:20280721T230000
DTSTAMP:20260425T103345
CREATED:20260424T004219Z
LAST-MODIFIED:20260424T004219Z
UID:10001404-1847818800-1847833200@thedistricton46.com
SUMMARY:Karaoke Nights - Throwbacks on 46
DESCRIPTION:
URL:https://thedistricton46.com/event/karaoke-nights-throwbacks-on-46-2/2028-07-21/
CATEGORIES:Throwbacks On 46
END:VEVENT
BEGIN:VEVENT
DTSTART;TZID=America/Chicago:20280726T190000
DTEND;TZID=America/Chicago:20280726T203000
DTSTAMP:20260425T103345
CREATED:20251208T173447Z
LAST-MODIFIED:20251208T173908Z
UID:10000541-1848250800-1848256200@thedistricton46.com
SUMMARY:Trivia Nights - Throwbacks on 46
DESCRIPTION:
URL:https://thedistricton46.com/event/trivia-nights-throwbacks-on-46/2028-07-26/
CATEGORIES:Throwbacks On 46
END:VEVENT
BEGIN:VEVENT
DTSTART;TZID=America/Chicago:20280727T190000
DTEND;TZID=America/Chicago:20280727T230000
DTSTAMP:20260425T103345
CREATED:20251208T173607Z
LAST-MODIFIED:20251208T173921Z
UID:10000802-1848337200-1848351600@thedistricton46.com
SUMMARY:Karaoke Nights - Throwbacks on 46
DESCRIPTION:
URL:https://thedistricton46.com/event/karaoke-nights-throwbacks-on-46/2028-07-27/
CATEGORIES:Throwbacks On 46
END:VEVENT
BEGIN:VEVENT
DTSTART;TZID=America/Chicago:20280728T190000
DTEND;TZID=America/Chicago:20280728T230000
DTSTAMP:20260425T103345
CREATED:20260424T004219Z
LAST-MODIFIED:20260424T004219Z
UID:10001405-1848423600-1848438000@thedistricton46.com
SUMMARY:Karaoke Nights - Throwbacks on 46
DESCRIPTION:
URL:https://thedistricton46.com/event/karaoke-nights-throwbacks-on-46-2/2028-07-28/
CATEGORIES:Throwbacks On 46
END:VEVENT
BEGIN:VEVENT
DTSTART;TZID=America/Chicago:20280802T190000
DTEND;TZID=America/Chicago:20280802T203000
DTSTAMP:20260425T103345
CREATED:20251208T173447Z
LAST-MODIFIED:20251208T173908Z
UID:10000542-1848855600-1848861000@thedistricton46.com
SUMMARY:Trivia Nights - Throwbacks on 46
DESCRIPTION:
URL:https://thedistricton46.com/event/trivia-nights-throwbacks-on-46/2028-08-02/
CATEGORIES:Throwbacks On 46
END:VEVENT
BEGIN:VEVENT
DTSTART;TZID=America/Chicago:20280803T190000
DTEND;TZID=America/Chicago:20280803T230000
DTSTAMP:20260425T103345
CREATED:20251208T173607Z
LAST-MODIFIED:20251208T173921Z
UID:10000803-1848942000-1848956400@thedistricton46.com
SUMMARY:Karaoke Nights - Throwbacks on 46
DESCRIPTION:
URL:https://thedistricton46.com/event/karaoke-nights-throwbacks-on-46/2028-08-03/
CATEGORIES:Throwbacks On 46
END:VEVENT
BEGIN:VEVENT
DTSTART;TZID=America/Chicago:20280804T190000
DTEND;TZID=America/Chicago:20280804T230000
DTSTAMP:20260425T103345
CREATED:20260424T004219Z
LAST-MODIFIED:20260424T004219Z
UID:10001406-1849028400-1849042800@thedistricton46.com
SUMMARY:Karaoke Nights - Throwbacks on 46
DESCRIPTION:
URL:https://thedistricton46.com/event/karaoke-nights-throwbacks-on-46-2/2028-08-04/
CATEGORIES:Throwbacks On 46
END:VEVENT
BEGIN:VEVENT
DTSTART;TZID=America/Chicago:20280809T190000
DTEND;TZID=America/Chicago:20280809T203000
DTSTAMP:20260425T103345
CREATED:20251208T173447Z
LAST-MODIFIED:20251208T173908Z
UID:10000543-1849460400-1849465800@thedistricton46.com
SUMMARY:Trivia Nights - Throwbacks on 46
DESCRIPTION:
URL:https://thedistricton46.com/event/trivia-nights-throwbacks-on-46/2028-08-09/
CATEGORIES:Throwbacks On 46
END:VEVENT
BEGIN:VEVENT
DTSTART;TZID=America/Chicago:20280810T190000
DTEND;TZID=America/Chicago:20280810T230000
DTSTAMP:20260425T103345
CREATED:20251208T173607Z
LAST-MODIFIED:20251208T173921Z
UID:10000804-1849546800-1849561200@thedistricton46.com
SUMMARY:Karaoke Nights - Throwbacks on 46
DESCRIPTION:
URL:https://thedistricton46.com/event/karaoke-nights-throwbacks-on-46/2028-08-10/
CATEGORIES:Throwbacks On 46
END:VEVENT
BEGIN:VEVENT
DTSTART;TZID=America/Chicago:20280811T190000
DTEND;TZID=America/Chicago:20280811T230000
DTSTAMP:20260425T103345
CREATED:20260424T004219Z
LAST-MODIFIED:20260424T004219Z
UID:10001407-1849633200-1849647600@thedistricton46.com
SUMMARY:Karaoke Nights - Throwbacks on 46
DESCRIPTION:
URL:https://thedistricton46.com/event/karaoke-nights-throwbacks-on-46-2/2028-08-11/
CATEGORIES:Throwbacks On 46
END:VEVENT
BEGIN:VEVENT
DTSTART;TZID=America/Chicago:20280816T190000
DTEND;TZID=America/Chicago:20280816T203000
DTSTAMP:20260425T103345
CREATED:20251208T173447Z
LAST-MODIFIED:20251208T173908Z
UID:10000544-1850065200-1850070600@thedistricton46.com
SUMMARY:Trivia Nights - Throwbacks on 46
DESCRIPTION:
URL:https://thedistricton46.com/event/trivia-nights-throwbacks-on-46/2028-08-16/
CATEGORIES:Throwbacks On 46
END:VEVENT
BEGIN:VEVENT
DTSTART;TZID=America/Chicago:20280817T190000
DTEND;TZID=America/Chicago:20280817T230000
DTSTAMP:20260425T103345
CREATED:20251208T173607Z
LAST-MODIFIED:20251208T173921Z
UID:10000805-1850151600-1850166000@thedistricton46.com
SUMMARY:Karaoke Nights - Throwbacks on 46
DESCRIPTION:
URL:https://thedistricton46.com/event/karaoke-nights-throwbacks-on-46/2028-08-17/
CATEGORIES:Throwbacks On 46
END:VEVENT
BEGIN:VEVENT
DTSTART;TZID=America/Chicago:20280818T190000
DTEND;TZID=America/Chicago:20280818T230000
DTSTAMP:20260425T103345
CREATED:20260424T004219Z
LAST-MODIFIED:20260424T004219Z
UID:10001408-1850238000-1850252400@thedistricton46.com
SUMMARY:Karaoke Nights - Throwbacks on 46
DESCRIPTION:
URL:https://thedistricton46.com/event/karaoke-nights-throwbacks-on-46-2/2028-08-18/
CATEGORIES:Throwbacks On 46
END:VEVENT
BEGIN:VEVENT
DTSTART;TZID=America/Chicago:20280823T190000
DTEND;TZID=America/Chicago:20280823T203000
DTSTAMP:20260425T103345
CREATED:20251208T173447Z
LAST-MODIFIED:20251208T173908Z
UID:10000545-1850670000-1850675400@thedistricton46.com
SUMMARY:Trivia Nights - Throwbacks on 46
DESCRIPTION:
URL:https://thedistricton46.com/event/trivia-nights-throwbacks-on-46/2028-08-23/
CATEGORIES:Throwbacks On 46
END:VEVENT
BEGIN:VEVENT
DTSTART;TZID=America/Chicago:20280824T190000
DTEND;TZID=America/Chicago:20280824T230000
DTSTAMP:20260425T103345
CREATED:20251208T173607Z
LAST-MODIFIED:20251208T173921Z
UID:10000806-1850756400-1850770800@thedistricton46.com
SUMMARY:Karaoke Nights - Throwbacks on 46
DESCRIPTION:
URL:https://thedistricton46.com/event/karaoke-nights-throwbacks-on-46/2028-08-24/
CATEGORIES:Throwbacks On 46
END:VEVENT
BEGIN:VEVENT
DTSTART;TZID=America/Chicago:20280825T190000
DTEND;TZID=America/Chicago:20280825T230000
DTSTAMP:20260425T103345
CREATED:20260424T004219Z
LAST-MODIFIED:20260424T004219Z
UID:10001409-1850842800-1850857200@thedistricton46.com
SUMMARY:Karaoke Nights - Throwbacks on 46
DESCRIPTION:
URL:https://thedistricton46.com/event/karaoke-nights-throwbacks-on-46-2/2028-08-25/
CATEGORIES:Throwbacks On 46
END:VEVENT
BEGIN:VEVENT
DTSTART;TZID=America/Chicago:20280830T190000
DTEND;TZID=America/Chicago:20280830T203000
DTSTAMP:20260425T103345
CREATED:20251208T173447Z
LAST-MODIFIED:20251208T173908Z
UID:10000546-1851274800-1851280200@thedistricton46.com
SUMMARY:Trivia Nights - Throwbacks on 46
DESCRIPTION:
URL:https://thedistricton46.com/event/trivia-nights-throwbacks-on-46/2028-08-30/
CATEGORIES:Throwbacks On 46
END:VEVENT
BEGIN:VEVENT
DTSTART;TZID=America/Chicago:20280831T190000
DTEND;TZID=America/Chicago:20280831T230000
DTSTAMP:20260425T103345
CREATED:20251208T173607Z
LAST-MODIFIED:20251208T173921Z
UID:10000807-1851361200-1851375600@thedistricton46.com
SUMMARY:Karaoke Nights - Throwbacks on 46
DESCRIPTION:
URL:https://thedistricton46.com/event/karaoke-nights-throwbacks-on-46/2028-08-31/
CATEGORIES:Throwbacks On 46
END:VEVENT
BEGIN:VEVENT
DTSTART;TZID=America/Chicago:20280901T190000
DTEND;TZID=America/Chicago:20280901T230000
DTSTAMP:20260425T103345
CREATED:20260424T004219Z
LAST-MODIFIED:20260424T004219Z
UID:10001410-1851447600-1851462000@thedistricton46.com
SUMMARY:Karaoke Nights - Throwbacks on 46
DESCRIPTION:
URL:https://thedistricton46.com/event/karaoke-nights-throwbacks-on-46-2/2028-09-01/
CATEGORIES:Throwbacks On 46
END:VEVENT
BEGIN:VEVENT
DTSTART;TZID=America/Chicago:20280906T190000
DTEND;TZID=America/Chicago:20280906T203000
DTSTAMP:20260425T103345
CREATED:20251208T173447Z
LAST-MODIFIED:20251208T173908Z
UID:10000547-1851879600-1851885000@thedistricton46.com
SUMMARY:Trivia Nights - Throwbacks on 46
DESCRIPTION:
URL:https://thedistricton46.com/event/trivia-nights-throwbacks-on-46/2028-09-06/
CATEGORIES:Throwbacks On 46
END:VEVENT
BEGIN:VEVENT
DTSTART;TZID=America/Chicago:20280907T190000
DTEND;TZID=America/Chicago:20280907T230000
DTSTAMP:20260425T103345
CREATED:20251208T173607Z
LAST-MODIFIED:20251208T173921Z
UID:10000808-1851966000-1851980400@thedistricton46.com
SUMMARY:Karaoke Nights - Throwbacks on 46
DESCRIPTION:
URL:https://thedistricton46.com/event/karaoke-nights-throwbacks-on-46/2028-09-07/
CATEGORIES:Throwbacks On 46
END:VEVENT
BEGIN:VEVENT
DTSTART;TZID=America/Chicago:20280908T190000
DTEND;TZID=America/Chicago:20280908T230000
DTSTAMP:20260425T103345
CREATED:20260424T004219Z
LAST-MODIFIED:20260424T004219Z
UID:10001411-1852052400-1852066800@thedistricton46.com
SUMMARY:Karaoke Nights - Throwbacks on 46
DESCRIPTION:
URL:https://thedistricton46.com/event/karaoke-nights-throwbacks-on-46-2/2028-09-08/
CATEGORIES:Throwbacks On 46
END:VEVENT
BEGIN:VEVENT
DTSTART;TZID=America/Chicago:20280913T190000
DTEND;TZID=America/Chicago:20280913T203000
DTSTAMP:20260425T103345
CREATED:20251208T173447Z
LAST-MODIFIED:20251208T173908Z
UID:10000548-1852484400-1852489800@thedistricton46.com
SUMMARY:Trivia Nights - Throwbacks on 46
DESCRIPTION:
URL:https://thedistricton46.com/event/trivia-nights-throwbacks-on-46/2028-09-13/
CATEGORIES:Throwbacks On 46
END:VEVENT
BEGIN:VEVENT
DTSTART;TZID=America/Chicago:20280914T190000
DTEND;TZID=America/Chicago:20280914T230000
DTSTAMP:20260425T103345
CREATED:20251208T173607Z
LAST-MODIFIED:20251208T173921Z
UID:10000809-1852570800-1852585200@thedistricton46.com
SUMMARY:Karaoke Nights - Throwbacks on 46
DESCRIPTION:
URL:https://thedistricton46.com/event/karaoke-nights-throwbacks-on-46/2028-09-14/
CATEGORIES:Throwbacks On 46
END:VEVENT
BEGIN:VEVENT
DTSTART;TZID=America/Chicago:20280915T190000
DTEND;TZID=America/Chicago:20280915T230000
DTSTAMP:20260425T103345
CREATED:20260424T004219Z
LAST-MODIFIED:20260424T004219Z
UID:10001412-1852657200-1852671600@thedistricton46.com
SUMMARY:Karaoke Nights - Throwbacks on 46
DESCRIPTION:
URL:https://thedistricton46.com/event/karaoke-nights-throwbacks-on-46-2/2028-09-15/
CATEGORIES:Throwbacks On 46
END:VEVENT
END:VCALENDAR