BEGIN:VCALENDAR
VERSION:2.0
PRODID:-//The District On 46 - ECPv6.15.20//NONSGML v1.0//EN
CALSCALE:GREGORIAN
METHOD:PUBLISH
X-WR-CALNAME:The District On 46
X-ORIGINAL-URL:https://thedistricton46.com
X-WR-CALDESC:Events for The District On 46
REFRESH-INTERVAL;VALUE=DURATION:PT1H
X-Robots-Tag:noindex
X-PUBLISHED-TTL:PT1H
BEGIN:VTIMEZONE
TZID:America/Chicago
BEGIN:DAYLIGHT
TZOFFSETFROM:-0600
TZOFFSETTO:-0500
TZNAME:CDT
DTSTART:20270314T080000
END:DAYLIGHT
BEGIN:STANDARD
TZOFFSETFROM:-0500
TZOFFSETTO:-0600
TZNAME:CST
DTSTART:20271107T070000
END:STANDARD
BEGIN:DAYLIGHT
TZOFFSETFROM:-0600
TZOFFSETTO:-0500
TZNAME:CDT
DTSTART:20280312T080000
END:DAYLIGHT
BEGIN:STANDARD
TZOFFSETFROM:-0500
TZOFFSETTO:-0600
TZNAME:CST
DTSTART:20281105T070000
END:STANDARD
BEGIN:DAYLIGHT
TZOFFSETFROM:-0600
TZOFFSETTO:-0500
TZNAME:CDT
DTSTART:20290311T080000
END:DAYLIGHT
BEGIN:STANDARD
TZOFFSETFROM:-0500
TZOFFSETTO:-0600
TZNAME:CST
DTSTART:20291104T070000
END:STANDARD
END:VTIMEZONE
BEGIN:VEVENT
DTSTART;TZID=America/Chicago:20281018T190000
DTEND;TZID=America/Chicago:20281018T203000
DTSTAMP:20260425T120121
CREATED:20251208T173447Z
LAST-MODIFIED:20251208T173908Z
UID:10000553-1855508400-1855513800@thedistricton46.com
SUMMARY:Trivia Nights - Throwbacks on 46
DESCRIPTION:
URL:https://thedistricton46.com/event/trivia-nights-throwbacks-on-46/2028-10-18/
CATEGORIES:Throwbacks On 46
END:VEVENT
BEGIN:VEVENT
DTSTART;TZID=America/Chicago:20281019T190000
DTEND;TZID=America/Chicago:20281019T230000
DTSTAMP:20260425T120121
CREATED:20251208T173607Z
LAST-MODIFIED:20251208T173921Z
UID:10000814-1855594800-1855609200@thedistricton46.com
SUMMARY:Karaoke Nights - Throwbacks on 46
DESCRIPTION:
URL:https://thedistricton46.com/event/karaoke-nights-throwbacks-on-46/2028-10-19/
CATEGORIES:Throwbacks On 46
END:VEVENT
BEGIN:VEVENT
DTSTART;TZID=America/Chicago:20281020T190000
DTEND;TZID=America/Chicago:20281020T230000
DTSTAMP:20260425T120121
CREATED:20260424T004219Z
LAST-MODIFIED:20260424T004219Z
UID:10001417-1855681200-1855695600@thedistricton46.com
SUMMARY:Karaoke Nights - Throwbacks on 46
DESCRIPTION:
URL:https://thedistricton46.com/event/karaoke-nights-throwbacks-on-46-2/2028-10-20/
CATEGORIES:Throwbacks On 46
END:VEVENT
BEGIN:VEVENT
DTSTART;TZID=America/Chicago:20281025T190000
DTEND;TZID=America/Chicago:20281025T203000
DTSTAMP:20260425T120121
CREATED:20251208T173447Z
LAST-MODIFIED:20251208T173908Z
UID:10000554-1856113200-1856118600@thedistricton46.com
SUMMARY:Trivia Nights - Throwbacks on 46
DESCRIPTION:
URL:https://thedistricton46.com/event/trivia-nights-throwbacks-on-46/2028-10-25/
CATEGORIES:Throwbacks On 46
END:VEVENT
BEGIN:VEVENT
DTSTART;TZID=America/Chicago:20281026T190000
DTEND;TZID=America/Chicago:20281026T230000
DTSTAMP:20260425T120121
CREATED:20251208T173607Z
LAST-MODIFIED:20251208T173921Z
UID:10000815-1856199600-1856214000@thedistricton46.com
SUMMARY:Karaoke Nights - Throwbacks on 46
DESCRIPTION:
URL:https://thedistricton46.com/event/karaoke-nights-throwbacks-on-46/2028-10-26/
CATEGORIES:Throwbacks On 46
END:VEVENT
BEGIN:VEVENT
DTSTART;TZID=America/Chicago:20281027T190000
DTEND;TZID=America/Chicago:20281027T230000
DTSTAMP:20260425T120121
CREATED:20260424T004219Z
LAST-MODIFIED:20260424T004219Z
UID:10001418-1856286000-1856300400@thedistricton46.com
SUMMARY:Karaoke Nights - Throwbacks on 46
DESCRIPTION:
URL:https://thedistricton46.com/event/karaoke-nights-throwbacks-on-46-2/2028-10-27/
CATEGORIES:Throwbacks On 46
END:VEVENT
BEGIN:VEVENT
DTSTART;TZID=America/Chicago:20281101T190000
DTEND;TZID=America/Chicago:20281101T203000
DTSTAMP:20260425T120121
CREATED:20251208T173447Z
LAST-MODIFIED:20251208T173908Z
UID:10000555-1856718000-1856723400@thedistricton46.com
SUMMARY:Trivia Nights - Throwbacks on 46
DESCRIPTION:
URL:https://thedistricton46.com/event/trivia-nights-throwbacks-on-46/2028-11-01/
CATEGORIES:Throwbacks On 46
END:VEVENT
BEGIN:VEVENT
DTSTART;TZID=America/Chicago:20281102T190000
DTEND;TZID=America/Chicago:20281102T230000
DTSTAMP:20260425T120121
CREATED:20251208T173607Z
LAST-MODIFIED:20251208T173921Z
UID:10000816-1856804400-1856818800@thedistricton46.com
SUMMARY:Karaoke Nights - Throwbacks on 46
DESCRIPTION:
URL:https://thedistricton46.com/event/karaoke-nights-throwbacks-on-46/2028-11-02/
CATEGORIES:Throwbacks On 46
END:VEVENT
BEGIN:VEVENT
DTSTART;TZID=America/Chicago:20281103T190000
DTEND;TZID=America/Chicago:20281103T230000
DTSTAMP:20260425T120121
CREATED:20260424T004219Z
LAST-MODIFIED:20260424T004219Z
UID:10001419-1856890800-1856905200@thedistricton46.com
SUMMARY:Karaoke Nights - Throwbacks on 46
DESCRIPTION:
URL:https://thedistricton46.com/event/karaoke-nights-throwbacks-on-46-2/2028-11-03/
CATEGORIES:Throwbacks On 46
END:VEVENT
BEGIN:VEVENT
DTSTART;TZID=America/Chicago:20281108T190000
DTEND;TZID=America/Chicago:20281108T203000
DTSTAMP:20260425T120121
CREATED:20251208T173447Z
LAST-MODIFIED:20251208T173908Z
UID:10000556-1857322800-1857328200@thedistricton46.com
SUMMARY:Trivia Nights - Throwbacks on 46
DESCRIPTION:
URL:https://thedistricton46.com/event/trivia-nights-throwbacks-on-46/2028-11-08/
CATEGORIES:Throwbacks On 46
END:VEVENT
BEGIN:VEVENT
DTSTART;TZID=America/Chicago:20281109T190000
DTEND;TZID=America/Chicago:20281109T230000
DTSTAMP:20260425T120121
CREATED:20251208T173607Z
LAST-MODIFIED:20251208T173921Z
UID:10000817-1857409200-1857423600@thedistricton46.com
SUMMARY:Karaoke Nights - Throwbacks on 46
DESCRIPTION:
URL:https://thedistricton46.com/event/karaoke-nights-throwbacks-on-46/2028-11-09/
CATEGORIES:Throwbacks On 46
END:VEVENT
BEGIN:VEVENT
DTSTART;TZID=America/Chicago:20281110T190000
DTEND;TZID=America/Chicago:20281110T230000
DTSTAMP:20260425T120121
CREATED:20260424T004219Z
LAST-MODIFIED:20260424T004219Z
UID:10001420-1857495600-1857510000@thedistricton46.com
SUMMARY:Karaoke Nights - Throwbacks on 46
DESCRIPTION:
URL:https://thedistricton46.com/event/karaoke-nights-throwbacks-on-46-2/2028-11-10/
CATEGORIES:Throwbacks On 46
END:VEVENT
BEGIN:VEVENT
DTSTART;TZID=America/Chicago:20281115T190000
DTEND;TZID=America/Chicago:20281115T203000
DTSTAMP:20260425T120121
CREATED:20251208T173447Z
LAST-MODIFIED:20251208T173908Z
UID:10000557-1857927600-1857933000@thedistricton46.com
SUMMARY:Trivia Nights - Throwbacks on 46
DESCRIPTION:
URL:https://thedistricton46.com/event/trivia-nights-throwbacks-on-46/2028-11-15/
CATEGORIES:Throwbacks On 46
END:VEVENT
BEGIN:VEVENT
DTSTART;TZID=America/Chicago:20281116T190000
DTEND;TZID=America/Chicago:20281116T230000
DTSTAMP:20260425T120121
CREATED:20251208T173607Z
LAST-MODIFIED:20251208T173921Z
UID:10000818-1858014000-1858028400@thedistricton46.com
SUMMARY:Karaoke Nights - Throwbacks on 46
DESCRIPTION:
URL:https://thedistricton46.com/event/karaoke-nights-throwbacks-on-46/2028-11-16/
CATEGORIES:Throwbacks On 46
END:VEVENT
BEGIN:VEVENT
DTSTART;TZID=America/Chicago:20281117T190000
DTEND;TZID=America/Chicago:20281117T230000
DTSTAMP:20260425T120121
CREATED:20260424T004219Z
LAST-MODIFIED:20260424T004219Z
UID:10001421-1858100400-1858114800@thedistricton46.com
SUMMARY:Karaoke Nights - Throwbacks on 46
DESCRIPTION:
URL:https://thedistricton46.com/event/karaoke-nights-throwbacks-on-46-2/2028-11-17/
CATEGORIES:Throwbacks On 46
END:VEVENT
BEGIN:VEVENT
DTSTART;TZID=America/Chicago:20281122T190000
DTEND;TZID=America/Chicago:20281122T203000
DTSTAMP:20260425T120121
CREATED:20251208T173447Z
LAST-MODIFIED:20251208T173908Z
UID:10000558-1858532400-1858537800@thedistricton46.com
SUMMARY:Trivia Nights - Throwbacks on 46
DESCRIPTION:
URL:https://thedistricton46.com/event/trivia-nights-throwbacks-on-46/2028-11-22/
CATEGORIES:Throwbacks On 46
END:VEVENT
BEGIN:VEVENT
DTSTART;TZID=America/Chicago:20281123T190000
DTEND;TZID=America/Chicago:20281123T230000
DTSTAMP:20260425T120121
CREATED:20251208T173607Z
LAST-MODIFIED:20251208T173921Z
UID:10000819-1858618800-1858633200@thedistricton46.com
SUMMARY:Karaoke Nights - Throwbacks on 46
DESCRIPTION:
URL:https://thedistricton46.com/event/karaoke-nights-throwbacks-on-46/2028-11-23/
CATEGORIES:Throwbacks On 46
END:VEVENT
BEGIN:VEVENT
DTSTART;TZID=America/Chicago:20281124T190000
DTEND;TZID=America/Chicago:20281124T230000
DTSTAMP:20260425T120121
CREATED:20260424T004219Z
LAST-MODIFIED:20260424T004219Z
UID:10001422-1858705200-1858719600@thedistricton46.com
SUMMARY:Karaoke Nights - Throwbacks on 46
DESCRIPTION:
URL:https://thedistricton46.com/event/karaoke-nights-throwbacks-on-46-2/2028-11-24/
CATEGORIES:Throwbacks On 46
END:VEVENT
BEGIN:VEVENT
DTSTART;TZID=America/Chicago:20281129T190000
DTEND;TZID=America/Chicago:20281129T203000
DTSTAMP:20260425T120121
CREATED:20251208T173447Z
LAST-MODIFIED:20251208T173908Z
UID:10000559-1859137200-1859142600@thedistricton46.com
SUMMARY:Trivia Nights - Throwbacks on 46
DESCRIPTION:
URL:https://thedistricton46.com/event/trivia-nights-throwbacks-on-46/2028-11-29/
CATEGORIES:Throwbacks On 46
END:VEVENT
BEGIN:VEVENT
DTSTART;TZID=America/Chicago:20281130T190000
DTEND;TZID=America/Chicago:20281130T230000
DTSTAMP:20260425T120121
CREATED:20251208T173607Z
LAST-MODIFIED:20251208T173921Z
UID:10000820-1859223600-1859238000@thedistricton46.com
SUMMARY:Karaoke Nights - Throwbacks on 46
DESCRIPTION:
URL:https://thedistricton46.com/event/karaoke-nights-throwbacks-on-46/2028-11-30/
CATEGORIES:Throwbacks On 46
END:VEVENT
BEGIN:VEVENT
DTSTART;TZID=America/Chicago:20281201T190000
DTEND;TZID=America/Chicago:20281201T230000
DTSTAMP:20260425T120121
CREATED:20260424T004219Z
LAST-MODIFIED:20260424T004219Z
UID:10001423-1859310000-1859324400@thedistricton46.com
SUMMARY:Karaoke Nights - Throwbacks on 46
DESCRIPTION:
URL:https://thedistricton46.com/event/karaoke-nights-throwbacks-on-46-2/2028-12-01/
CATEGORIES:Throwbacks On 46
END:VEVENT
BEGIN:VEVENT
DTSTART;TZID=America/Chicago:20281206T190000
DTEND;TZID=America/Chicago:20281206T203000
DTSTAMP:20260425T120121
CREATED:20251208T173447Z
LAST-MODIFIED:20251208T173908Z
UID:10000560-1859742000-1859747400@thedistricton46.com
SUMMARY:Trivia Nights - Throwbacks on 46
DESCRIPTION:
URL:https://thedistricton46.com/event/trivia-nights-throwbacks-on-46/2028-12-06/
CATEGORIES:Throwbacks On 46
END:VEVENT
BEGIN:VEVENT
DTSTART;TZID=America/Chicago:20281207T190000
DTEND;TZID=America/Chicago:20281207T230000
DTSTAMP:20260425T120121
CREATED:20251208T173607Z
LAST-MODIFIED:20251208T173921Z
UID:10000821-1859828400-1859842800@thedistricton46.com
SUMMARY:Karaoke Nights - Throwbacks on 46
DESCRIPTION:
URL:https://thedistricton46.com/event/karaoke-nights-throwbacks-on-46/2028-12-07/
CATEGORIES:Throwbacks On 46
END:VEVENT
BEGIN:VEVENT
DTSTART;TZID=America/Chicago:20281208T190000
DTEND;TZID=America/Chicago:20281208T230000
DTSTAMP:20260425T120121
CREATED:20260424T004219Z
LAST-MODIFIED:20260424T004219Z
UID:10001424-1859914800-1859929200@thedistricton46.com
SUMMARY:Karaoke Nights - Throwbacks on 46
DESCRIPTION:
URL:https://thedistricton46.com/event/karaoke-nights-throwbacks-on-46-2/2028-12-08/
CATEGORIES:Throwbacks On 46
END:VEVENT
BEGIN:VEVENT
DTSTART;TZID=America/Chicago:20281213T190000
DTEND;TZID=America/Chicago:20281213T203000
DTSTAMP:20260425T120121
CREATED:20251208T173447Z
LAST-MODIFIED:20251208T173908Z
UID:10000561-1860346800-1860352200@thedistricton46.com
SUMMARY:Trivia Nights - Throwbacks on 46
DESCRIPTION:
URL:https://thedistricton46.com/event/trivia-nights-throwbacks-on-46/2028-12-13/
CATEGORIES:Throwbacks On 46
END:VEVENT
BEGIN:VEVENT
DTSTART;TZID=America/Chicago:20281214T190000
DTEND;TZID=America/Chicago:20281214T230000
DTSTAMP:20260425T120121
CREATED:20251208T173607Z
LAST-MODIFIED:20251208T173921Z
UID:10000822-1860433200-1860447600@thedistricton46.com
SUMMARY:Karaoke Nights - Throwbacks on 46
DESCRIPTION:
URL:https://thedistricton46.com/event/karaoke-nights-throwbacks-on-46/2028-12-14/
CATEGORIES:Throwbacks On 46
END:VEVENT
BEGIN:VEVENT
DTSTART;TZID=America/Chicago:20281215T190000
DTEND;TZID=America/Chicago:20281215T230000
DTSTAMP:20260425T120121
CREATED:20260424T004219Z
LAST-MODIFIED:20260424T004219Z
UID:10001425-1860519600-1860534000@thedistricton46.com
SUMMARY:Karaoke Nights - Throwbacks on 46
DESCRIPTION:
URL:https://thedistricton46.com/event/karaoke-nights-throwbacks-on-46-2/2028-12-15/
CATEGORIES:Throwbacks On 46
END:VEVENT
BEGIN:VEVENT
DTSTART;TZID=America/Chicago:20281220T190000
DTEND;TZID=America/Chicago:20281220T203000
DTSTAMP:20260425T120121
CREATED:20251208T173447Z
LAST-MODIFIED:20251208T173908Z
UID:10000562-1860951600-1860957000@thedistricton46.com
SUMMARY:Trivia Nights - Throwbacks on 46
DESCRIPTION:
URL:https://thedistricton46.com/event/trivia-nights-throwbacks-on-46/2028-12-20/
CATEGORIES:Throwbacks On 46
END:VEVENT
BEGIN:VEVENT
DTSTART;TZID=America/Chicago:20281221T190000
DTEND;TZID=America/Chicago:20281221T230000
DTSTAMP:20260425T120121
CREATED:20251208T173607Z
LAST-MODIFIED:20251208T173921Z
UID:10000823-1861038000-1861052400@thedistricton46.com
SUMMARY:Karaoke Nights - Throwbacks on 46
DESCRIPTION:
URL:https://thedistricton46.com/event/karaoke-nights-throwbacks-on-46/2028-12-21/
CATEGORIES:Throwbacks On 46
END:VEVENT
BEGIN:VEVENT
DTSTART;TZID=America/Chicago:20281222T190000
DTEND;TZID=America/Chicago:20281222T230000
DTSTAMP:20260425T120121
CREATED:20260424T004219Z
LAST-MODIFIED:20260424T004219Z
UID:10001426-1861124400-1861138800@thedistricton46.com
SUMMARY:Karaoke Nights - Throwbacks on 46
DESCRIPTION:
URL:https://thedistricton46.com/event/karaoke-nights-throwbacks-on-46-2/2028-12-22/
CATEGORIES:Throwbacks On 46
END:VEVENT
END:VCALENDAR