BEGIN:VCALENDAR
VERSION:2.0
PRODID:-//The District On 46 - ECPv6.15.20//NONSGML v1.0//EN
CALSCALE:GREGORIAN
METHOD:PUBLISH
X-WR-CALNAME:The District On 46
X-ORIGINAL-URL:https://thedistricton46.com
X-WR-CALDESC:Events for The District On 46
REFRESH-INTERVAL;VALUE=DURATION:PT1H
X-Robots-Tag:noindex
X-PUBLISHED-TTL:PT1H
BEGIN:VTIMEZONE
TZID:America/Chicago
BEGIN:DAYLIGHT
TZOFFSETFROM:-0600
TZOFFSETTO:-0500
TZNAME:CDT
DTSTART:20280312T080000
END:DAYLIGHT
BEGIN:STANDARD
TZOFFSETFROM:-0500
TZOFFSETTO:-0600
TZNAME:CST
DTSTART:20281105T070000
END:STANDARD
BEGIN:DAYLIGHT
TZOFFSETFROM:-0600
TZOFFSETTO:-0500
TZNAME:CDT
DTSTART:20290311T080000
END:DAYLIGHT
BEGIN:STANDARD
TZOFFSETFROM:-0500
TZOFFSETTO:-0600
TZNAME:CST
DTSTART:20291104T070000
END:STANDARD
BEGIN:DAYLIGHT
TZOFFSETFROM:-0600
TZOFFSETTO:-0500
TZNAME:CDT
DTSTART:20300310T080000
END:DAYLIGHT
BEGIN:STANDARD
TZOFFSETFROM:-0500
TZOFFSETTO:-0600
TZNAME:CST
DTSTART:20301103T070000
END:STANDARD
END:VTIMEZONE
BEGIN:VEVENT
DTSTART;TZID=America/Chicago:20290124T190000
DTEND;TZID=America/Chicago:20290124T203000
DTSTAMP:20260425T182945
CREATED:20251208T173447Z
LAST-MODIFIED:20251208T173908Z
UID:10000567-1863975600-1863981000@thedistricton46.com
SUMMARY:Trivia Nights - Throwbacks on 46
DESCRIPTION:
URL:https://thedistricton46.com/event/trivia-nights-throwbacks-on-46/2029-01-24/
CATEGORIES:Throwbacks On 46
END:VEVENT
BEGIN:VEVENT
DTSTART;TZID=America/Chicago:20290125T190000
DTEND;TZID=America/Chicago:20290125T230000
DTSTAMP:20260425T182945
CREATED:20251208T173607Z
LAST-MODIFIED:20251208T173921Z
UID:10000828-1864062000-1864076400@thedistricton46.com
SUMMARY:Karaoke Nights - Throwbacks on 46
DESCRIPTION:
URL:https://thedistricton46.com/event/karaoke-nights-throwbacks-on-46/2029-01-25/
CATEGORIES:Throwbacks On 46
END:VEVENT
BEGIN:VEVENT
DTSTART;TZID=America/Chicago:20290126T190000
DTEND;TZID=America/Chicago:20290126T230000
DTSTAMP:20260425T182945
CREATED:20260424T004219Z
LAST-MODIFIED:20260424T004219Z
UID:10001431-1864148400-1864162800@thedistricton46.com
SUMMARY:Karaoke Nights - Throwbacks on 46
DESCRIPTION:
URL:https://thedistricton46.com/event/karaoke-nights-throwbacks-on-46-2/2029-01-26/
CATEGORIES:Throwbacks On 46
END:VEVENT
BEGIN:VEVENT
DTSTART;TZID=America/Chicago:20290131T190000
DTEND;TZID=America/Chicago:20290131T203000
DTSTAMP:20260425T182945
CREATED:20251208T173447Z
LAST-MODIFIED:20251208T173908Z
UID:10000568-1864580400-1864585800@thedistricton46.com
SUMMARY:Trivia Nights - Throwbacks on 46
DESCRIPTION:
URL:https://thedistricton46.com/event/trivia-nights-throwbacks-on-46/2029-01-31/
CATEGORIES:Throwbacks On 46
END:VEVENT
BEGIN:VEVENT
DTSTART;TZID=America/Chicago:20290201T190000
DTEND;TZID=America/Chicago:20290201T230000
DTSTAMP:20260425T182945
CREATED:20251208T173607Z
LAST-MODIFIED:20251208T173921Z
UID:10000829-1864666800-1864681200@thedistricton46.com
SUMMARY:Karaoke Nights - Throwbacks on 46
DESCRIPTION:
URL:https://thedistricton46.com/event/karaoke-nights-throwbacks-on-46/2029-02-01/
CATEGORIES:Throwbacks On 46
END:VEVENT
BEGIN:VEVENT
DTSTART;TZID=America/Chicago:20290202T190000
DTEND;TZID=America/Chicago:20290202T230000
DTSTAMP:20260425T182945
CREATED:20260424T004219Z
LAST-MODIFIED:20260424T004219Z
UID:10001432-1864753200-1864767600@thedistricton46.com
SUMMARY:Karaoke Nights - Throwbacks on 46
DESCRIPTION:
URL:https://thedistricton46.com/event/karaoke-nights-throwbacks-on-46-2/2029-02-02/
CATEGORIES:Throwbacks On 46
END:VEVENT
BEGIN:VEVENT
DTSTART;TZID=America/Chicago:20290207T190000
DTEND;TZID=America/Chicago:20290207T203000
DTSTAMP:20260425T182945
CREATED:20251208T173447Z
LAST-MODIFIED:20251208T173908Z
UID:10000569-1865185200-1865190600@thedistricton46.com
SUMMARY:Trivia Nights - Throwbacks on 46
DESCRIPTION:
URL:https://thedistricton46.com/event/trivia-nights-throwbacks-on-46/2029-02-07/
CATEGORIES:Throwbacks On 46
END:VEVENT
BEGIN:VEVENT
DTSTART;TZID=America/Chicago:20290208T190000
DTEND;TZID=America/Chicago:20290208T230000
DTSTAMP:20260425T182945
CREATED:20251208T173607Z
LAST-MODIFIED:20251208T173921Z
UID:10000830-1865271600-1865286000@thedistricton46.com
SUMMARY:Karaoke Nights - Throwbacks on 46
DESCRIPTION:
URL:https://thedistricton46.com/event/karaoke-nights-throwbacks-on-46/2029-02-08/
CATEGORIES:Throwbacks On 46
END:VEVENT
BEGIN:VEVENT
DTSTART;TZID=America/Chicago:20290209T190000
DTEND;TZID=America/Chicago:20290209T230000
DTSTAMP:20260425T182945
CREATED:20260424T004219Z
LAST-MODIFIED:20260424T004219Z
UID:10001433-1865358000-1865372400@thedistricton46.com
SUMMARY:Karaoke Nights - Throwbacks on 46
DESCRIPTION:
URL:https://thedistricton46.com/event/karaoke-nights-throwbacks-on-46-2/2029-02-09/
CATEGORIES:Throwbacks On 46
END:VEVENT
BEGIN:VEVENT
DTSTART;TZID=America/Chicago:20290214T190000
DTEND;TZID=America/Chicago:20290214T203000
DTSTAMP:20260425T182945
CREATED:20251208T173447Z
LAST-MODIFIED:20251208T173908Z
UID:10000570-1865790000-1865795400@thedistricton46.com
SUMMARY:Trivia Nights - Throwbacks on 46
DESCRIPTION:
URL:https://thedistricton46.com/event/trivia-nights-throwbacks-on-46/2029-02-14/
CATEGORIES:Throwbacks On 46
END:VEVENT
BEGIN:VEVENT
DTSTART;TZID=America/Chicago:20290215T190000
DTEND;TZID=America/Chicago:20290215T230000
DTSTAMP:20260425T182945
CREATED:20251208T173607Z
LAST-MODIFIED:20251208T173921Z
UID:10000831-1865876400-1865890800@thedistricton46.com
SUMMARY:Karaoke Nights - Throwbacks on 46
DESCRIPTION:
URL:https://thedistricton46.com/event/karaoke-nights-throwbacks-on-46/2029-02-15/
CATEGORIES:Throwbacks On 46
END:VEVENT
BEGIN:VEVENT
DTSTART;TZID=America/Chicago:20290216T190000
DTEND;TZID=America/Chicago:20290216T230000
DTSTAMP:20260425T182945
CREATED:20260424T004219Z
LAST-MODIFIED:20260424T004219Z
UID:10001434-1865962800-1865977200@thedistricton46.com
SUMMARY:Karaoke Nights - Throwbacks on 46
DESCRIPTION:
URL:https://thedistricton46.com/event/karaoke-nights-throwbacks-on-46-2/2029-02-16/
CATEGORIES:Throwbacks On 46
END:VEVENT
BEGIN:VEVENT
DTSTART;TZID=America/Chicago:20290221T190000
DTEND;TZID=America/Chicago:20290221T203000
DTSTAMP:20260425T182945
CREATED:20251208T173447Z
LAST-MODIFIED:20251208T173908Z
UID:10000571-1866394800-1866400200@thedistricton46.com
SUMMARY:Trivia Nights - Throwbacks on 46
DESCRIPTION:
URL:https://thedistricton46.com/event/trivia-nights-throwbacks-on-46/2029-02-21/
CATEGORIES:Throwbacks On 46
END:VEVENT
BEGIN:VEVENT
DTSTART;TZID=America/Chicago:20290222T190000
DTEND;TZID=America/Chicago:20290222T230000
DTSTAMP:20260425T182945
CREATED:20251208T173607Z
LAST-MODIFIED:20251208T173921Z
UID:10000832-1866481200-1866495600@thedistricton46.com
SUMMARY:Karaoke Nights - Throwbacks on 46
DESCRIPTION:
URL:https://thedistricton46.com/event/karaoke-nights-throwbacks-on-46/2029-02-22/
CATEGORIES:Throwbacks On 46
END:VEVENT
BEGIN:VEVENT
DTSTART;TZID=America/Chicago:20290223T190000
DTEND;TZID=America/Chicago:20290223T230000
DTSTAMP:20260425T182945
CREATED:20260424T004219Z
LAST-MODIFIED:20260424T004219Z
UID:10001435-1866567600-1866582000@thedistricton46.com
SUMMARY:Karaoke Nights - Throwbacks on 46
DESCRIPTION:
URL:https://thedistricton46.com/event/karaoke-nights-throwbacks-on-46-2/2029-02-23/
CATEGORIES:Throwbacks On 46
END:VEVENT
BEGIN:VEVENT
DTSTART;TZID=America/Chicago:20290228T190000
DTEND;TZID=America/Chicago:20290228T203000
DTSTAMP:20260425T182945
CREATED:20251208T173447Z
LAST-MODIFIED:20251208T173908Z
UID:10000572-1866999600-1867005000@thedistricton46.com
SUMMARY:Trivia Nights - Throwbacks on 46
DESCRIPTION:
URL:https://thedistricton46.com/event/trivia-nights-throwbacks-on-46/2029-02-28/
CATEGORIES:Throwbacks On 46
END:VEVENT
BEGIN:VEVENT
DTSTART;TZID=America/Chicago:20290301T190000
DTEND;TZID=America/Chicago:20290301T230000
DTSTAMP:20260425T182945
CREATED:20251208T173607Z
LAST-MODIFIED:20251208T173921Z
UID:10000833-1867086000-1867100400@thedistricton46.com
SUMMARY:Karaoke Nights - Throwbacks on 46
DESCRIPTION:
URL:https://thedistricton46.com/event/karaoke-nights-throwbacks-on-46/2029-03-01/
CATEGORIES:Throwbacks On 46
END:VEVENT
BEGIN:VEVENT
DTSTART;TZID=America/Chicago:20290302T190000
DTEND;TZID=America/Chicago:20290302T230000
DTSTAMP:20260425T182945
CREATED:20260424T004219Z
LAST-MODIFIED:20260424T004219Z
UID:10001436-1867172400-1867186800@thedistricton46.com
SUMMARY:Karaoke Nights - Throwbacks on 46
DESCRIPTION:
URL:https://thedistricton46.com/event/karaoke-nights-throwbacks-on-46-2/2029-03-02/
CATEGORIES:Throwbacks On 46
END:VEVENT
BEGIN:VEVENT
DTSTART;TZID=America/Chicago:20290307T190000
DTEND;TZID=America/Chicago:20290307T203000
DTSTAMP:20260425T182945
CREATED:20251208T173447Z
LAST-MODIFIED:20251208T173908Z
UID:10000573-1867604400-1867609800@thedistricton46.com
SUMMARY:Trivia Nights - Throwbacks on 46
DESCRIPTION:
URL:https://thedistricton46.com/event/trivia-nights-throwbacks-on-46/2029-03-07/
CATEGORIES:Throwbacks On 46
END:VEVENT
BEGIN:VEVENT
DTSTART;TZID=America/Chicago:20290308T190000
DTEND;TZID=America/Chicago:20290308T230000
DTSTAMP:20260425T182945
CREATED:20251208T173607Z
LAST-MODIFIED:20251208T173921Z
UID:10000834-1867690800-1867705200@thedistricton46.com
SUMMARY:Karaoke Nights - Throwbacks on 46
DESCRIPTION:
URL:https://thedistricton46.com/event/karaoke-nights-throwbacks-on-46/2029-03-08/
CATEGORIES:Throwbacks On 46
END:VEVENT
BEGIN:VEVENT
DTSTART;TZID=America/Chicago:20290309T190000
DTEND;TZID=America/Chicago:20290309T230000
DTSTAMP:20260425T182945
CREATED:20260424T004219Z
LAST-MODIFIED:20260424T004219Z
UID:10001437-1867777200-1867791600@thedistricton46.com
SUMMARY:Karaoke Nights - Throwbacks on 46
DESCRIPTION:
URL:https://thedistricton46.com/event/karaoke-nights-throwbacks-on-46-2/2029-03-09/
CATEGORIES:Throwbacks On 46
END:VEVENT
BEGIN:VEVENT
DTSTART;TZID=America/Chicago:20290314T190000
DTEND;TZID=America/Chicago:20290314T203000
DTSTAMP:20260425T182945
CREATED:20251208T173447Z
LAST-MODIFIED:20251208T173908Z
UID:10000574-1868209200-1868214600@thedistricton46.com
SUMMARY:Trivia Nights - Throwbacks on 46
DESCRIPTION:
URL:https://thedistricton46.com/event/trivia-nights-throwbacks-on-46/2029-03-14/
CATEGORIES:Throwbacks On 46
END:VEVENT
BEGIN:VEVENT
DTSTART;TZID=America/Chicago:20290315T190000
DTEND;TZID=America/Chicago:20290315T230000
DTSTAMP:20260425T182945
CREATED:20251208T173607Z
LAST-MODIFIED:20251208T173921Z
UID:10000835-1868295600-1868310000@thedistricton46.com
SUMMARY:Karaoke Nights - Throwbacks on 46
DESCRIPTION:
URL:https://thedistricton46.com/event/karaoke-nights-throwbacks-on-46/2029-03-15/
CATEGORIES:Throwbacks On 46
END:VEVENT
BEGIN:VEVENT
DTSTART;TZID=America/Chicago:20290316T190000
DTEND;TZID=America/Chicago:20290316T230000
DTSTAMP:20260425T182945
CREATED:20260424T004219Z
LAST-MODIFIED:20260424T004219Z
UID:10001438-1868382000-1868396400@thedistricton46.com
SUMMARY:Karaoke Nights - Throwbacks on 46
DESCRIPTION:
URL:https://thedistricton46.com/event/karaoke-nights-throwbacks-on-46-2/2029-03-16/
CATEGORIES:Throwbacks On 46
END:VEVENT
BEGIN:VEVENT
DTSTART;TZID=America/Chicago:20290321T190000
DTEND;TZID=America/Chicago:20290321T203000
DTSTAMP:20260425T182945
CREATED:20251208T173447Z
LAST-MODIFIED:20251208T173908Z
UID:10000575-1868814000-1868819400@thedistricton46.com
SUMMARY:Trivia Nights - Throwbacks on 46
DESCRIPTION:
URL:https://thedistricton46.com/event/trivia-nights-throwbacks-on-46/2029-03-21/
CATEGORIES:Throwbacks On 46
END:VEVENT
BEGIN:VEVENT
DTSTART;TZID=America/Chicago:20290322T190000
DTEND;TZID=America/Chicago:20290322T230000
DTSTAMP:20260425T182945
CREATED:20251208T173607Z
LAST-MODIFIED:20251208T173921Z
UID:10000836-1868900400-1868914800@thedistricton46.com
SUMMARY:Karaoke Nights - Throwbacks on 46
DESCRIPTION:
URL:https://thedistricton46.com/event/karaoke-nights-throwbacks-on-46/2029-03-22/
CATEGORIES:Throwbacks On 46
END:VEVENT
BEGIN:VEVENT
DTSTART;TZID=America/Chicago:20290323T190000
DTEND;TZID=America/Chicago:20290323T230000
DTSTAMP:20260425T182945
CREATED:20260424T004219Z
LAST-MODIFIED:20260424T004219Z
UID:10001439-1868986800-1869001200@thedistricton46.com
SUMMARY:Karaoke Nights - Throwbacks on 46
DESCRIPTION:
URL:https://thedistricton46.com/event/karaoke-nights-throwbacks-on-46-2/2029-03-23/
CATEGORIES:Throwbacks On 46
END:VEVENT
BEGIN:VEVENT
DTSTART;TZID=America/Chicago:20290328T190000
DTEND;TZID=America/Chicago:20290328T203000
DTSTAMP:20260425T182945
CREATED:20251208T173447Z
LAST-MODIFIED:20251208T173908Z
UID:10000576-1869418800-1869424200@thedistricton46.com
SUMMARY:Trivia Nights - Throwbacks on 46
DESCRIPTION:
URL:https://thedistricton46.com/event/trivia-nights-throwbacks-on-46/2029-03-28/
CATEGORIES:Throwbacks On 46
END:VEVENT
BEGIN:VEVENT
DTSTART;TZID=America/Chicago:20290329T190000
DTEND;TZID=America/Chicago:20290329T230000
DTSTAMP:20260425T182945
CREATED:20251208T173607Z
LAST-MODIFIED:20251208T173921Z
UID:10000837-1869505200-1869519600@thedistricton46.com
SUMMARY:Karaoke Nights - Throwbacks on 46
DESCRIPTION:
URL:https://thedistricton46.com/event/karaoke-nights-throwbacks-on-46/2029-03-29/
CATEGORIES:Throwbacks On 46
END:VEVENT
BEGIN:VEVENT
DTSTART;TZID=America/Chicago:20290330T190000
DTEND;TZID=America/Chicago:20290330T230000
DTSTAMP:20260425T182945
CREATED:20260424T004219Z
LAST-MODIFIED:20260424T004219Z
UID:10001440-1869591600-1869606000@thedistricton46.com
SUMMARY:Karaoke Nights - Throwbacks on 46
DESCRIPTION:
URL:https://thedistricton46.com/event/karaoke-nights-throwbacks-on-46-2/2029-03-30/
CATEGORIES:Throwbacks On 46
END:VEVENT
END:VCALENDAR