BEGIN:VCALENDAR
VERSION:2.0
PRODID:-//The District On 46 - ECPv6.15.20//NONSGML v1.0//EN
CALSCALE:GREGORIAN
METHOD:PUBLISH
X-WR-CALNAME:The District On 46
X-ORIGINAL-URL:https://thedistricton46.com
X-WR-CALDESC:Events for The District On 46
REFRESH-INTERVAL;VALUE=DURATION:PT1H
X-Robots-Tag:noindex
X-PUBLISHED-TTL:PT1H
BEGIN:VTIMEZONE
TZID:America/Chicago
BEGIN:DAYLIGHT
TZOFFSETFROM:-0600
TZOFFSETTO:-0500
TZNAME:CDT
DTSTART:20260308T080000
END:DAYLIGHT
BEGIN:STANDARD
TZOFFSETFROM:-0500
TZOFFSETTO:-0600
TZNAME:CST
DTSTART:20261101T070000
END:STANDARD
BEGIN:DAYLIGHT
TZOFFSETFROM:-0600
TZOFFSETTO:-0500
TZNAME:CDT
DTSTART:20270314T080000
END:DAYLIGHT
BEGIN:STANDARD
TZOFFSETFROM:-0500
TZOFFSETTO:-0600
TZNAME:CST
DTSTART:20271107T070000
END:STANDARD
BEGIN:DAYLIGHT
TZOFFSETFROM:-0600
TZOFFSETTO:-0500
TZNAME:CDT
DTSTART:20280312T080000
END:DAYLIGHT
BEGIN:STANDARD
TZOFFSETFROM:-0500
TZOFFSETTO:-0600
TZNAME:CST
DTSTART:20281105T070000
END:STANDARD
END:VTIMEZONE
BEGIN:VEVENT
DTSTART;TZID=America/Chicago:20270924T190000
DTEND;TZID=America/Chicago:20270924T230000
DTSTAMP:20260425T054541
CREATED:20260424T004219Z
LAST-MODIFIED:20260424T004219Z
UID:10001361-1821812400-1821826800@thedistricton46.com
SUMMARY:Karaoke Nights - Throwbacks on 46
DESCRIPTION:
URL:https://thedistricton46.com/event/karaoke-nights-throwbacks-on-46-2/2027-09-24/
CATEGORIES:Throwbacks On 46
END:VEVENT
BEGIN:VEVENT
DTSTART;TZID=America/Chicago:20270923T190000
DTEND;TZID=America/Chicago:20270923T230000
DTSTAMP:20260425T054541
CREATED:20251208T173607Z
LAST-MODIFIED:20251208T173921Z
UID:10000758-1821726000-1821740400@thedistricton46.com
SUMMARY:Karaoke Nights - Throwbacks on 46
DESCRIPTION:
URL:https://thedistricton46.com/event/karaoke-nights-throwbacks-on-46/2027-09-23/
CATEGORIES:Throwbacks On 46
END:VEVENT
BEGIN:VEVENT
DTSTART;TZID=America/Chicago:20270922T190000
DTEND;TZID=America/Chicago:20270922T203000
DTSTAMP:20260425T054541
CREATED:20251208T173447Z
LAST-MODIFIED:20251208T173908Z
UID:10000497-1821639600-1821645000@thedistricton46.com
SUMMARY:Trivia Nights - Throwbacks on 46
DESCRIPTION:
URL:https://thedistricton46.com/event/trivia-nights-throwbacks-on-46/2027-09-22/
CATEGORIES:Throwbacks On 46
END:VEVENT
BEGIN:VEVENT
DTSTART;TZID=America/Chicago:20270917T190000
DTEND;TZID=America/Chicago:20270917T230000
DTSTAMP:20260425T054541
CREATED:20260424T004219Z
LAST-MODIFIED:20260424T004219Z
UID:10001360-1821207600-1821222000@thedistricton46.com
SUMMARY:Karaoke Nights - Throwbacks on 46
DESCRIPTION:
URL:https://thedistricton46.com/event/karaoke-nights-throwbacks-on-46-2/2027-09-17/
CATEGORIES:Throwbacks On 46
END:VEVENT
BEGIN:VEVENT
DTSTART;TZID=America/Chicago:20270916T190000
DTEND;TZID=America/Chicago:20270916T230000
DTSTAMP:20260425T054541
CREATED:20251208T173607Z
LAST-MODIFIED:20251208T173921Z
UID:10000757-1821121200-1821135600@thedistricton46.com
SUMMARY:Karaoke Nights - Throwbacks on 46
DESCRIPTION:
URL:https://thedistricton46.com/event/karaoke-nights-throwbacks-on-46/2027-09-16/
CATEGORIES:Throwbacks On 46
END:VEVENT
BEGIN:VEVENT
DTSTART;TZID=America/Chicago:20270915T190000
DTEND;TZID=America/Chicago:20270915T203000
DTSTAMP:20260425T054541
CREATED:20251208T173447Z
LAST-MODIFIED:20251208T173908Z
UID:10000496-1821034800-1821040200@thedistricton46.com
SUMMARY:Trivia Nights - Throwbacks on 46
DESCRIPTION:
URL:https://thedistricton46.com/event/trivia-nights-throwbacks-on-46/2027-09-15/
CATEGORIES:Throwbacks On 46
END:VEVENT
BEGIN:VEVENT
DTSTART;TZID=America/Chicago:20270910T190000
DTEND;TZID=America/Chicago:20270910T230000
DTSTAMP:20260425T054541
CREATED:20260424T004219Z
LAST-MODIFIED:20260424T004219Z
UID:10001359-1820602800-1820617200@thedistricton46.com
SUMMARY:Karaoke Nights - Throwbacks on 46
DESCRIPTION:
URL:https://thedistricton46.com/event/karaoke-nights-throwbacks-on-46-2/2027-09-10/
CATEGORIES:Throwbacks On 46
END:VEVENT
BEGIN:VEVENT
DTSTART;TZID=America/Chicago:20270909T190000
DTEND;TZID=America/Chicago:20270909T230000
DTSTAMP:20260425T054541
CREATED:20251208T173607Z
LAST-MODIFIED:20251208T173921Z
UID:10000756-1820516400-1820530800@thedistricton46.com
SUMMARY:Karaoke Nights - Throwbacks on 46
DESCRIPTION:
URL:https://thedistricton46.com/event/karaoke-nights-throwbacks-on-46/2027-09-09/
CATEGORIES:Throwbacks On 46
END:VEVENT
BEGIN:VEVENT
DTSTART;TZID=America/Chicago:20270908T190000
DTEND;TZID=America/Chicago:20270908T203000
DTSTAMP:20260425T054541
CREATED:20251208T173447Z
LAST-MODIFIED:20251208T173908Z
UID:10000495-1820430000-1820435400@thedistricton46.com
SUMMARY:Trivia Nights - Throwbacks on 46
DESCRIPTION:
URL:https://thedistricton46.com/event/trivia-nights-throwbacks-on-46/2027-09-08/
CATEGORIES:Throwbacks On 46
END:VEVENT
BEGIN:VEVENT
DTSTART;TZID=America/Chicago:20270903T190000
DTEND;TZID=America/Chicago:20270903T230000
DTSTAMP:20260425T054541
CREATED:20260424T004219Z
LAST-MODIFIED:20260424T004219Z
UID:10001358-1819998000-1820012400@thedistricton46.com
SUMMARY:Karaoke Nights - Throwbacks on 46
DESCRIPTION:
URL:https://thedistricton46.com/event/karaoke-nights-throwbacks-on-46-2/2027-09-03/
CATEGORIES:Throwbacks On 46
END:VEVENT
BEGIN:VEVENT
DTSTART;TZID=America/Chicago:20270902T190000
DTEND;TZID=America/Chicago:20270902T230000
DTSTAMP:20260425T054541
CREATED:20251208T173607Z
LAST-MODIFIED:20251208T173921Z
UID:10000755-1819911600-1819926000@thedistricton46.com
SUMMARY:Karaoke Nights - Throwbacks on 46
DESCRIPTION:
URL:https://thedistricton46.com/event/karaoke-nights-throwbacks-on-46/2027-09-02/
CATEGORIES:Throwbacks On 46
END:VEVENT
BEGIN:VEVENT
DTSTART;TZID=America/Chicago:20270901T190000
DTEND;TZID=America/Chicago:20270901T203000
DTSTAMP:20260425T054541
CREATED:20251208T173447Z
LAST-MODIFIED:20251208T173908Z
UID:10000494-1819825200-1819830600@thedistricton46.com
SUMMARY:Trivia Nights - Throwbacks on 46
DESCRIPTION:
URL:https://thedistricton46.com/event/trivia-nights-throwbacks-on-46/2027-09-01/
CATEGORIES:Throwbacks On 46
END:VEVENT
BEGIN:VEVENT
DTSTART;TZID=America/Chicago:20270827T190000
DTEND;TZID=America/Chicago:20270827T230000
DTSTAMP:20260425T054541
CREATED:20260424T004219Z
LAST-MODIFIED:20260424T004219Z
UID:10001357-1819393200-1819407600@thedistricton46.com
SUMMARY:Karaoke Nights - Throwbacks on 46
DESCRIPTION:
URL:https://thedistricton46.com/event/karaoke-nights-throwbacks-on-46-2/2027-08-27/
CATEGORIES:Throwbacks On 46
END:VEVENT
BEGIN:VEVENT
DTSTART;TZID=America/Chicago:20270826T190000
DTEND;TZID=America/Chicago:20270826T230000
DTSTAMP:20260425T054541
CREATED:20251208T173607Z
LAST-MODIFIED:20251208T173921Z
UID:10000754-1819306800-1819321200@thedistricton46.com
SUMMARY:Karaoke Nights - Throwbacks on 46
DESCRIPTION:
URL:https://thedistricton46.com/event/karaoke-nights-throwbacks-on-46/2027-08-26/
CATEGORIES:Throwbacks On 46
END:VEVENT
BEGIN:VEVENT
DTSTART;TZID=America/Chicago:20270825T190000
DTEND;TZID=America/Chicago:20270825T203000
DTSTAMP:20260425T054541
CREATED:20251208T173447Z
LAST-MODIFIED:20251208T173908Z
UID:10000493-1819220400-1819225800@thedistricton46.com
SUMMARY:Trivia Nights - Throwbacks on 46
DESCRIPTION:
URL:https://thedistricton46.com/event/trivia-nights-throwbacks-on-46/2027-08-25/
CATEGORIES:Throwbacks On 46
END:VEVENT
BEGIN:VEVENT
DTSTART;TZID=America/Chicago:20270820T190000
DTEND;TZID=America/Chicago:20270820T230000
DTSTAMP:20260425T054541
CREATED:20260424T004219Z
LAST-MODIFIED:20260424T004219Z
UID:10001356-1818788400-1818802800@thedistricton46.com
SUMMARY:Karaoke Nights - Throwbacks on 46
DESCRIPTION:
URL:https://thedistricton46.com/event/karaoke-nights-throwbacks-on-46-2/2027-08-20/
CATEGORIES:Throwbacks On 46
END:VEVENT
BEGIN:VEVENT
DTSTART;TZID=America/Chicago:20270819T190000
DTEND;TZID=America/Chicago:20270819T230000
DTSTAMP:20260425T054541
CREATED:20251208T173607Z
LAST-MODIFIED:20251208T173921Z
UID:10000753-1818702000-1818716400@thedistricton46.com
SUMMARY:Karaoke Nights - Throwbacks on 46
DESCRIPTION:
URL:https://thedistricton46.com/event/karaoke-nights-throwbacks-on-46/2027-08-19/
CATEGORIES:Throwbacks On 46
END:VEVENT
BEGIN:VEVENT
DTSTART;TZID=America/Chicago:20270818T190000
DTEND;TZID=America/Chicago:20270818T203000
DTSTAMP:20260425T054541
CREATED:20251208T173447Z
LAST-MODIFIED:20251208T173908Z
UID:10000492-1818615600-1818621000@thedistricton46.com
SUMMARY:Trivia Nights - Throwbacks on 46
DESCRIPTION:
URL:https://thedistricton46.com/event/trivia-nights-throwbacks-on-46/2027-08-18/
CATEGORIES:Throwbacks On 46
END:VEVENT
BEGIN:VEVENT
DTSTART;TZID=America/Chicago:20270813T190000
DTEND;TZID=America/Chicago:20270813T230000
DTSTAMP:20260425T054541
CREATED:20260424T004219Z
LAST-MODIFIED:20260424T004219Z
UID:10001355-1818183600-1818198000@thedistricton46.com
SUMMARY:Karaoke Nights - Throwbacks on 46
DESCRIPTION:
URL:https://thedistricton46.com/event/karaoke-nights-throwbacks-on-46-2/2027-08-13/
CATEGORIES:Throwbacks On 46
END:VEVENT
BEGIN:VEVENT
DTSTART;TZID=America/Chicago:20270812T190000
DTEND;TZID=America/Chicago:20270812T230000
DTSTAMP:20260425T054541
CREATED:20251208T173607Z
LAST-MODIFIED:20251208T173921Z
UID:10000752-1818097200-1818111600@thedistricton46.com
SUMMARY:Karaoke Nights - Throwbacks on 46
DESCRIPTION:
URL:https://thedistricton46.com/event/karaoke-nights-throwbacks-on-46/2027-08-12/
CATEGORIES:Throwbacks On 46
END:VEVENT
BEGIN:VEVENT
DTSTART;TZID=America/Chicago:20270811T190000
DTEND;TZID=America/Chicago:20270811T203000
DTSTAMP:20260425T054541
CREATED:20251208T173447Z
LAST-MODIFIED:20251208T173908Z
UID:10000491-1818010800-1818016200@thedistricton46.com
SUMMARY:Trivia Nights - Throwbacks on 46
DESCRIPTION:
URL:https://thedistricton46.com/event/trivia-nights-throwbacks-on-46/2027-08-11/
CATEGORIES:Throwbacks On 46
END:VEVENT
BEGIN:VEVENT
DTSTART;TZID=America/Chicago:20270806T190000
DTEND;TZID=America/Chicago:20270806T230000
DTSTAMP:20260425T054541
CREATED:20260424T004219Z
LAST-MODIFIED:20260424T004219Z
UID:10001354-1817578800-1817593200@thedistricton46.com
SUMMARY:Karaoke Nights - Throwbacks on 46
DESCRIPTION:
URL:https://thedistricton46.com/event/karaoke-nights-throwbacks-on-46-2/2027-08-06/
CATEGORIES:Throwbacks On 46
END:VEVENT
BEGIN:VEVENT
DTSTART;TZID=America/Chicago:20270805T190000
DTEND;TZID=America/Chicago:20270805T230000
DTSTAMP:20260425T054541
CREATED:20251208T173607Z
LAST-MODIFIED:20251208T173921Z
UID:10000751-1817492400-1817506800@thedistricton46.com
SUMMARY:Karaoke Nights - Throwbacks on 46
DESCRIPTION:
URL:https://thedistricton46.com/event/karaoke-nights-throwbacks-on-46/2027-08-05/
CATEGORIES:Throwbacks On 46
END:VEVENT
BEGIN:VEVENT
DTSTART;TZID=America/Chicago:20270804T190000
DTEND;TZID=America/Chicago:20270804T203000
DTSTAMP:20260425T054541
CREATED:20251208T173447Z
LAST-MODIFIED:20251208T173908Z
UID:10000490-1817406000-1817411400@thedistricton46.com
SUMMARY:Trivia Nights - Throwbacks on 46
DESCRIPTION:
URL:https://thedistricton46.com/event/trivia-nights-throwbacks-on-46/2027-08-04/
CATEGORIES:Throwbacks On 46
END:VEVENT
BEGIN:VEVENT
DTSTART;TZID=America/Chicago:20270730T190000
DTEND;TZID=America/Chicago:20270730T230000
DTSTAMP:20260425T054541
CREATED:20260424T004219Z
LAST-MODIFIED:20260424T004219Z
UID:10001353-1816974000-1816988400@thedistricton46.com
SUMMARY:Karaoke Nights - Throwbacks on 46
DESCRIPTION:
URL:https://thedistricton46.com/event/karaoke-nights-throwbacks-on-46-2/2027-07-30/
CATEGORIES:Throwbacks On 46
END:VEVENT
BEGIN:VEVENT
DTSTART;TZID=America/Chicago:20270729T190000
DTEND;TZID=America/Chicago:20270729T230000
DTSTAMP:20260425T054541
CREATED:20251208T173607Z
LAST-MODIFIED:20251208T173921Z
UID:10000750-1816887600-1816902000@thedistricton46.com
SUMMARY:Karaoke Nights - Throwbacks on 46
DESCRIPTION:
URL:https://thedistricton46.com/event/karaoke-nights-throwbacks-on-46/2027-07-29/
CATEGORIES:Throwbacks On 46
END:VEVENT
BEGIN:VEVENT
DTSTART;TZID=America/Chicago:20270728T190000
DTEND;TZID=America/Chicago:20270728T203000
DTSTAMP:20260425T054541
CREATED:20251208T173447Z
LAST-MODIFIED:20251208T173908Z
UID:10000489-1816801200-1816806600@thedistricton46.com
SUMMARY:Trivia Nights - Throwbacks on 46
DESCRIPTION:
URL:https://thedistricton46.com/event/trivia-nights-throwbacks-on-46/2027-07-28/
CATEGORIES:Throwbacks On 46
END:VEVENT
BEGIN:VEVENT
DTSTART;TZID=America/Chicago:20270723T190000
DTEND;TZID=America/Chicago:20270723T230000
DTSTAMP:20260425T054541
CREATED:20260424T004219Z
LAST-MODIFIED:20260424T004219Z
UID:10001352-1816369200-1816383600@thedistricton46.com
SUMMARY:Karaoke Nights - Throwbacks on 46
DESCRIPTION:
URL:https://thedistricton46.com/event/karaoke-nights-throwbacks-on-46-2/2027-07-23/
CATEGORIES:Throwbacks On 46
END:VEVENT
BEGIN:VEVENT
DTSTART;TZID=America/Chicago:20270722T190000
DTEND;TZID=America/Chicago:20270722T230000
DTSTAMP:20260425T054541
CREATED:20251208T173607Z
LAST-MODIFIED:20251208T173921Z
UID:10000749-1816282800-1816297200@thedistricton46.com
SUMMARY:Karaoke Nights - Throwbacks on 46
DESCRIPTION:
URL:https://thedistricton46.com/event/karaoke-nights-throwbacks-on-46/2027-07-22/
CATEGORIES:Throwbacks On 46
END:VEVENT
BEGIN:VEVENT
DTSTART;TZID=America/Chicago:20270721T190000
DTEND;TZID=America/Chicago:20270721T203000
DTSTAMP:20260425T054541
CREATED:20251208T173447Z
LAST-MODIFIED:20251208T173908Z
UID:10000488-1816196400-1816201800@thedistricton46.com
SUMMARY:Trivia Nights - Throwbacks on 46
DESCRIPTION:
URL:https://thedistricton46.com/event/trivia-nights-throwbacks-on-46/2027-07-21/
CATEGORIES:Throwbacks On 46
END:VEVENT
END:VCALENDAR