BEGIN:VCALENDAR
VERSION:2.0
PRODID:-//The District On 46 - ECPv6.15.20//NONSGML v1.0//EN
CALSCALE:GREGORIAN
METHOD:PUBLISH
X-WR-CALNAME:The District On 46
X-ORIGINAL-URL:https://thedistricton46.com
X-WR-CALDESC:Events for The District On 46
REFRESH-INTERVAL;VALUE=DURATION:PT1H
X-Robots-Tag:noindex
X-PUBLISHED-TTL:PT1H
BEGIN:VTIMEZONE
TZID:America/Chicago
BEGIN:DAYLIGHT
TZOFFSETFROM:-0600
TZOFFSETTO:-0500
TZNAME:CDT
DTSTART:20280312T080000
END:DAYLIGHT
BEGIN:STANDARD
TZOFFSETFROM:-0500
TZOFFSETTO:-0600
TZNAME:CST
DTSTART:20281105T070000
END:STANDARD
BEGIN:DAYLIGHT
TZOFFSETFROM:-0600
TZOFFSETTO:-0500
TZNAME:CDT
DTSTART:20290311T080000
END:DAYLIGHT
BEGIN:STANDARD
TZOFFSETFROM:-0500
TZOFFSETTO:-0600
TZNAME:CST
DTSTART:20291104T070000
END:STANDARD
BEGIN:DAYLIGHT
TZOFFSETFROM:-0600
TZOFFSETTO:-0500
TZNAME:CDT
DTSTART:20300310T080000
END:DAYLIGHT
BEGIN:STANDARD
TZOFFSETFROM:-0500
TZOFFSETTO:-0600
TZNAME:CST
DTSTART:20301103T070000
END:STANDARD
END:VTIMEZONE
BEGIN:VEVENT
DTSTART;TZID=America/Chicago:20290504T190000
DTEND;TZID=America/Chicago:20290504T230000
DTSTAMP:20260425T230642
CREATED:20260424T004219Z
LAST-MODIFIED:20260424T004219Z
UID:10001445-1872615600-1872630000@thedistricton46.com
SUMMARY:Karaoke Nights - Throwbacks on 46
DESCRIPTION:
URL:https://thedistricton46.com/event/karaoke-nights-throwbacks-on-46-2/2029-05-04/
CATEGORIES:Throwbacks On 46
END:VEVENT
BEGIN:VEVENT
DTSTART;TZID=America/Chicago:20290509T190000
DTEND;TZID=America/Chicago:20290509T203000
DTSTAMP:20260425T230642
CREATED:20251208T173447Z
LAST-MODIFIED:20251208T173908Z
UID:10000582-1873047600-1873053000@thedistricton46.com
SUMMARY:Trivia Nights - Throwbacks on 46
DESCRIPTION:
URL:https://thedistricton46.com/event/trivia-nights-throwbacks-on-46/2029-05-09/
CATEGORIES:Throwbacks On 46
END:VEVENT
BEGIN:VEVENT
DTSTART;TZID=America/Chicago:20290510T190000
DTEND;TZID=America/Chicago:20290510T230000
DTSTAMP:20260425T230642
CREATED:20251208T173607Z
LAST-MODIFIED:20251208T173921Z
UID:10000843-1873134000-1873148400@thedistricton46.com
SUMMARY:Karaoke Nights - Throwbacks on 46
DESCRIPTION:
URL:https://thedistricton46.com/event/karaoke-nights-throwbacks-on-46/2029-05-10/
CATEGORIES:Throwbacks On 46
END:VEVENT
BEGIN:VEVENT
DTSTART;TZID=America/Chicago:20290511T190000
DTEND;TZID=America/Chicago:20290511T230000
DTSTAMP:20260425T230642
CREATED:20260424T004219Z
LAST-MODIFIED:20260424T004219Z
UID:10001446-1873220400-1873234800@thedistricton46.com
SUMMARY:Karaoke Nights - Throwbacks on 46
DESCRIPTION:
URL:https://thedistricton46.com/event/karaoke-nights-throwbacks-on-46-2/2029-05-11/
CATEGORIES:Throwbacks On 46
END:VEVENT
BEGIN:VEVENT
DTSTART;TZID=America/Chicago:20290516T190000
DTEND;TZID=America/Chicago:20290516T203000
DTSTAMP:20260425T230642
CREATED:20251208T173447Z
LAST-MODIFIED:20251208T173908Z
UID:10000583-1873652400-1873657800@thedistricton46.com
SUMMARY:Trivia Nights - Throwbacks on 46
DESCRIPTION:
URL:https://thedistricton46.com/event/trivia-nights-throwbacks-on-46/2029-05-16/
CATEGORIES:Throwbacks On 46
END:VEVENT
BEGIN:VEVENT
DTSTART;TZID=America/Chicago:20290517T190000
DTEND;TZID=America/Chicago:20290517T230000
DTSTAMP:20260425T230642
CREATED:20251208T173607Z
LAST-MODIFIED:20251208T173921Z
UID:10000844-1873738800-1873753200@thedistricton46.com
SUMMARY:Karaoke Nights - Throwbacks on 46
DESCRIPTION:
URL:https://thedistricton46.com/event/karaoke-nights-throwbacks-on-46/2029-05-17/
CATEGORIES:Throwbacks On 46
END:VEVENT
BEGIN:VEVENT
DTSTART;TZID=America/Chicago:20290518T190000
DTEND;TZID=America/Chicago:20290518T230000
DTSTAMP:20260425T230642
CREATED:20260424T004219Z
LAST-MODIFIED:20260424T004219Z
UID:10001447-1873825200-1873839600@thedistricton46.com
SUMMARY:Karaoke Nights - Throwbacks on 46
DESCRIPTION:
URL:https://thedistricton46.com/event/karaoke-nights-throwbacks-on-46-2/2029-05-18/
CATEGORIES:Throwbacks On 46
END:VEVENT
BEGIN:VEVENT
DTSTART;TZID=America/Chicago:20290523T190000
DTEND;TZID=America/Chicago:20290523T203000
DTSTAMP:20260425T230642
CREATED:20251208T173447Z
LAST-MODIFIED:20251208T173908Z
UID:10000584-1874257200-1874262600@thedistricton46.com
SUMMARY:Trivia Nights - Throwbacks on 46
DESCRIPTION:
URL:https://thedistricton46.com/event/trivia-nights-throwbacks-on-46/2029-05-23/
CATEGORIES:Throwbacks On 46
END:VEVENT
BEGIN:VEVENT
DTSTART;TZID=America/Chicago:20290524T190000
DTEND;TZID=America/Chicago:20290524T230000
DTSTAMP:20260425T230642
CREATED:20251208T173607Z
LAST-MODIFIED:20251208T173921Z
UID:10000845-1874343600-1874358000@thedistricton46.com
SUMMARY:Karaoke Nights - Throwbacks on 46
DESCRIPTION:
URL:https://thedistricton46.com/event/karaoke-nights-throwbacks-on-46/2029-05-24/
CATEGORIES:Throwbacks On 46
END:VEVENT
BEGIN:VEVENT
DTSTART;TZID=America/Chicago:20290525T190000
DTEND;TZID=America/Chicago:20290525T230000
DTSTAMP:20260425T230642
CREATED:20260424T004219Z
LAST-MODIFIED:20260424T004219Z
UID:10001448-1874430000-1874444400@thedistricton46.com
SUMMARY:Karaoke Nights - Throwbacks on 46
DESCRIPTION:
URL:https://thedistricton46.com/event/karaoke-nights-throwbacks-on-46-2/2029-05-25/
CATEGORIES:Throwbacks On 46
END:VEVENT
BEGIN:VEVENT
DTSTART;TZID=America/Chicago:20290530T190000
DTEND;TZID=America/Chicago:20290530T203000
DTSTAMP:20260425T230642
CREATED:20251208T173447Z
LAST-MODIFIED:20251208T173908Z
UID:10000585-1874862000-1874867400@thedistricton46.com
SUMMARY:Trivia Nights - Throwbacks on 46
DESCRIPTION:
URL:https://thedistricton46.com/event/trivia-nights-throwbacks-on-46/2029-05-30/
CATEGORIES:Throwbacks On 46
END:VEVENT
BEGIN:VEVENT
DTSTART;TZID=America/Chicago:20290531T190000
DTEND;TZID=America/Chicago:20290531T230000
DTSTAMP:20260425T230642
CREATED:20251208T173607Z
LAST-MODIFIED:20251208T173921Z
UID:10000846-1874948400-1874962800@thedistricton46.com
SUMMARY:Karaoke Nights - Throwbacks on 46
DESCRIPTION:
URL:https://thedistricton46.com/event/karaoke-nights-throwbacks-on-46/2029-05-31/
CATEGORIES:Throwbacks On 46
END:VEVENT
BEGIN:VEVENT
DTSTART;TZID=America/Chicago:20290601T190000
DTEND;TZID=America/Chicago:20290601T230000
DTSTAMP:20260425T230642
CREATED:20260424T004219Z
LAST-MODIFIED:20260424T004219Z
UID:10001449-1875034800-1875049200@thedistricton46.com
SUMMARY:Karaoke Nights - Throwbacks on 46
DESCRIPTION:
URL:https://thedistricton46.com/event/karaoke-nights-throwbacks-on-46-2/2029-06-01/
CATEGORIES:Throwbacks On 46
END:VEVENT
BEGIN:VEVENT
DTSTART;TZID=America/Chicago:20290606T190000
DTEND;TZID=America/Chicago:20290606T203000
DTSTAMP:20260425T230642
CREATED:20251208T173447Z
LAST-MODIFIED:20251208T173908Z
UID:10000586-1875466800-1875472200@thedistricton46.com
SUMMARY:Trivia Nights - Throwbacks on 46
DESCRIPTION:
URL:https://thedistricton46.com/event/trivia-nights-throwbacks-on-46/2029-06-06/
CATEGORIES:Throwbacks On 46
END:VEVENT
BEGIN:VEVENT
DTSTART;TZID=America/Chicago:20290607T190000
DTEND;TZID=America/Chicago:20290607T230000
DTSTAMP:20260425T230642
CREATED:20251208T173607Z
LAST-MODIFIED:20251208T173921Z
UID:10000847-1875553200-1875567600@thedistricton46.com
SUMMARY:Karaoke Nights - Throwbacks on 46
DESCRIPTION:
URL:https://thedistricton46.com/event/karaoke-nights-throwbacks-on-46/2029-06-07/
CATEGORIES:Throwbacks On 46
END:VEVENT
BEGIN:VEVENT
DTSTART;TZID=America/Chicago:20290608T190000
DTEND;TZID=America/Chicago:20290608T230000
DTSTAMP:20260425T230642
CREATED:20260424T004219Z
LAST-MODIFIED:20260424T004219Z
UID:10001450-1875639600-1875654000@thedistricton46.com
SUMMARY:Karaoke Nights - Throwbacks on 46
DESCRIPTION:
URL:https://thedistricton46.com/event/karaoke-nights-throwbacks-on-46-2/2029-06-08/
CATEGORIES:Throwbacks On 46
END:VEVENT
BEGIN:VEVENT
DTSTART;TZID=America/Chicago:20290613T190000
DTEND;TZID=America/Chicago:20290613T203000
DTSTAMP:20260425T230642
CREATED:20251208T173447Z
LAST-MODIFIED:20251208T173908Z
UID:10000587-1876071600-1876077000@thedistricton46.com
SUMMARY:Trivia Nights - Throwbacks on 46
DESCRIPTION:
URL:https://thedistricton46.com/event/trivia-nights-throwbacks-on-46/2029-06-13/
CATEGORIES:Throwbacks On 46
END:VEVENT
BEGIN:VEVENT
DTSTART;TZID=America/Chicago:20290614T190000
DTEND;TZID=America/Chicago:20290614T230000
DTSTAMP:20260425T230642
CREATED:20251208T173607Z
LAST-MODIFIED:20251208T173921Z
UID:10000848-1876158000-1876172400@thedistricton46.com
SUMMARY:Karaoke Nights - Throwbacks on 46
DESCRIPTION:
URL:https://thedistricton46.com/event/karaoke-nights-throwbacks-on-46/2029-06-14/
CATEGORIES:Throwbacks On 46
END:VEVENT
BEGIN:VEVENT
DTSTART;TZID=America/Chicago:20290615T190000
DTEND;TZID=America/Chicago:20290615T230000
DTSTAMP:20260425T230642
CREATED:20260424T004219Z
LAST-MODIFIED:20260424T004219Z
UID:10001451-1876244400-1876258800@thedistricton46.com
SUMMARY:Karaoke Nights - Throwbacks on 46
DESCRIPTION:
URL:https://thedistricton46.com/event/karaoke-nights-throwbacks-on-46-2/2029-06-15/
CATEGORIES:Throwbacks On 46
END:VEVENT
BEGIN:VEVENT
DTSTART;TZID=America/Chicago:20290620T190000
DTEND;TZID=America/Chicago:20290620T203000
DTSTAMP:20260425T230642
CREATED:20251208T173447Z
LAST-MODIFIED:20251208T173908Z
UID:10000588-1876676400-1876681800@thedistricton46.com
SUMMARY:Trivia Nights - Throwbacks on 46
DESCRIPTION:
URL:https://thedistricton46.com/event/trivia-nights-throwbacks-on-46/2029-06-20/
CATEGORIES:Throwbacks On 46
END:VEVENT
BEGIN:VEVENT
DTSTART;TZID=America/Chicago:20290621T190000
DTEND;TZID=America/Chicago:20290621T230000
DTSTAMP:20260425T230642
CREATED:20251208T173607Z
LAST-MODIFIED:20251208T173921Z
UID:10000849-1876762800-1876777200@thedistricton46.com
SUMMARY:Karaoke Nights - Throwbacks on 46
DESCRIPTION:
URL:https://thedistricton46.com/event/karaoke-nights-throwbacks-on-46/2029-06-21/
CATEGORIES:Throwbacks On 46
END:VEVENT
BEGIN:VEVENT
DTSTART;TZID=America/Chicago:20290622T190000
DTEND;TZID=America/Chicago:20290622T230000
DTSTAMP:20260425T230642
CREATED:20260424T004219Z
LAST-MODIFIED:20260424T004219Z
UID:10001452-1876849200-1876863600@thedistricton46.com
SUMMARY:Karaoke Nights - Throwbacks on 46
DESCRIPTION:
URL:https://thedistricton46.com/event/karaoke-nights-throwbacks-on-46-2/2029-06-22/
CATEGORIES:Throwbacks On 46
END:VEVENT
BEGIN:VEVENT
DTSTART;TZID=America/Chicago:20290627T190000
DTEND;TZID=America/Chicago:20290627T203000
DTSTAMP:20260425T230642
CREATED:20251208T173447Z
LAST-MODIFIED:20251208T173908Z
UID:10000589-1877281200-1877286600@thedistricton46.com
SUMMARY:Trivia Nights - Throwbacks on 46
DESCRIPTION:
URL:https://thedistricton46.com/event/trivia-nights-throwbacks-on-46/2029-06-27/
CATEGORIES:Throwbacks On 46
END:VEVENT
BEGIN:VEVENT
DTSTART;TZID=America/Chicago:20290628T190000
DTEND;TZID=America/Chicago:20290628T230000
DTSTAMP:20260425T230642
CREATED:20251208T173607Z
LAST-MODIFIED:20251208T173921Z
UID:10000850-1877367600-1877382000@thedistricton46.com
SUMMARY:Karaoke Nights - Throwbacks on 46
DESCRIPTION:
URL:https://thedistricton46.com/event/karaoke-nights-throwbacks-on-46/2029-06-28/
CATEGORIES:Throwbacks On 46
END:VEVENT
BEGIN:VEVENT
DTSTART;TZID=America/Chicago:20290629T190000
DTEND;TZID=America/Chicago:20290629T230000
DTSTAMP:20260425T230642
CREATED:20260424T004219Z
LAST-MODIFIED:20260424T004219Z
UID:10001453-1877454000-1877468400@thedistricton46.com
SUMMARY:Karaoke Nights - Throwbacks on 46
DESCRIPTION:
URL:https://thedistricton46.com/event/karaoke-nights-throwbacks-on-46-2/2029-06-29/
CATEGORIES:Throwbacks On 46
END:VEVENT
BEGIN:VEVENT
DTSTART;TZID=America/Chicago:20290704T190000
DTEND;TZID=America/Chicago:20290704T203000
DTSTAMP:20260425T230642
CREATED:20251208T173447Z
LAST-MODIFIED:20251208T173908Z
UID:10000590-1877886000-1877891400@thedistricton46.com
SUMMARY:Trivia Nights - Throwbacks on 46
DESCRIPTION:
URL:https://thedistricton46.com/event/trivia-nights-throwbacks-on-46/2029-07-04/
CATEGORIES:Throwbacks On 46
END:VEVENT
BEGIN:VEVENT
DTSTART;TZID=America/Chicago:20290705T190000
DTEND;TZID=America/Chicago:20290705T230000
DTSTAMP:20260425T230642
CREATED:20251208T173607Z
LAST-MODIFIED:20251208T173921Z
UID:10000851-1877972400-1877986800@thedistricton46.com
SUMMARY:Karaoke Nights - Throwbacks on 46
DESCRIPTION:
URL:https://thedistricton46.com/event/karaoke-nights-throwbacks-on-46/2029-07-05/
CATEGORIES:Throwbacks On 46
END:VEVENT
BEGIN:VEVENT
DTSTART;TZID=America/Chicago:20290706T190000
DTEND;TZID=America/Chicago:20290706T230000
DTSTAMP:20260425T230642
CREATED:20260424T004219Z
LAST-MODIFIED:20260424T004219Z
UID:10001454-1878058800-1878073200@thedistricton46.com
SUMMARY:Karaoke Nights - Throwbacks on 46
DESCRIPTION:
URL:https://thedistricton46.com/event/karaoke-nights-throwbacks-on-46-2/2029-07-06/
CATEGORIES:Throwbacks On 46
END:VEVENT
BEGIN:VEVENT
DTSTART;TZID=America/Chicago:20290711T190000
DTEND;TZID=America/Chicago:20290711T203000
DTSTAMP:20260425T230642
CREATED:20251208T173447Z
LAST-MODIFIED:20251208T173908Z
UID:10000591-1878490800-1878496200@thedistricton46.com
SUMMARY:Trivia Nights - Throwbacks on 46
DESCRIPTION:
URL:https://thedistricton46.com/event/trivia-nights-throwbacks-on-46/2029-07-11/
CATEGORIES:Throwbacks On 46
END:VEVENT
BEGIN:VEVENT
DTSTART;TZID=America/Chicago:20290712T190000
DTEND;TZID=America/Chicago:20290712T230000
DTSTAMP:20260425T230642
CREATED:20251208T173607Z
LAST-MODIFIED:20251208T173921Z
UID:10000852-1878577200-1878591600@thedistricton46.com
SUMMARY:Karaoke Nights - Throwbacks on 46
DESCRIPTION:
URL:https://thedistricton46.com/event/karaoke-nights-throwbacks-on-46/2029-07-12/
CATEGORIES:Throwbacks On 46
END:VEVENT
END:VCALENDAR