BEGIN:VCALENDAR
VERSION:2.0
PRODID:-//The District On 46 - ECPv6.15.20//NONSGML v1.0//EN
CALSCALE:GREGORIAN
METHOD:PUBLISH
X-WR-CALNAME:The District On 46
X-ORIGINAL-URL:https://thedistricton46.com
X-WR-CALDESC:Events for The District On 46
REFRESH-INTERVAL;VALUE=DURATION:PT1H
X-Robots-Tag:noindex
X-PUBLISHED-TTL:PT1H
BEGIN:VTIMEZONE
TZID:America/Chicago
BEGIN:DAYLIGHT
TZOFFSETFROM:-0600
TZOFFSETTO:-0500
TZNAME:CDT
DTSTART:20250309T080000
END:DAYLIGHT
BEGIN:STANDARD
TZOFFSETFROM:-0500
TZOFFSETTO:-0600
TZNAME:CST
DTSTART:20251102T070000
END:STANDARD
BEGIN:DAYLIGHT
TZOFFSETFROM:-0600
TZOFFSETTO:-0500
TZNAME:CDT
DTSTART:20260308T080000
END:DAYLIGHT
BEGIN:STANDARD
TZOFFSETFROM:-0500
TZOFFSETTO:-0600
TZNAME:CST
DTSTART:20261101T070000
END:STANDARD
BEGIN:DAYLIGHT
TZOFFSETFROM:-0600
TZOFFSETTO:-0500
TZNAME:CDT
DTSTART:20270314T080000
END:DAYLIGHT
BEGIN:STANDARD
TZOFFSETFROM:-0500
TZOFFSETTO:-0600
TZNAME:CST
DTSTART:20271107T070000
END:STANDARD
END:VTIMEZONE
BEGIN:VEVENT
DTSTART;TZID=America/Chicago:20260701T190000
DTEND;TZID=America/Chicago:20260701T203000
DTSTAMP:20260423T153215
CREATED:20251208T173447Z
LAST-MODIFIED:20251208T173908Z
UID:10000433-1782932400-1782937800@thedistricton46.com
SUMMARY:Trivia Nights - Throwbacks on 46
DESCRIPTION:
URL:https://thedistricton46.com/event/trivia-nights-throwbacks-on-46/2026-07-01/
CATEGORIES:Throwbacks On 46
END:VEVENT
BEGIN:VEVENT
DTSTART;TZID=America/Chicago:20260702T190000
DTEND;TZID=America/Chicago:20260702T230000
DTSTAMP:20260423T153215
CREATED:20251208T173607Z
LAST-MODIFIED:20251208T173921Z
UID:10000694-1783018800-1783033200@thedistricton46.com
SUMMARY:Karaoke Nights - Throwbacks on 46
DESCRIPTION:
URL:https://thedistricton46.com/event/karaoke-nights-throwbacks-on-46/2026-07-02/
CATEGORIES:Throwbacks On 46
END:VEVENT
BEGIN:VEVENT
DTSTART;TZID=America/Chicago:20260703T190000
DTEND;TZID=America/Chicago:20260703T220000
DTSTAMP:20260423T153215
CREATED:20250711T160503Z
LAST-MODIFIED:20250725T201258Z
UID:10000077-1783105200-1783116000@thedistricton46.com
SUMMARY:Trevor Underwood
DESCRIPTION:
URL:https://thedistricton46.com/event/trevor-underwood-11/
CATEGORIES:The District On 46,Throwbacks On 46
END:VEVENT
BEGIN:VEVENT
DTSTART;TZID=America/Chicago:20260703T200000
DTEND;TZID=America/Chicago:20260703T220000
DTSTAMP:20260423T153215
CREATED:20260302T173358Z
LAST-MODIFIED:20260418T161844Z
UID:10000986-1783108800-1783116000@thedistricton46.com
SUMMARY:Def Leggend - World's Greatest Tribute To Def Leppard
DESCRIPTION:Purchase a table here: https://square.link/u/JASS9oK1
URL:https://thedistricton46.com/event/def-leggend-worlds-greatest-tribute-to-def-leppard/
CATEGORIES:Throwbacks On 46,Weekend Music
END:VEVENT
BEGIN:VEVENT
DTSTART;TZID=America/Chicago:20260708T190000
DTEND;TZID=America/Chicago:20260708T203000
DTSTAMP:20260423T153215
CREATED:20251208T173447Z
LAST-MODIFIED:20251208T173908Z
UID:10000434-1783537200-1783542600@thedistricton46.com
SUMMARY:Trivia Nights - Throwbacks on 46
DESCRIPTION:
URL:https://thedistricton46.com/event/trivia-nights-throwbacks-on-46/2026-07-08/
CATEGORIES:Throwbacks On 46
END:VEVENT
BEGIN:VEVENT
DTSTART;TZID=America/Chicago:20260709T190000
DTEND;TZID=America/Chicago:20260709T230000
DTSTAMP:20260423T153215
CREATED:20251208T173607Z
LAST-MODIFIED:20251208T173921Z
UID:10000695-1783623600-1783638000@thedistricton46.com
SUMMARY:Karaoke Nights - Throwbacks on 46
DESCRIPTION:
URL:https://thedistricton46.com/event/karaoke-nights-throwbacks-on-46/2026-07-09/
CATEGORIES:Throwbacks On 46
END:VEVENT
BEGIN:VEVENT
DTSTART;TZID=America/Chicago:20260715T190000
DTEND;TZID=America/Chicago:20260715T203000
DTSTAMP:20260423T153215
CREATED:20251208T173447Z
LAST-MODIFIED:20251208T173908Z
UID:10000435-1784142000-1784147400@thedistricton46.com
SUMMARY:Trivia Nights - Throwbacks on 46
DESCRIPTION:
URL:https://thedistricton46.com/event/trivia-nights-throwbacks-on-46/2026-07-15/
CATEGORIES:Throwbacks On 46
END:VEVENT
BEGIN:VEVENT
DTSTART;TZID=America/Chicago:20260716T190000
DTEND;TZID=America/Chicago:20260716T230000
DTSTAMP:20260423T153215
CREATED:20251208T173607Z
LAST-MODIFIED:20251208T173921Z
UID:10000696-1784228400-1784242800@thedistricton46.com
SUMMARY:Karaoke Nights - Throwbacks on 46
DESCRIPTION:
URL:https://thedistricton46.com/event/karaoke-nights-throwbacks-on-46/2026-07-16/
CATEGORIES:Throwbacks On 46
END:VEVENT
BEGIN:VEVENT
DTSTART;TZID=America/Chicago:20260722T190000
DTEND;TZID=America/Chicago:20260722T203000
DTSTAMP:20260423T153215
CREATED:20251208T173447Z
LAST-MODIFIED:20251208T173908Z
UID:10000436-1784746800-1784752200@thedistricton46.com
SUMMARY:Trivia Nights - Throwbacks on 46
DESCRIPTION:
URL:https://thedistricton46.com/event/trivia-nights-throwbacks-on-46/2026-07-22/
CATEGORIES:Throwbacks On 46
END:VEVENT
BEGIN:VEVENT
DTSTART;TZID=America/Chicago:20260723T190000
DTEND;TZID=America/Chicago:20260723T230000
DTSTAMP:20260423T153215
CREATED:20251208T173607Z
LAST-MODIFIED:20251208T173921Z
UID:10000697-1784833200-1784847600@thedistricton46.com
SUMMARY:Karaoke Nights - Throwbacks on 46
DESCRIPTION:
URL:https://thedistricton46.com/event/karaoke-nights-throwbacks-on-46/2026-07-23/
CATEGORIES:Throwbacks On 46
END:VEVENT
BEGIN:VEVENT
DTSTART;TZID=America/Chicago:20260729T190000
DTEND;TZID=America/Chicago:20260729T203000
DTSTAMP:20260423T153215
CREATED:20251208T173447Z
LAST-MODIFIED:20251208T173908Z
UID:10000437-1785351600-1785357000@thedistricton46.com
SUMMARY:Trivia Nights - Throwbacks on 46
DESCRIPTION:
URL:https://thedistricton46.com/event/trivia-nights-throwbacks-on-46/2026-07-29/
CATEGORIES:Throwbacks On 46
END:VEVENT
BEGIN:VEVENT
DTSTART;TZID=America/Chicago:20260730T190000
DTEND;TZID=America/Chicago:20260730T230000
DTSTAMP:20260423T153215
CREATED:20251208T173607Z
LAST-MODIFIED:20251208T173921Z
UID:10000698-1785438000-1785452400@thedistricton46.com
SUMMARY:Karaoke Nights - Throwbacks on 46
DESCRIPTION:
URL:https://thedistricton46.com/event/karaoke-nights-throwbacks-on-46/2026-07-30/
CATEGORIES:Throwbacks On 46
END:VEVENT
END:VCALENDAR