BEGIN:VCALENDAR
VERSION:2.0
PRODID:-//The District On 46 - ECPv6.15.20//NONSGML v1.0//EN
CALSCALE:GREGORIAN
METHOD:PUBLISH
X-ORIGINAL-URL:https://thedistricton46.com
X-WR-CALDESC:Events for The District On 46
REFRESH-INTERVAL;VALUE=DURATION:PT1H
X-Robots-Tag:noindex
X-PUBLISHED-TTL:PT1H
BEGIN:VTIMEZONE
TZID:America/Chicago
BEGIN:DAYLIGHT
TZOFFSETFROM:-0600
TZOFFSETTO:-0500
TZNAME:CDT
DTSTART:20270314T080000
END:DAYLIGHT
BEGIN:STANDARD
TZOFFSETFROM:-0500
TZOFFSETTO:-0600
TZNAME:CST
DTSTART:20271107T070000
END:STANDARD
BEGIN:DAYLIGHT
TZOFFSETFROM:-0600
TZOFFSETTO:-0500
TZNAME:CDT
DTSTART:20280312T080000
END:DAYLIGHT
BEGIN:STANDARD
TZOFFSETFROM:-0500
TZOFFSETTO:-0600
TZNAME:CST
DTSTART:20281105T070000
END:STANDARD
BEGIN:DAYLIGHT
TZOFFSETFROM:-0600
TZOFFSETTO:-0500
TZNAME:CDT
DTSTART:20290311T080000
END:DAYLIGHT
BEGIN:STANDARD
TZOFFSETFROM:-0500
TZOFFSETTO:-0600
TZNAME:CST
DTSTART:20291104T070000
END:STANDARD
END:VTIMEZONE
BEGIN:VEVENT
DTSTART;TZID=America/Chicago:20280202T190000
DTEND;TZID=America/Chicago:20280202T203000
DTSTAMP:20260424T194512
CREATED:20251208T173447Z
LAST-MODIFIED:20251208T173908Z
UID:10000516-1833130800-1833136200@thedistricton46.com
SUMMARY:Trivia Nights - Throwbacks on 46
DESCRIPTION:
URL:https://thedistricton46.com/event/trivia-nights-throwbacks-on-46/2028-02-02/
CATEGORIES:Throwbacks On 46
END:VEVENT
BEGIN:VEVENT
DTSTART;TZID=America/Chicago:20280203T190000
DTEND;TZID=America/Chicago:20280203T230000
DTSTAMP:20260424T194512
CREATED:20251208T173607Z
LAST-MODIFIED:20251208T173921Z
UID:10000777-1833217200-1833231600@thedistricton46.com
SUMMARY:Karaoke Nights - Throwbacks on 46
DESCRIPTION:
URL:https://thedistricton46.com/event/karaoke-nights-throwbacks-on-46/2028-02-03/
CATEGORIES:Throwbacks On 46
END:VEVENT
BEGIN:VEVENT
DTSTART;TZID=America/Chicago:20280204T190000
DTEND;TZID=America/Chicago:20280204T230000
DTSTAMP:20260424T194512
CREATED:20260424T004219Z
LAST-MODIFIED:20260424T004219Z
UID:10001380-1833303600-1833318000@thedistricton46.com
SUMMARY:Karaoke Nights - Throwbacks on 46
DESCRIPTION:
URL:https://thedistricton46.com/event/karaoke-nights-throwbacks-on-46-2/2028-02-04/
CATEGORIES:Throwbacks On 46
END:VEVENT
BEGIN:VEVENT
DTSTART;TZID=America/Chicago:20280209T190000
DTEND;TZID=America/Chicago:20280209T203000
DTSTAMP:20260424T194512
CREATED:20251208T173447Z
LAST-MODIFIED:20251208T173908Z
UID:10000517-1833735600-1833741000@thedistricton46.com
SUMMARY:Trivia Nights - Throwbacks on 46
DESCRIPTION:
URL:https://thedistricton46.com/event/trivia-nights-throwbacks-on-46/2028-02-09/
CATEGORIES:Throwbacks On 46
END:VEVENT
BEGIN:VEVENT
DTSTART;TZID=America/Chicago:20280210T190000
DTEND;TZID=America/Chicago:20280210T230000
DTSTAMP:20260424T194512
CREATED:20251208T173607Z
LAST-MODIFIED:20251208T173921Z
UID:10000778-1833822000-1833836400@thedistricton46.com
SUMMARY:Karaoke Nights - Throwbacks on 46
DESCRIPTION:
URL:https://thedistricton46.com/event/karaoke-nights-throwbacks-on-46/2028-02-10/
CATEGORIES:Throwbacks On 46
END:VEVENT
BEGIN:VEVENT
DTSTART;TZID=America/Chicago:20280211T190000
DTEND;TZID=America/Chicago:20280211T230000
DTSTAMP:20260424T194512
CREATED:20260424T004219Z
LAST-MODIFIED:20260424T004219Z
UID:10001381-1833908400-1833922800@thedistricton46.com
SUMMARY:Karaoke Nights - Throwbacks on 46
DESCRIPTION:
URL:https://thedistricton46.com/event/karaoke-nights-throwbacks-on-46-2/2028-02-11/
CATEGORIES:Throwbacks On 46
END:VEVENT
BEGIN:VEVENT
DTSTART;TZID=America/Chicago:20280216T190000
DTEND;TZID=America/Chicago:20280216T203000
DTSTAMP:20260424T194512
CREATED:20251208T173447Z
LAST-MODIFIED:20251208T173908Z
UID:10000518-1834340400-1834345800@thedistricton46.com
SUMMARY:Trivia Nights - Throwbacks on 46
DESCRIPTION:
URL:https://thedistricton46.com/event/trivia-nights-throwbacks-on-46/2028-02-16/
CATEGORIES:Throwbacks On 46
END:VEVENT
BEGIN:VEVENT
DTSTART;TZID=America/Chicago:20280217T190000
DTEND;TZID=America/Chicago:20280217T230000
DTSTAMP:20260424T194512
CREATED:20251208T173607Z
LAST-MODIFIED:20251208T173921Z
UID:10000779-1834426800-1834441200@thedistricton46.com
SUMMARY:Karaoke Nights - Throwbacks on 46
DESCRIPTION:
URL:https://thedistricton46.com/event/karaoke-nights-throwbacks-on-46/2028-02-17/
CATEGORIES:Throwbacks On 46
END:VEVENT
BEGIN:VEVENT
DTSTART;TZID=America/Chicago:20280218T190000
DTEND;TZID=America/Chicago:20280218T230000
DTSTAMP:20260424T194512
CREATED:20260424T004219Z
LAST-MODIFIED:20260424T004219Z
UID:10001382-1834513200-1834527600@thedistricton46.com
SUMMARY:Karaoke Nights - Throwbacks on 46
DESCRIPTION:
URL:https://thedistricton46.com/event/karaoke-nights-throwbacks-on-46-2/2028-02-18/
CATEGORIES:Throwbacks On 46
END:VEVENT
BEGIN:VEVENT
DTSTART;TZID=America/Chicago:20280223T190000
DTEND;TZID=America/Chicago:20280223T203000
DTSTAMP:20260424T194512
CREATED:20251208T173447Z
LAST-MODIFIED:20251208T173908Z
UID:10000519-1834945200-1834950600@thedistricton46.com
SUMMARY:Trivia Nights - Throwbacks on 46
DESCRIPTION:
URL:https://thedistricton46.com/event/trivia-nights-throwbacks-on-46/2028-02-23/
CATEGORIES:Throwbacks On 46
END:VEVENT
BEGIN:VEVENT
DTSTART;TZID=America/Chicago:20280224T190000
DTEND;TZID=America/Chicago:20280224T230000
DTSTAMP:20260424T194512
CREATED:20251208T173607Z
LAST-MODIFIED:20251208T173921Z
UID:10000780-1835031600-1835046000@thedistricton46.com
SUMMARY:Karaoke Nights - Throwbacks on 46
DESCRIPTION:
URL:https://thedistricton46.com/event/karaoke-nights-throwbacks-on-46/2028-02-24/
CATEGORIES:Throwbacks On 46
END:VEVENT
BEGIN:VEVENT
DTSTART;TZID=America/Chicago:20280225T190000
DTEND;TZID=America/Chicago:20280225T230000
DTSTAMP:20260424T194512
CREATED:20260424T004219Z
LAST-MODIFIED:20260424T004219Z
UID:10001383-1835118000-1835132400@thedistricton46.com
SUMMARY:Karaoke Nights - Throwbacks on 46
DESCRIPTION:
URL:https://thedistricton46.com/event/karaoke-nights-throwbacks-on-46-2/2028-02-25/
CATEGORIES:Throwbacks On 46
END:VEVENT
END:VCALENDAR