BEGIN:VCALENDAR
VERSION:2.0
PRODID:-//The District On 46 - ECPv6.15.20//NONSGML v1.0//EN
CALSCALE:GREGORIAN
METHOD:PUBLISH
X-ORIGINAL-URL:https://thedistricton46.com
X-WR-CALDESC:Events for The District On 46
REFRESH-INTERVAL;VALUE=DURATION:PT1H
X-Robots-Tag:noindex
X-PUBLISHED-TTL:PT1H
BEGIN:VTIMEZONE
TZID:America/Chicago
BEGIN:DAYLIGHT
TZOFFSETFROM:-0600
TZOFFSETTO:-0500
TZNAME:CDT
DTSTART:20280312T080000
END:DAYLIGHT
BEGIN:STANDARD
TZOFFSETFROM:-0500
TZOFFSETTO:-0600
TZNAME:CST
DTSTART:20281105T070000
END:STANDARD
BEGIN:DAYLIGHT
TZOFFSETFROM:-0600
TZOFFSETTO:-0500
TZNAME:CDT
DTSTART:20290311T080000
END:DAYLIGHT
BEGIN:STANDARD
TZOFFSETFROM:-0500
TZOFFSETTO:-0600
TZNAME:CST
DTSTART:20291104T070000
END:STANDARD
BEGIN:DAYLIGHT
TZOFFSETFROM:-0600
TZOFFSETTO:-0500
TZNAME:CDT
DTSTART:20300310T080000
END:DAYLIGHT
BEGIN:STANDARD
TZOFFSETFROM:-0500
TZOFFSETTO:-0600
TZNAME:CST
DTSTART:20301103T070000
END:STANDARD
END:VTIMEZONE
BEGIN:VEVENT
DTSTART;TZID=America/Chicago:20290404T190000
DTEND;TZID=America/Chicago:20290404T203000
DTSTAMP:20260425T182549
CREATED:20251208T173447Z
LAST-MODIFIED:20251208T173908Z
UID:10000577-1870023600-1870029000@thedistricton46.com
SUMMARY:Trivia Nights - Throwbacks on 46
DESCRIPTION:
URL:https://thedistricton46.com/event/trivia-nights-throwbacks-on-46/2029-04-04/
CATEGORIES:Throwbacks On 46
END:VEVENT
BEGIN:VEVENT
DTSTART;TZID=America/Chicago:20290405T190000
DTEND;TZID=America/Chicago:20290405T230000
DTSTAMP:20260425T182550
CREATED:20251208T173607Z
LAST-MODIFIED:20251208T173921Z
UID:10000838-1870110000-1870124400@thedistricton46.com
SUMMARY:Karaoke Nights - Throwbacks on 46
DESCRIPTION:
URL:https://thedistricton46.com/event/karaoke-nights-throwbacks-on-46/2029-04-05/
CATEGORIES:Throwbacks On 46
END:VEVENT
BEGIN:VEVENT
DTSTART;TZID=America/Chicago:20290406T190000
DTEND;TZID=America/Chicago:20290406T230000
DTSTAMP:20260425T182550
CREATED:20260424T004219Z
LAST-MODIFIED:20260424T004219Z
UID:10001441-1870196400-1870210800@thedistricton46.com
SUMMARY:Karaoke Nights - Throwbacks on 46
DESCRIPTION:
URL:https://thedistricton46.com/event/karaoke-nights-throwbacks-on-46-2/2029-04-06/
CATEGORIES:Throwbacks On 46
END:VEVENT
BEGIN:VEVENT
DTSTART;TZID=America/Chicago:20290411T190000
DTEND;TZID=America/Chicago:20290411T203000
DTSTAMP:20260425T182550
CREATED:20251208T173447Z
LAST-MODIFIED:20251208T173908Z
UID:10000578-1870628400-1870633800@thedistricton46.com
SUMMARY:Trivia Nights - Throwbacks on 46
DESCRIPTION:
URL:https://thedistricton46.com/event/trivia-nights-throwbacks-on-46/2029-04-11/
CATEGORIES:Throwbacks On 46
END:VEVENT
BEGIN:VEVENT
DTSTART;TZID=America/Chicago:20290412T190000
DTEND;TZID=America/Chicago:20290412T230000
DTSTAMP:20260425T182550
CREATED:20251208T173607Z
LAST-MODIFIED:20251208T173921Z
UID:10000839-1870714800-1870729200@thedistricton46.com
SUMMARY:Karaoke Nights - Throwbacks on 46
DESCRIPTION:
URL:https://thedistricton46.com/event/karaoke-nights-throwbacks-on-46/2029-04-12/
CATEGORIES:Throwbacks On 46
END:VEVENT
BEGIN:VEVENT
DTSTART;TZID=America/Chicago:20290413T190000
DTEND;TZID=America/Chicago:20290413T230000
DTSTAMP:20260425T182550
CREATED:20260424T004219Z
LAST-MODIFIED:20260424T004219Z
UID:10001442-1870801200-1870815600@thedistricton46.com
SUMMARY:Karaoke Nights - Throwbacks on 46
DESCRIPTION:
URL:https://thedistricton46.com/event/karaoke-nights-throwbacks-on-46-2/2029-04-13/
CATEGORIES:Throwbacks On 46
END:VEVENT
BEGIN:VEVENT
DTSTART;TZID=America/Chicago:20290418T190000
DTEND;TZID=America/Chicago:20290418T203000
DTSTAMP:20260425T182550
CREATED:20251208T173447Z
LAST-MODIFIED:20251208T173908Z
UID:10000579-1871233200-1871238600@thedistricton46.com
SUMMARY:Trivia Nights - Throwbacks on 46
DESCRIPTION:
URL:https://thedistricton46.com/event/trivia-nights-throwbacks-on-46/2029-04-18/
CATEGORIES:Throwbacks On 46
END:VEVENT
BEGIN:VEVENT
DTSTART;TZID=America/Chicago:20290419T190000
DTEND;TZID=America/Chicago:20290419T230000
DTSTAMP:20260425T182550
CREATED:20251208T173607Z
LAST-MODIFIED:20251208T173921Z
UID:10000840-1871319600-1871334000@thedistricton46.com
SUMMARY:Karaoke Nights - Throwbacks on 46
DESCRIPTION:
URL:https://thedistricton46.com/event/karaoke-nights-throwbacks-on-46/2029-04-19/
CATEGORIES:Throwbacks On 46
END:VEVENT
BEGIN:VEVENT
DTSTART;TZID=America/Chicago:20290420T190000
DTEND;TZID=America/Chicago:20290420T230000
DTSTAMP:20260425T182550
CREATED:20260424T004219Z
LAST-MODIFIED:20260424T004219Z
UID:10001443-1871406000-1871420400@thedistricton46.com
SUMMARY:Karaoke Nights - Throwbacks on 46
DESCRIPTION:
URL:https://thedistricton46.com/event/karaoke-nights-throwbacks-on-46-2/2029-04-20/
CATEGORIES:Throwbacks On 46
END:VEVENT
BEGIN:VEVENT
DTSTART;TZID=America/Chicago:20290425T190000
DTEND;TZID=America/Chicago:20290425T203000
DTSTAMP:20260425T182550
CREATED:20251208T173447Z
LAST-MODIFIED:20251208T173908Z
UID:10000580-1871838000-1871843400@thedistricton46.com
SUMMARY:Trivia Nights - Throwbacks on 46
DESCRIPTION:
URL:https://thedistricton46.com/event/trivia-nights-throwbacks-on-46/2029-04-25/
CATEGORIES:Throwbacks On 46
END:VEVENT
BEGIN:VEVENT
DTSTART;TZID=America/Chicago:20290426T190000
DTEND;TZID=America/Chicago:20290426T230000
DTSTAMP:20260425T182550
CREATED:20251208T173607Z
LAST-MODIFIED:20251208T173921Z
UID:10000841-1871924400-1871938800@thedistricton46.com
SUMMARY:Karaoke Nights - Throwbacks on 46
DESCRIPTION:
URL:https://thedistricton46.com/event/karaoke-nights-throwbacks-on-46/2029-04-26/
CATEGORIES:Throwbacks On 46
END:VEVENT
BEGIN:VEVENT
DTSTART;TZID=America/Chicago:20290427T190000
DTEND;TZID=America/Chicago:20290427T230000
DTSTAMP:20260425T182550
CREATED:20260424T004219Z
LAST-MODIFIED:20260424T004219Z
UID:10001444-1872010800-1872025200@thedistricton46.com
SUMMARY:Karaoke Nights - Throwbacks on 46
DESCRIPTION:
URL:https://thedistricton46.com/event/karaoke-nights-throwbacks-on-46-2/2029-04-27/
CATEGORIES:Throwbacks On 46
END:VEVENT
END:VCALENDAR